BEGIN:VCALENDAR
VERSION:2.0
PRODID:-//jEvents 2.0 for Joomla//EN
CALSCALE:GREGORIAN
METHOD:PUBLISH
BEGIN:VTIMEZONE
TZID:Europe/London
BEGIN:STANDARD
DTSTART:20241027T010000
RDATE:20250330T020000
TZOFFSETFROM:+0100
TZOFFSETTO:+0000
TZNAME:Europe/London GMT
END:STANDARD
BEGIN:STANDARD
DTSTART:20251026T010000
RDATE:20260329T020000
TZOFFSETFROM:+0100
TZOFFSETTO:+0000
TZNAME:Europe/London GMT
END:STANDARD
BEGIN:STANDARD
DTSTART:20261025T010000
RDATE:20270328T020000
TZOFFSETFROM:+0100
TZOFFSETTO:+0000
TZNAME:Europe/London GMT
END:STANDARD
BEGIN:STANDARD
DTSTART:20271031T010000
RDATE:20280326T020000
TZOFFSETFROM:+0100
TZOFFSETTO:+0000
TZNAME:Europe/London GMT
END:STANDARD
BEGIN:STANDARD
DTSTART:20281029T010000
RDATE:20290325T020000
TZOFFSETFROM:+0100
TZOFFSETTO:+0000
TZNAME:Europe/London GMT
END:STANDARD
BEGIN:STANDARD
DTSTART:20291028T010000
RDATE:20300331T020000
TZOFFSETFROM:+0100
TZOFFSETTO:+0000
TZNAME:Europe/London GMT
END:STANDARD
BEGIN:STANDARD
DTSTART:20301027T010000
RDATE:20310330T020000
TZOFFSETFROM:+0100
TZOFFSETTO:+0000
TZNAME:Europe/London GMT
END:STANDARD
BEGIN:DAYLIGHT
DTSTART:20240627T000000
RDATE:20241027T010000
TZOFFSETFROM:+0000
TZOFFSETTO:+0100
TZNAME:Europe/London BST
END:DAYLIGHT
BEGIN:DAYLIGHT
DTSTART:20250330T020000
RDATE:20251026T010000
TZOFFSETFROM:+0000
TZOFFSETTO:+0100
TZNAME:Europe/London BST
END:DAYLIGHT
BEGIN:DAYLIGHT
DTSTART:20260329T020000
RDATE:20261025T010000
TZOFFSETFROM:+0000
TZOFFSETTO:+0100
TZNAME:Europe/London BST
END:DAYLIGHT
BEGIN:DAYLIGHT
DTSTART:20270328T020000
RDATE:20271031T010000
TZOFFSETFROM:+0000
TZOFFSETTO:+0100
TZNAME:Europe/London BST
END:DAYLIGHT
BEGIN:DAYLIGHT
DTSTART:20280326T020000
RDATE:20281029T010000
TZOFFSETFROM:+0000
TZOFFSETTO:+0100
TZNAME:Europe/London BST
END:DAYLIGHT
BEGIN:DAYLIGHT
DTSTART:20290325T020000
RDATE:20291028T010000
TZOFFSETFROM:+0000
TZOFFSETTO:+0100
TZNAME:Europe/London BST
END:DAYLIGHT
BEGIN:DAYLIGHT
DTSTART:20300331T020000
RDATE:20301027T010000
TZOFFSETFROM:+0000
TZOFFSETTO:+0100
TZNAME:Europe/London BST
END:DAYLIGHT
END:VTIMEZONE
BEGIN:VEVENT
UID:e1e1feeda6321db2245a50797044611f
CATEGORIES:East
CREATED:20250401T120135
SUMMARY:Bexhill (Tower) & Crowhurst (Mini Ring)
LOCATION:Battle and Crowhurst (The Forewood Ring)
URL;VALUE=URI:https://www.scacr.org/news-events/calendar/1433/bexhill-tower-crowhurst-min
 i-ring?tmpl=component
DESCRIPTION:<p><strong>Saturday 28th June 2025.<br aria-hidden="true" />Walk and Ring. 
 Bexhill Church and Forewood Mini Ring.</strong></p><p>Open ringing at Bexhi
 ll (10 bells, 17cwt tenor) from 12:30. before walking/ driving/ train back 
 to Alan and&nbsp;Louise Pink's to ring on the Forewood mini ring (8 bells) 
 and have tea.</p><p>Names for tea to Louise Pink please by Wednesday 25th J
 une: <span id="cloakac3ad763e4bbf20f16a5f9397e7fa6e9">This email address is
  being protected from spambots. You need JavaScript enabled to view it.</sp
 an><script type='text/javascript'>
				document.getElementById('cloakac3ad7
 63e4bbf20f16a5f9397e7fa6e9').innerHTML = '';
				var prefix = '&#109;a' + '
 i&#108;' + '&#116;o';
				var path = 'hr' + 'ef' + '=';
				var addyac3ad76
 3e4bbf20f16a5f9397e7fa6e9 = 'l&#111;&#117;&#105;s&#101;.p&#105;nk' + '&#64;
 ';
				addyac3ad763e4bbf20f16a5f9397e7fa6e9 = addyac3ad763e4bbf20f16a5f9397
 e7fa6e9 + 'm&#97;c' + '&#46;' + 'c&#111;m';
				var addy_textac3ad763e4bbf2
 0f16a5f9397e7fa6e9 = 'l&#111;&#117;&#105;s&#101;.p&#105;nk' + '&#64;' + 'm&
 #97;c' + '&#46;' + 'c&#111;m';document.getElementById('cloakac3ad763e4bbf20
 f16a5f9397e7fa6e9').innerHTML += '<a ' + path + '\'' + prefix + ':' + addya
 c3ad763e4bbf20f16a5f9397e7fa6e9 + '\'>'+addy_textac3ad763e4bbf20f16a5f9397e
 7fa6e9+'<\/a>';
		</script></p><p>The initial plan (TBC - update 25/5 but c
 heck nearer the time) is:</p><ul><li><strong>12:30 - Bexhill Church Open Ri
 nging (ending approx 13:15) - confirmed</strong></li><li><em>13:30 - Walk (
 led by Alan Pink), drive or train to Crowhurst&nbsp;<em>(trains at xx:26 fr
 om Bexhill to St Leonards Warrior Square and then xx:53 to Crowhurst) </em>
 </em></li><li><strong>15:00 - Ringing at Forewood Mini Ring &amp; Tea</stro
 ng></li><li><em>Return to Bexhill by train (xx:17 from Crowhurst, change at
  Warrior Square for xx:59) for those who came up on foot from Bexhill&nbsp;
 <em>(or walk again if you are that keen!) </em></em></li></ul><p><strong>Pa
 rking in Crowhurst</strong></p><p>The best place to park is at the top of S
 tation Road (sat nav TN33 9DB).&nbsp; There is a charge for using the stati
 on car park, so it is best to park on the road to the station, taking in to
  consideration the local residents driveway access.&nbsp; &nbsp;</p><p><str
 ong>Directions to Mini Ring (Southrise)</strong></p><p>When&nbsp;parked wal
 k to the station, cross the railway line by the footbridge, and follow the 
 narrow&nbsp;path for a couple of minutes until reaching the main road. Then
  turn left and walk down the&nbsp;hill; Southrise is a couple of houses dow
 n on the right. Walk up the straight drive to the&nbsp;bells.</p><p>Anyone 
 intending to ring at Bexhill and&nbsp;walk back you can park your car at Cr
 owhurst, then catch the train to Bexhill - the church is a short walk from&
 nbsp;Bexhill station.&nbsp;<br aria-hidden="true" /></p><p>Anyone with mobi
 lity problems will of course the welcome to park at the mini ring.&nbsp; Ad
 dress is: Southrise,&nbsp;Forewood Lane,&nbsp;Crowhurst,&nbsp;TN33 9AB.</p>
  <a href="https://www.scacr.org/news-events/calendar/1433/bexhill-tower-cro
 whurst-mini-ring?tmpl=component">This event was imported from: https://www.
 scacr.org/news-events/calendar/1433/bexhill-tower-crowhurst-mini-ring?tmpl=
 component</a>CONTACT:This email address is being protected from spambots. You need JavaScript enabled to view it.
				document.getElementById('cloak9d9661bc2610bcfbe9c586ebbf4f8d23').innerHTML = '';
				var prefix = '&#109;a' + 'i&#108;' + '&#116;o';
				var path = 'hr' + 'ef' + '=';
				var addy9d9661bc2610bcfbe9c586ebbf4f8d23 = 's&#101;c-&#101;&#97;st' + '&#64;';
				addy9d9661bc2610bcfbe9c586ebbf4f8d23 = addy9d9661bc2610bcfbe9c586ebbf4f8d23 + 'sc&#97;cr' + '&#46;' + '&#111;rg';
				var addy_text9d9661bc2610bcfbe9c586ebbf4f8d23 = 's&#101;c-&#101;&#97;st' + '&#64;' + 'sc&#97;cr' + '&#46;' + '&#111;rg';document.getElementById('cloak9d9661bc2610bcfbe9c586ebbf4f8d23').innerHTML += '<a ' + path + '\'' + prefix + ':' + addy9d9661bc2610bcfbe9c586ebbf4f8d23 + '\'>'+addy_text9d9661bc2610bcfbe9c586ebbf4f8d23+'';
		
DTSTAMP:20260421T004055
DTSTART;TZID=Europe/London;VALUE=DATE:20250628
DTEND;TZID=Europe/London;VALUE=DATE:20250629
SEQUENCE:0
TRANSP:OPAQUE
END:VEVENT
END:VCALENDAR