BEGIN:VCALENDAR
VERSION:2.0
PRODID:-//jEvents 2.0 for Joomla//EN
CALSCALE:GREGORIAN
METHOD:PUBLISH
BEGIN:VTIMEZONE
TZID:Europe/London
BEGIN:STANDARD
DTSTART:20241027T010000
RDATE:20250330T020000
TZOFFSETFROM:+0100
TZOFFSETTO:+0000
TZNAME:Europe/London GMT
END:STANDARD
BEGIN:STANDARD
DTSTART:20251026T010000
RDATE:20260329T020000
TZOFFSETFROM:+0100
TZOFFSETTO:+0000
TZNAME:Europe/London GMT
END:STANDARD
BEGIN:STANDARD
DTSTART:20261025T010000
RDATE:20270328T020000
TZOFFSETFROM:+0100
TZOFFSETTO:+0000
TZNAME:Europe/London GMT
END:STANDARD
BEGIN:STANDARD
DTSTART:20271031T010000
RDATE:20280326T020000
TZOFFSETFROM:+0100
TZOFFSETTO:+0000
TZNAME:Europe/London GMT
END:STANDARD
BEGIN:STANDARD
DTSTART:20281029T010000
RDATE:20290325T020000
TZOFFSETFROM:+0100
TZOFFSETTO:+0000
TZNAME:Europe/London GMT
END:STANDARD
BEGIN:STANDARD
DTSTART:20291028T010000
RDATE:20300331T020000
TZOFFSETFROM:+0100
TZOFFSETTO:+0000
TZNAME:Europe/London GMT
END:STANDARD
BEGIN:STANDARD
DTSTART:20301027T010000
RDATE:20310330T020000
TZOFFSETFROM:+0100
TZOFFSETTO:+0000
TZNAME:Europe/London GMT
END:STANDARD
BEGIN:DAYLIGHT
DTSTART:20240515T193000
RDATE:20241027T010000
TZOFFSETFROM:+0000
TZOFFSETTO:+0100
TZNAME:Europe/London BST
END:DAYLIGHT
BEGIN:DAYLIGHT
DTSTART:20250330T020000
RDATE:20251026T010000
TZOFFSETFROM:+0000
TZOFFSETTO:+0100
TZNAME:Europe/London BST
END:DAYLIGHT
BEGIN:DAYLIGHT
DTSTART:20260329T020000
RDATE:20261025T010000
TZOFFSETFROM:+0000
TZOFFSETTO:+0100
TZNAME:Europe/London BST
END:DAYLIGHT
BEGIN:DAYLIGHT
DTSTART:20270328T020000
RDATE:20271031T010000
TZOFFSETFROM:+0000
TZOFFSETTO:+0100
TZNAME:Europe/London BST
END:DAYLIGHT
BEGIN:DAYLIGHT
DTSTART:20280326T020000
RDATE:20281029T010000
TZOFFSETFROM:+0000
TZOFFSETTO:+0100
TZNAME:Europe/London BST
END:DAYLIGHT
BEGIN:DAYLIGHT
DTSTART:20290325T020000
RDATE:20291028T010000
TZOFFSETFROM:+0000
TZOFFSETTO:+0100
TZNAME:Europe/London BST
END:DAYLIGHT
BEGIN:DAYLIGHT
DTSTART:20300331T020000
RDATE:20301027T010000
TZOFFSETFROM:+0000
TZOFFSETTO:+0100
TZNAME:Europe/London BST
END:DAYLIGHT
END:VTIMEZONE
BEGIN:VEVENT
UID:0235ba3b2a3a23bb0388b19fc3ab866a
CATEGORIES:Joint Event
CREATED:20250327T183149
SUMMARY:Joint Eastern and Southern Surprise Major Practice
LOCATION:Hailsham
URL;VALUE=URI:https://www.scacr.org/news-events/calendar/1430/joint-eastern-and-southern-
 surprise-major-practice?tmpl=component
DESCRIPTION:There will be a Joint Eastern and Southern District Surprise Major at Halis
 ham Friday 16th May at 19:30\nIt is hoped the session will be of benefit fo
 r those taking steps in learning and ringing surprise major. Emphasis is li
 kely to be on Cambridge and Yorkshire but if there is demand the repertoire
  could include anything from the standard eight and core seven (Cambridge, 
 Yorkshire, Superlative, London, Bristol, Lessness and Cornwall).\nHailsham 
 is an easy to ring set of eight bells in the town centre.  Parking is avail
 able in the car park just behind the tower, next to Waitrose and the entran
 ce is via the north side of the church (left side if facing the tower, foll
 ow the path).  \nPlease contact Steve Pilfold (This email address is being 
 protected from spambots. You need JavaScript enabled to view it.
				docume
 nt.getElementById('cloak830cd84ce58d180159197907a9682b9d').innerHTML = '';

 				var prefix = '&#109;a' + 'i&#108;' + '&#116;o';
				var path = 'hr' + '
 ef' + '=';
				var addy830cd84ce58d180159197907a9682b9d = 'mch&#111;ll&#97;
 nds2' + '&#64;';
				addy830cd84ce58d180159197907a9682b9d = addy830cd84ce58
 d180159197907a9682b9d + 'bt&#105;nt&#101;rn&#101;t' + '&#46;' + 'c&#111;m';
 
				var addy_text830cd84ce58d180159197907a9682b9d = 's&#101;c-&#101;&#97;s
 t' + '&#64;' + 'sc&#97;cr' + '&#46;' + '&#111;rg';document.getElementById('
 cloak830cd84ce58d180159197907a9682b9d').innerHTML += '<a ' + path + '\'' + 
 prefix + ':' + addy830cd84ce58d180159197907a9682b9d + '\'>'+addy_text830cd8
 4ce58d180159197907a9682b9d+'';
		) Eastern District Secretary or Debbie Eva
 ns (This email address is being protected from spambots. You need JavaScrip
 t enabled to view it.
				document.getElementById('cloakfb09536626a2cb17c7b
 1d5283c76bad0').innerHTML = '';
				var prefix = '&#109;a' + 'i&#108;' + '&
 #116;o';
				var path = 'hr' + 'ef' + '=';
				var addyfb09536626a2cb17c7b1
 d5283c76bad0 = 's&#101;c-s&#111;&#117;th' + '&#64;';
				addyfb09536626a2cb
 17c7b1d5283c76bad0 = addyfb09536626a2cb17c7b1d5283c76bad0 + 'sc&#97;cr' + '
 &#46;' + '&#111;rg';
				var addy_textfb09536626a2cb17c7b1d5283c76bad0 = 's
 &#101;c-s&#111;&#117;th' + '&#64;' + 'sc&#97;cr' + '&#46;' + '&#111;rg';doc
 ument.getElementById('cloakfb09536626a2cb17c7b1d5283c76bad0').innerHTML += 
 '<a ' + path + '\'' + prefix + ':' + addyfb09536626a2cb17c7b1d5283c76bad0 +
  '\'>'+addy_textfb09536626a2cb17c7b1d5283c76bad0+'';
		) Southern District 
 Secretary, if you wish to attend.\n This event was imported from: https://w
 ww.scacr.org/news-events/calendar/1430/joint-eastern-and-southern-surprise-
 major-practice?tmpl=component (https://www.scacr.org/news-events/calendar/1
 430/joint-eastern-and-southern-surprise-major-practice?tmpl=component)
X-ALT-DESC;FMTTYPE=text/html:<p><strong>There will be a Joint Eastern and Southern District Surprise Maj
 or at Halisham Friday 16th May at 19:30</strong></p><p>It is hoped the sess
 ion will be of benefit for those taking steps in learning and ringing surpr
 ise major. Emphasis is likely to be on Cambridge and Yorkshire but if there
  is demand the repertoire could include anything from the standard eight an
 d core seven (Cambridge, Yorkshire, Superlative, London, Bristol, Lessness 
 and Cornwall).</p><p>Hailsham is an easy to ring set of eight bells in the 
 town centre.&nbsp; Parking is available in the car park just behind the tow
 er, next to Waitrose and the entrance is via the north side of the church (
 left side if facing the tower, follow the path).&nbsp;&nbsp;</p><p>Please c
 ontact Steve Pilfold (<span id="cloak830cd84ce58d180159197907a9682b9d">This
  email address is being protected from spambots. You need JavaScript enable
 d to view it.</span><script type='text/javascript'>
				document.getElement
 ById('cloak830cd84ce58d180159197907a9682b9d').innerHTML = '';
				var prefi
 x = '&#109;a' + 'i&#108;' + '&#116;o';
				var path = 'hr' + 'ef' + '=';
		
 		var addy830cd84ce58d180159197907a9682b9d = 'mch&#111;ll&#97;nds2' + '&#64
 ;';
				addy830cd84ce58d180159197907a9682b9d = addy830cd84ce58d180159197907
 a9682b9d + 'bt&#105;nt&#101;rn&#101;t' + '&#46;' + 'c&#111;m';
				var addy
 _text830cd84ce58d180159197907a9682b9d = 's&#101;c-&#101;&#97;st' + '&#64;' 
 + 'sc&#97;cr' + '&#46;' + '&#111;rg';document.getElementById('cloak830cd84c
 e58d180159197907a9682b9d').innerHTML += '<a ' + path + '\'' + prefix + ':' 
 + addy830cd84ce58d180159197907a9682b9d + '\'>'+addy_text830cd84ce58d1801591
 97907a9682b9d+'<\/a>';
		</script>) Eastern District Secretary or Debbie Ev
 ans (<span id="cloakfb09536626a2cb17c7b1d5283c76bad0">This email address is
  being protected from spambots. You need JavaScript enabled to view it.</sp
 an><script type='text/javascript'>
				document.getElementById('cloakfb0953
 6626a2cb17c7b1d5283c76bad0').innerHTML = '';
				var prefix = '&#109;a' + '
 i&#108;' + '&#116;o';
				var path = 'hr' + 'ef' + '=';
				var addyfb09536
 626a2cb17c7b1d5283c76bad0 = 's&#101;c-s&#111;&#117;th' + '&#64;';
				addyf
 b09536626a2cb17c7b1d5283c76bad0 = addyfb09536626a2cb17c7b1d5283c76bad0 + 's
 c&#97;cr' + '&#46;' + '&#111;rg';
				var addy_textfb09536626a2cb17c7b1d528
 3c76bad0 = 's&#101;c-s&#111;&#117;th' + '&#64;' + 'sc&#97;cr' + '&#46;' + '
 &#111;rg';document.getElementById('cloakfb09536626a2cb17c7b1d5283c76bad0').
 innerHTML += '<a ' + path + '\'' + prefix + ':' + addyfb09536626a2cb17c7b1d
 5283c76bad0 + '\'>'+addy_textfb09536626a2cb17c7b1d5283c76bad0+'<\/a>';
		</
 script>) Southern District Secretary, if you wish to attend.</p> <a href="h
 ttps://www.scacr.org/news-events/calendar/1430/joint-eastern-and-southern-s
 urprise-major-practice?tmpl=component">This event was imported from: https:
 //www.scacr.org/news-events/calendar/1430/joint-eastern-and-southern-surpri
 se-major-practice?tmpl=component</a>CONTACT:This email address is being protected from spambots. You need JavaScript enabled to view it.
				document.getElementById('cloak8cfdda10ec8b3b4a45233d6c45316449').innerHTML = '';
				var prefix = '&#109;a' + 'i&#108;' + '&#116;o';
				var path = 'hr' + 'ef' + '=';
				var addy8cfdda10ec8b3b4a45233d6c45316449 = 's&#101;c-&#101;&#97;st' + '&#64;';
				addy8cfdda10ec8b3b4a45233d6c45316449 = addy8cfdda10ec8b3b4a45233d6c45316449 + 'sc&#97;cr' + '&#46;' + '&#111;rg';
				var addy_text8cfdda10ec8b3b4a45233d6c45316449 = 's&#101;c-&#101;&#97;st' + '&#64;' + 'sc&#97;cr' + '&#46;' + '&#111;rg';document.getElementById('cloak8cfdda10ec8b3b4a45233d6c45316449').innerHTML += '<a ' + path + '\'' + prefix + ':' + addy8cfdda10ec8b3b4a45233d6c45316449 + '\'>'+addy_text8cfdda10ec8b3b4a45233d6c45316449+'';
		
DTSTAMP:20260421T140957
DTSTART;TZID=Europe/London:20250516T193000
DTEND;TZID=Europe/London:20250516T210000
SEQUENCE:0
TRANSP:OPAQUE
END:VEVENT
END:VCALENDAR