BEGIN:VCALENDAR
VERSION:2.0
PRODID:-//jEvents 2.0 for Joomla//EN
CALSCALE:GREGORIAN
METHOD:PUBLISH
BEGIN:VTIMEZONE
TZID:Europe/London
BEGIN:STANDARD
DTSTART:20241027T010000
RDATE:20250330T020000
TZOFFSETFROM:+0100
TZOFFSETTO:+0000
TZNAME:Europe/London GMT
END:STANDARD
BEGIN:STANDARD
DTSTART:20251026T010000
RDATE:20260329T020000
TZOFFSETFROM:+0100
TZOFFSETTO:+0000
TZNAME:Europe/London GMT
END:STANDARD
BEGIN:STANDARD
DTSTART:20261025T010000
RDATE:20270328T020000
TZOFFSETFROM:+0100
TZOFFSETTO:+0000
TZNAME:Europe/London GMT
END:STANDARD
BEGIN:STANDARD
DTSTART:20271031T010000
RDATE:20280326T020000
TZOFFSETFROM:+0100
TZOFFSETTO:+0000
TZNAME:Europe/London GMT
END:STANDARD
BEGIN:STANDARD
DTSTART:20281029T010000
RDATE:20290325T020000
TZOFFSETFROM:+0100
TZOFFSETTO:+0000
TZNAME:Europe/London GMT
END:STANDARD
BEGIN:STANDARD
DTSTART:20291028T010000
RDATE:20300331T020000
TZOFFSETFROM:+0100
TZOFFSETTO:+0000
TZNAME:Europe/London GMT
END:STANDARD
BEGIN:STANDARD
DTSTART:20301027T010000
RDATE:20310330T020000
TZOFFSETFROM:+0100
TZOFFSETTO:+0000
TZNAME:Europe/London GMT
END:STANDARD
BEGIN:DAYLIGHT
DTSTART:20240514T000000
RDATE:20241027T010000
TZOFFSETFROM:+0000
TZOFFSETTO:+0100
TZNAME:Europe/London BST
END:DAYLIGHT
BEGIN:DAYLIGHT
DTSTART:20250330T020000
RDATE:20251026T010000
TZOFFSETFROM:+0000
TZOFFSETTO:+0100
TZNAME:Europe/London BST
END:DAYLIGHT
BEGIN:DAYLIGHT
DTSTART:20260329T020000
RDATE:20261025T010000
TZOFFSETFROM:+0000
TZOFFSETTO:+0100
TZNAME:Europe/London BST
END:DAYLIGHT
BEGIN:DAYLIGHT
DTSTART:20270328T020000
RDATE:20271031T010000
TZOFFSETFROM:+0000
TZOFFSETTO:+0100
TZNAME:Europe/London BST
END:DAYLIGHT
BEGIN:DAYLIGHT
DTSTART:20280326T020000
RDATE:20281029T010000
TZOFFSETFROM:+0000
TZOFFSETTO:+0100
TZNAME:Europe/London BST
END:DAYLIGHT
BEGIN:DAYLIGHT
DTSTART:20290325T020000
RDATE:20291028T010000
TZOFFSETFROM:+0000
TZOFFSETTO:+0100
TZNAME:Europe/London BST
END:DAYLIGHT
BEGIN:DAYLIGHT
DTSTART:20300331T020000
RDATE:20301027T010000
TZOFFSETFROM:+0000
TZOFFSETTO:+0100
TZNAME:Europe/London BST
END:DAYLIGHT
END:VTIMEZONE
BEGIN:VEVENT
UID:a3df5dace1e428c45e6b898d16eee864
CATEGORIES:Association Event
CREATED:20250315T202202
SUMMARY:Codgers
LOCATION:Maresfield &amp; Buxted
URL;VALUE=URI:https://www.scacr.org/news-events/calendar/1427/codgers?tmpl=component
DESCRIPTION:<p>"Itinerary:</p><p>10.30 Maresfield (8) - ringing until 12:00</p><p>12:00
  to 14:00 Lunch &amp; travel. Selected pub is The Pig &amp; Butcher, Five A
 sh Down, nr Uckfield, TN22 3AN.</p><p>14:00 Buxted (8)&nbsp; - ringing unti
 l 15:30</p><p>You are asked to confirm if you are attending. The pub only r
 equires advance notice of lunch selections if there are more than 15 of us,
  so at this stage please just let me know if you intend to eat at the pub.<
 /p><p>What we ring will depend on who is coming.<br />Please email to let u
 s know if you are coming. The email address is:&nbsp;&nbsp;<span id="cloak2
 c1787bf87cefd4a5239c447bed9fcf1"><a href="mailto:codgers@scacr.org"></a><sp
 an id="cloakf899191dcfbbe1e82e95b6035979190b">This email address is being p
 rotected from spambots. You need JavaScript enabled to view it.</span><scri
 pt type='text/javascript'>
				document.getElementById('cloakf899191dcfbbe1
 e82e95b6035979190b').innerHTML = '';
				var prefix = '&#109;a' + 'i&#108;'
  + '&#116;o';
				var path = 'hr' + 'ef' + '=';
				var addyf899191dcfbbe1e
 82e95b6035979190b = 'c&#111;dg&#101;rs' + '&#64;';
				addyf899191dcfbbe1e8
 2e95b6035979190b = addyf899191dcfbbe1e82e95b6035979190b + 'sc&#97;cr' + '&#
 46;' + '&#111;rg';
				var addy_textf899191dcfbbe1e82e95b6035979190b = 'c&#
 111;dg&#101;rs' + '&#64;' + 'sc&#97;cr' + '&#46;' + '&#111;rg';document.get
 ElementById('cloakf899191dcfbbe1e82e95b6035979190b').innerHTML += '<a ' + p
 ath + '\'' + prefix + ':' + addyf899191dcfbbe1e82e95b6035979190b + '\'>'+ad
 dy_textf899191dcfbbe1e82e95b6035979190b+'<\/a>';
		</script></span></p><p>W
 e will need to cap numbers attending at 25 maximum."</p> <a href="https://w
 ww.scacr.org/news-events/calendar/1427/codgers?tmpl=component">This event w
 as imported from: https://www.scacr.org/news-events/calendar/1427/codgers?t
 mpl=component</a>CONTACT:This email address is being protected from spambots. You need JavaScript enabled to view it.
				document.getElementById('cloak03bb5681505bfcf4b784d67ac0874899').innerHTML = '';
				var prefix = '&#109;a' + 'i&#108;' + '&#116;o';
				var path = 'hr' + 'ef' + '=';
				var addy03bb5681505bfcf4b784d67ac0874899 = 'c&#111;dg&#101;rs' + '&#64;';
				addy03bb5681505bfcf4b784d67ac0874899 = addy03bb5681505bfcf4b784d67ac0874899 + 'sc&#97;cr' + '&#46;' + '&#111;rg';
				var addy_text03bb5681505bfcf4b784d67ac0874899 = 'c&#111;dg&#101;rs' + '&#64;' + 'sc&#97;cr' + '&#46;' + '&#111;rg';document.getElementById('cloak03bb5681505bfcf4b784d67ac0874899').innerHTML += '<a ' + path + '\'' + prefix + ':' + addy03bb5681505bfcf4b784d67ac0874899 + '\'>'+addy_text03bb5681505bfcf4b784d67ac0874899+'';
		
DTSTAMP:20260424T051716
DTSTART;TZID=Europe/London;VALUE=DATE:20250515
DTEND;TZID=Europe/London;VALUE=DATE:20250516
SEQUENCE:0
TRANSP:OPAQUE
END:VEVENT
END:VCALENDAR