BEGIN:VCALENDAR
VERSION:2.0
PRODID:-//jEvents 2.0 for Joomla//EN
CALSCALE:GREGORIAN
METHOD:PUBLISH
BEGIN:VTIMEZONE
TZID:Europe/London
BEGIN:STANDARD
DTSTART:20240309T193000
RDATE:20240331T020000
TZOFFSETFROM:+0100
TZOFFSETTO:+0000
TZNAME:Europe/London GMT
END:STANDARD
BEGIN:STANDARD
DTSTART:20241027T010000
RDATE:20250330T020000
TZOFFSETFROM:+0100
TZOFFSETTO:+0000
TZNAME:Europe/London GMT
END:STANDARD
BEGIN:STANDARD
DTSTART:20251026T010000
RDATE:20260329T020000
TZOFFSETFROM:+0100
TZOFFSETTO:+0000
TZNAME:Europe/London GMT
END:STANDARD
BEGIN:STANDARD
DTSTART:20261025T010000
RDATE:20270328T020000
TZOFFSETFROM:+0100
TZOFFSETTO:+0000
TZNAME:Europe/London GMT
END:STANDARD
BEGIN:STANDARD
DTSTART:20271031T010000
RDATE:20280326T020000
TZOFFSETFROM:+0100
TZOFFSETTO:+0000
TZNAME:Europe/London GMT
END:STANDARD
BEGIN:STANDARD
DTSTART:20281029T010000
RDATE:20290325T020000
TZOFFSETFROM:+0100
TZOFFSETTO:+0000
TZNAME:Europe/London GMT
END:STANDARD
BEGIN:STANDARD
DTSTART:20291028T010000
RDATE:20300331T020000
TZOFFSETFROM:+0100
TZOFFSETTO:+0000
TZNAME:Europe/London GMT
END:STANDARD
BEGIN:STANDARD
DTSTART:20301027T010000
RDATE:20310330T020000
TZOFFSETFROM:+0100
TZOFFSETTO:+0000
TZNAME:Europe/London GMT
END:STANDARD
BEGIN:DAYLIGHT
DTSTART:20240331T020000
RDATE:20241027T010000
TZOFFSETFROM:+0000
TZOFFSETTO:+0100
TZNAME:Europe/London BST
END:DAYLIGHT
BEGIN:DAYLIGHT
DTSTART:20250330T020000
RDATE:20251026T010000
TZOFFSETFROM:+0000
TZOFFSETTO:+0100
TZNAME:Europe/London BST
END:DAYLIGHT
BEGIN:DAYLIGHT
DTSTART:20260329T020000
RDATE:20261025T010000
TZOFFSETFROM:+0000
TZOFFSETTO:+0100
TZNAME:Europe/London BST
END:DAYLIGHT
BEGIN:DAYLIGHT
DTSTART:20270328T020000
RDATE:20271031T010000
TZOFFSETFROM:+0000
TZOFFSETTO:+0100
TZNAME:Europe/London BST
END:DAYLIGHT
BEGIN:DAYLIGHT
DTSTART:20280326T020000
RDATE:20281029T010000
TZOFFSETFROM:+0000
TZOFFSETTO:+0100
TZNAME:Europe/London BST
END:DAYLIGHT
BEGIN:DAYLIGHT
DTSTART:20290325T020000
RDATE:20291028T010000
TZOFFSETFROM:+0000
TZOFFSETTO:+0100
TZNAME:Europe/London BST
END:DAYLIGHT
BEGIN:DAYLIGHT
DTSTART:20300331T020000
RDATE:20301027T010000
TZOFFSETFROM:+0000
TZOFFSETTO:+0100
TZNAME:Europe/London BST
END:DAYLIGHT
END:VTIMEZONE
BEGIN:VEVENT
UID:84e8bf52dd42ccdab15e99934db17978
CATEGORIES:North
CREATED:20250308T123745
SUMMARY:Northern Surprise Major Practice
LOCATION:Balcombe
URL;VALUE=URI:https://www.scacr.org/news-events/calendar/1424/northern-surprise-major-pra
 ctice?tmpl=component
DESCRIPTION:I can confirm this practice is going ahead (as at Sunday, 9th March). Repet
 oire will be tailored to attendees.\nMethod of the moment: Jovium surprise 
 major (https://rsw.me.uk/blueline/methods/view/Jovium_Surprise_Major (https
 ://rsw.me.uk/blueline/methods/view/Jovium_Surprise_Major))\nThe main focus 
 of these practices remains the Core 7 methods either individually or splice
 d depending on attendance.\nFor those ringers with a wider repetoire, I wou
 ld like to ensure Belfast and Glasgow are more regularly incorporated so pl
 ease do refresh these if you need to ahead of the practice. For those new t
 o Belfast, there will be an opportunity to ring three leads subject to atte
 ndance if you want to give it a shot (this can be rung so that many bells r
 epeat the same lead three times).\nSimon Linford's great book on the Core 7
  and beyond is found here https://www.ringingworld.co.uk/purchase/shop/the-
 core-seven-and-beyond.html (https://www.ringingworld.co.uk/purchase/shop/th
 e-core-seven-and-beyond.html)\nThe idea is to try and improve the success r
 ate and striking accuracy in the Core 7 methods and it would be very much a
 ppreciated if where possible attendees do a little extra homework in advanc
 e, to help ensure we peform our best on the night. There will also be an en
 hanced effort to ensure more optimal band placement. Stedman triples will a
 lso be rung when appropriate.\nPlease get in touch (This email address is b
 eing protected from spambots. You need JavaScript enabled to view it.
				d
 ocument.getElementById('cloakad095772e96975e26ee5f0a254c2924a').innerHTML =
  '';
				var prefix = '&#109;a' + 'i&#108;' + '&#116;o';
				var path = 'hr
 ' + 'ef' + '=';
				var addyad095772e96975e26ee5f0a254c2924a = 'n&#101;ssr&
 #105;ng&#105;ng' + '&#64;';
				addyad095772e96975e26ee5f0a254c2924a = addy
 ad095772e96975e26ee5f0a254c2924a + '&#105;cl&#111;&#117;d' + '&#46;' + 'c&#
 111;m';
				var addy_textad095772e96975e26ee5f0a254c2924a = 'n&#101;ssr&#10
 5;ng&#105;ng' + '&#64;' + '&#105;cl&#111;&#117;d' + '&#46;' + 'c&#111;m';do
 cument.getElementById('cloakad095772e96975e26ee5f0a254c2924a').innerHTML +=
  '<a ' + path + '\'' + prefix + ':' + addyad095772e96975e26ee5f0a254c2924a 
 + '\'>'+addy_textad095772e96975e26ee5f0a254c2924a+'';
		) if there is anyth
 ing in particular you would like to ring.\nI appreciate there are a lot of 
 methods mentioned here and the intention is not to overwhelm I promise! If 
 you are taking your first steps into ringing surprise major, you are most w
 elcome, just let me know what you are working on (Cornwall, go on, you know
  you want to!).\nThere won't be an opportunity to ring everything at each p
 ractice and I will respond to emails in advance or requests on the night.\n
 Ringers from other divisions are welcome to attend although ideally please 
 email in advance. This event was imported from: https://www.scacr.org/news-
 events/calendar/1424/northern-surprise-major-practice?tmpl=component (https
 ://www.scacr.org/news-events/calendar/1424/northern-surprise-major-practice
 ?tmpl=component)
X-ALT-DESC;FMTTYPE=text/html:<p><span style="text-decoration: underline;"><strong>I can confirm this pra
 ctice is going ahead (as at Sunday, 9th March). Repetoire will be tailored 
 to attendees.</strong></span></p><p style="color: #000000;">Method of the m
 oment: Jovium surprise major (<a href="https://rsw.me.uk/blueline/methods/v
 iew/Jovium_Surprise_Major">https://rsw.me.uk/blueline/methods/view/Jovium_S
 urprise_Major</a>)</p><p>The main focus of these practices remains the Core
  7 methods either individually or spliced depending on attendance.</p><p>Fo
 r those ringers with a wider repetoire, I would like to ensure Belfast and 
 Glasgow are more regularly incorporated so please do refresh these if you n
 eed to ahead of the practice. For those new to Belfast, there will be an op
 portunity to ring three leads subject to attendance if you want to give it 
 a shot (this can be rung so that many bells repeat the same lead three time
 s).</p><p>Simon Linford's great book on the Core 7 and beyond is found here
 &nbsp;<a href="https://www.ringingworld.co.uk/purchase/shop/the-core-seven-
 and-beyond.html">https://www.ringingworld.co.uk/purchase/shop/the-core-seve
 n-and-beyond.html</a></p><p>The idea is to try and improve the success rate
  and striking accuracy in the Core 7 methods and it would be very much appr
 eciated if where possible attendees do a little extra homework in advance, 
 to help ensure we peform our best on the night. There will also be an enhan
 ced effort to ensure more optimal band placement. Stedman triples will also
  be rung when appropriate.</p><p>Please get in touch (<span id="cloakad0957
 72e96975e26ee5f0a254c2924a">This email address is being protected from spam
 bots. You need JavaScript enabled to view it.</span><script type='text/java
 script'>
				document.getElementById('cloakad095772e96975e26ee5f0a254c2924a
 ').innerHTML = '';
				var prefix = '&#109;a' + 'i&#108;' + '&#116;o';
				
 var path = 'hr' + 'ef' + '=';
				var addyad095772e96975e26ee5f0a254c2924a 
 = 'n&#101;ssr&#105;ng&#105;ng' + '&#64;';
				addyad095772e96975e26ee5f0a25
 4c2924a = addyad095772e96975e26ee5f0a254c2924a + '&#105;cl&#111;&#117;d' + 
 '&#46;' + 'c&#111;m';
				var addy_textad095772e96975e26ee5f0a254c2924a = '
 n&#101;ssr&#105;ng&#105;ng' + '&#64;' + '&#105;cl&#111;&#117;d' + '&#46;' +
  'c&#111;m';document.getElementById('cloakad095772e96975e26ee5f0a254c2924a'
 ).innerHTML += '<a ' + path + '\'' + prefix + ':' + addyad095772e96975e26ee
 5f0a254c2924a + '\'>'+addy_textad095772e96975e26ee5f0a254c2924a+'<\/a>';
		
 </script>) if there is anything in particular you would like to ring.</p><p
 >I appreciate there are a lot of methods mentioned here and the intention i
 s not to overwhelm I promise! If you are taking your first steps into ringi
 ng surprise major, you are most welcome, just let me know what you are work
 ing on (Cornwall, go on, you know you want to!).</p><p>There won't be an op
 portunity to ring everything at each practice and I will respond to emails 
 in advance or requests on the night.</p><div><div><div class="apple-rich-li
 nk" role="link" data-url="https://www.ringingworld.co.uk/purchase/shop/the-
 core-seven-and-beyond.html">Ringers from other divisions are welcome to att
 end although ideally please email in advance.</div></div></div> <a href="ht
 tps://www.scacr.org/news-events/calendar/1424/northern-surprise-major-pract
 ice?tmpl=component">This event was imported from: https://www.scacr.org/new
 s-events/calendar/1424/northern-surprise-major-practice?tmpl=component</a>CONTACT:This email address is being protected from spambots. You need JavaScript enabled to view it.
				document.getElementById('cloak358dd577f4377e3afaf365c801f02257').innerHTML = '';
				var prefix = '&#109;a' + 'i&#108;' + '&#116;o';
				var path = 'hr' + 'ef' + '=';
				var addy358dd577f4377e3afaf365c801f02257 = 'n&#101;ssr&#105;ng&#105;ng' + '&#64;';
				addy358dd577f4377e3afaf365c801f02257 = addy358dd577f4377e3afaf365c801f02257 + '&#105;cl&#111;&#117;d' + '&#46;' + 'c&#111;m';
				var addy_text358dd577f4377e3afaf365c801f02257 = 'n&#101;ssr&#105;ng&#105;ng' + '&#64;' + '&#105;cl&#111;&#117;d' + '&#46;' + 'c&#111;m';document.getElementById('cloak358dd577f4377e3afaf365c801f02257').innerHTML += '<a ' + path + '\'' + prefix + ':' + addy358dd577f4377e3afaf365c801f02257 + '\'>'+addy_text358dd577f4377e3afaf365c801f02257+'';
		
X-EXTRAINFO:Please email if you intend to come
DTSTAMP:20260424T091830
DTSTART;TZID=Europe/London:20250310T193000
DTEND;TZID=Europe/London:20250310T210000
SEQUENCE:0
TRANSP:OPAQUE
END:VEVENT
END:VCALENDAR