BEGIN:VCALENDAR
VERSION:2.0
PRODID:-//jEvents 2.0 for Joomla//EN
CALSCALE:GREGORIAN
METHOD:PUBLISH
BEGIN:VTIMEZONE
TZID:Europe/London
BEGIN:STANDARD
DTSTART:20241128T100000
RDATE:20250330T020000
TZOFFSETFROM:+0100
TZOFFSETTO:+0000
TZNAME:Europe/London GMT
END:STANDARD
BEGIN:STANDARD
DTSTART:20251026T010000
RDATE:20260329T020000
TZOFFSETFROM:+0100
TZOFFSETTO:+0000
TZNAME:Europe/London GMT
END:STANDARD
BEGIN:STANDARD
DTSTART:20261025T010000
RDATE:20270328T020000
TZOFFSETFROM:+0100
TZOFFSETTO:+0000
TZNAME:Europe/London GMT
END:STANDARD
BEGIN:STANDARD
DTSTART:20271031T010000
RDATE:20280326T020000
TZOFFSETFROM:+0100
TZOFFSETTO:+0000
TZNAME:Europe/London GMT
END:STANDARD
BEGIN:STANDARD
DTSTART:20281029T010000
RDATE:20290325T020000
TZOFFSETFROM:+0100
TZOFFSETTO:+0000
TZNAME:Europe/London GMT
END:STANDARD
BEGIN:STANDARD
DTSTART:20291028T010000
RDATE:20300331T020000
TZOFFSETFROM:+0100
TZOFFSETTO:+0000
TZNAME:Europe/London GMT
END:STANDARD
BEGIN:STANDARD
DTSTART:20301027T010000
RDATE:20310330T020000
TZOFFSETFROM:+0100
TZOFFSETTO:+0000
TZNAME:Europe/London GMT
END:STANDARD
BEGIN:DAYLIGHT
DTSTART:20250330T020000
RDATE:20251026T010000
TZOFFSETFROM:+0000
TZOFFSETTO:+0100
TZNAME:Europe/London BST
END:DAYLIGHT
BEGIN:DAYLIGHT
DTSTART:20260329T020000
RDATE:20261025T010000
TZOFFSETFROM:+0000
TZOFFSETTO:+0100
TZNAME:Europe/London BST
END:DAYLIGHT
BEGIN:DAYLIGHT
DTSTART:20270328T020000
RDATE:20271031T010000
TZOFFSETFROM:+0000
TZOFFSETTO:+0100
TZNAME:Europe/London BST
END:DAYLIGHT
BEGIN:DAYLIGHT
DTSTART:20280326T020000
RDATE:20281029T010000
TZOFFSETFROM:+0000
TZOFFSETTO:+0100
TZNAME:Europe/London BST
END:DAYLIGHT
BEGIN:DAYLIGHT
DTSTART:20290325T020000
RDATE:20291028T010000
TZOFFSETFROM:+0000
TZOFFSETTO:+0100
TZNAME:Europe/London BST
END:DAYLIGHT
BEGIN:DAYLIGHT
DTSTART:20300331T020000
RDATE:20301027T010000
TZOFFSETFROM:+0000
TZOFFSETTO:+0100
TZNAME:Europe/London BST
END:DAYLIGHT
END:VTIMEZONE
BEGIN:VEVENT
UID:aa28037ca775e34ee5c50d6caeccf778
CATEGORIES:Association Event
CREATED:20250213T194934
SUMMARY:12-bell practice
LOCATION:East Grinstead 
URL;VALUE=URI:https://www.scacr.org/news-events/calendar/1414/12-bell-practice?tmpl=compo
 nent
DESCRIPTION:Aim: this practice is for ringers able to ring methods on 9/10 bells who wi
 sh to extend their repertoire to 11/12 bells, and for more experienced 12-b
 ell ringers.  \nMinimum competency: must be able to ring touches of Stedman
  Caters comfortably .  \nIf you plan to attend, please complete the sign-up
  form (https://forms.gle/8qDJ94qcqhRSrpLr6) by Sunday 23rd November. \nThis
  practice will be run by Simon Meyer.\n This event was imported from: https
 ://www.scacr.org/news-events/calendar/1414/12-bell-practice?tmpl=component 
 (https://www.scacr.org/news-events/calendar/1414/12-bell-practice?tmpl=comp
 onent)
X-ALT-DESC;FMTTYPE=text/html:<p>Aim: this practice is for ringers able to ring methods on 9/10 bells who
  wish to extend their repertoire to 11/12 bells, and for more experienced 1
 2-bell ringers.&nbsp;&nbsp;</p><p>Minimum competency: must be able to ring 
 touches of Stedman Caters comfortably .&nbsp;&nbsp;</p><p>If you plan to at
 tend, <strong>please <a href="https://forms.gle/8qDJ94qcqhRSrpLr6">complete
  the sign-up form</a> by Sunday 23rd November</strong>.&nbsp;</p><p>This pr
 actice will be run by Simon Meyer.</p> <a href="https://www.scacr.org/news-
 events/calendar/1414/12-bell-practice?tmpl=component">This event was import
 ed from: https://www.scacr.org/news-events/calendar/1414/12-bell-practice?t
 mpl=component</a>CONTACT:This email address is being protected from spambots. You need JavaScript enabled to view it.
				document.getElementById('cloak134085d9db64fcf57eab19bdef694a2a').innerHTML = '';
				var prefix = '&#109;a' + 'i&#108;' + '&#116;o';
				var path = 'hr' + 'ef' + '=';
				var addy134085d9db64fcf57eab19bdef694a2a = 's&#101;cr&#101;t&#97;ry' + '&#64;';
				addy134085d9db64fcf57eab19bdef694a2a = addy134085d9db64fcf57eab19bdef694a2a + 'sc&#97;cr' + '&#46;' + '&#111;rg';
				var addy_text134085d9db64fcf57eab19bdef694a2a = 's&#101;cr&#101;t&#97;ry' + '&#64;' + 'sc&#97;cr' + '&#46;' + '&#111;rg';document.getElementById('cloak134085d9db64fcf57eab19bdef694a2a').innerHTML += '<a ' + path + '\'' + prefix + ':' + addy134085d9db64fcf57eab19bdef694a2a + '\'>'+addy_text134085d9db64fcf57eab19bdef694a2a+'';
		
DTSTAMP:20260421T004115
DTSTART;TZID=Europe/London:20251129T100000
DTEND;TZID=Europe/London:20251129T120000
SEQUENCE:0
TRANSP:OPAQUE
END:VEVENT
END:VCALENDAR