BEGIN:VCALENDAR
VERSION:2.0
PRODID:-//jEvents 2.0 for Joomla//EN
CALSCALE:GREGORIAN
METHOD:PUBLISH
BEGIN:VTIMEZONE
TZID:Europe/London
BEGIN:STANDARD
DTSTART:20241027T010000
RDATE:20250330T020000
TZOFFSETFROM:+0100
TZOFFSETTO:+0000
TZNAME:Europe/London GMT
END:STANDARD
BEGIN:STANDARD
DTSTART:20251026T010000
RDATE:20260329T020000
TZOFFSETFROM:+0100
TZOFFSETTO:+0000
TZNAME:Europe/London GMT
END:STANDARD
BEGIN:STANDARD
DTSTART:20261025T010000
RDATE:20270328T020000
TZOFFSETFROM:+0100
TZOFFSETTO:+0000
TZNAME:Europe/London GMT
END:STANDARD
BEGIN:STANDARD
DTSTART:20271031T010000
RDATE:20280326T020000
TZOFFSETFROM:+0100
TZOFFSETTO:+0000
TZNAME:Europe/London GMT
END:STANDARD
BEGIN:STANDARD
DTSTART:20281029T010000
RDATE:20290325T020000
TZOFFSETFROM:+0100
TZOFFSETTO:+0000
TZNAME:Europe/London GMT
END:STANDARD
BEGIN:STANDARD
DTSTART:20291028T010000
RDATE:20300331T020000
TZOFFSETFROM:+0100
TZOFFSETTO:+0000
TZNAME:Europe/London GMT
END:STANDARD
BEGIN:STANDARD
DTSTART:20301027T010000
RDATE:20310330T020000
TZOFFSETFROM:+0100
TZOFFSETTO:+0000
TZNAME:Europe/London GMT
END:STANDARD
BEGIN:DAYLIGHT
DTSTART:20240829T143000
RDATE:20241027T010000
TZOFFSETFROM:+0000
TZOFFSETTO:+0100
TZNAME:Europe/London BST
END:DAYLIGHT
BEGIN:DAYLIGHT
DTSTART:20250330T020000
RDATE:20251026T010000
TZOFFSETFROM:+0000
TZOFFSETTO:+0100
TZNAME:Europe/London BST
END:DAYLIGHT
BEGIN:DAYLIGHT
DTSTART:20260329T020000
RDATE:20261025T010000
TZOFFSETFROM:+0000
TZOFFSETTO:+0100
TZNAME:Europe/London BST
END:DAYLIGHT
BEGIN:DAYLIGHT
DTSTART:20270328T020000
RDATE:20271031T010000
TZOFFSETFROM:+0000
TZOFFSETTO:+0100
TZNAME:Europe/London BST
END:DAYLIGHT
BEGIN:DAYLIGHT
DTSTART:20280326T020000
RDATE:20281029T010000
TZOFFSETFROM:+0000
TZOFFSETTO:+0100
TZNAME:Europe/London BST
END:DAYLIGHT
BEGIN:DAYLIGHT
DTSTART:20290325T020000
RDATE:20291028T010000
TZOFFSETFROM:+0000
TZOFFSETTO:+0100
TZNAME:Europe/London BST
END:DAYLIGHT
BEGIN:DAYLIGHT
DTSTART:20300331T020000
RDATE:20301027T010000
TZOFFSETFROM:+0000
TZOFFSETTO:+0100
TZNAME:Europe/London BST
END:DAYLIGHT
END:VTIMEZONE
BEGIN:VEVENT
UID:d614421a2e93c34e8a2e2bb178e14eb9
CATEGORIES:Association Event
CREATED:20250213T194845
SUMMARY:12-bell practice
LOCATION:East Grinstead 
URL;VALUE=URI:https://www.scacr.org/news-events/calendar/1413/12-bell-practice?tmpl=compo
 nent
DESCRIPTION:<p>Aim: this practice is for ringers able to ring methods on 9/10 bells who
  wish to extend their repertoire to 11/12 bells, and for more experienced 1
 2-bell ringers.&nbsp;&nbsp;</p><p>Minimum competency: must be able to ring 
 touches of Grandsire Caters comfortably .&nbsp;&nbsp;</p><p>If you plan to 
 attend, <strong>please complete the <a href="https://forms.gle/3jX47ybuoPZ3
 1Xq28">sign-up form</a> by Sunday 24th August</strong>.&nbsp;</p><p>This pr
 actice will be run by David Perkins or Simon Meyer.</p> <a href="https://ww
 w.scacr.org/news-events/calendar/1413/12-bell-practice?tmpl=component">This
  event was imported from: https://www.scacr.org/news-events/calendar/1413/1
 2-bell-practice?tmpl=component</a>CONTACT:This email address is being protected from spambots. You need JavaScript enabled to view it.
				document.getElementById('cloakcc2a185333ee5b9e3571de0f2171da95').innerHTML = '';
				var prefix = '&#109;a' + 'i&#108;' + '&#116;o';
				var path = 'hr' + 'ef' + '=';
				var addycc2a185333ee5b9e3571de0f2171da95 = 's&#101;cr&#101;t&#97;ry' + '&#64;';
				addycc2a185333ee5b9e3571de0f2171da95 = addycc2a185333ee5b9e3571de0f2171da95 + 'sc&#97;cr' + '&#46;' + '&#111;rg';
				var addy_textcc2a185333ee5b9e3571de0f2171da95 = 's&#101;cr&#101;t&#97;ry' + '&#64;' + 'sc&#97;cr' + '&#46;' + '&#111;rg';document.getElementById('cloakcc2a185333ee5b9e3571de0f2171da95').innerHTML += '<a ' + path + '\'' + prefix + ':' + addycc2a185333ee5b9e3571de0f2171da95 + '\'>'+addy_textcc2a185333ee5b9e3571de0f2171da95+'';
		
DTSTAMP:20260423T171958
DTSTART;TZID=Europe/London:20250830T143000
DTEND;TZID=Europe/London:20250830T163000
SEQUENCE:0
TRANSP:OPAQUE
END:VEVENT
END:VCALENDAR