BEGIN:VCALENDAR
VERSION:2.0
PRODID:-//jEvents 2.0 for Joomla//EN
CALSCALE:GREGORIAN
METHOD:PUBLISH
BEGIN:VTIMEZONE
TZID:Europe/London
BEGIN:STANDARD
DTSTART:20240328T103000
RDATE:20240331T020000
TZOFFSETFROM:+0100
TZOFFSETTO:+0000
TZNAME:Europe/London GMT
END:STANDARD
BEGIN:STANDARD
DTSTART:20241027T010000
RDATE:20250330T020000
TZOFFSETFROM:+0100
TZOFFSETTO:+0000
TZNAME:Europe/London GMT
END:STANDARD
BEGIN:STANDARD
DTSTART:20251026T010000
RDATE:20260329T020000
TZOFFSETFROM:+0100
TZOFFSETTO:+0000
TZNAME:Europe/London GMT
END:STANDARD
BEGIN:STANDARD
DTSTART:20261025T010000
RDATE:20270328T020000
TZOFFSETFROM:+0100
TZOFFSETTO:+0000
TZNAME:Europe/London GMT
END:STANDARD
BEGIN:STANDARD
DTSTART:20271031T010000
RDATE:20280326T020000
TZOFFSETFROM:+0100
TZOFFSETTO:+0000
TZNAME:Europe/London GMT
END:STANDARD
BEGIN:STANDARD
DTSTART:20281029T010000
RDATE:20290325T020000
TZOFFSETFROM:+0100
TZOFFSETTO:+0000
TZNAME:Europe/London GMT
END:STANDARD
BEGIN:STANDARD
DTSTART:20291028T010000
RDATE:20300331T020000
TZOFFSETFROM:+0100
TZOFFSETTO:+0000
TZNAME:Europe/London GMT
END:STANDARD
BEGIN:STANDARD
DTSTART:20301027T010000
RDATE:20310330T020000
TZOFFSETFROM:+0100
TZOFFSETTO:+0000
TZNAME:Europe/London GMT
END:STANDARD
BEGIN:DAYLIGHT
DTSTART:20240331T020000
RDATE:20241027T010000
TZOFFSETFROM:+0000
TZOFFSETTO:+0100
TZNAME:Europe/London BST
END:DAYLIGHT
BEGIN:DAYLIGHT
DTSTART:20250330T020000
RDATE:20251026T010000
TZOFFSETFROM:+0000
TZOFFSETTO:+0100
TZNAME:Europe/London BST
END:DAYLIGHT
BEGIN:DAYLIGHT
DTSTART:20260329T020000
RDATE:20261025T010000
TZOFFSETFROM:+0000
TZOFFSETTO:+0100
TZNAME:Europe/London BST
END:DAYLIGHT
BEGIN:DAYLIGHT
DTSTART:20270328T020000
RDATE:20271031T010000
TZOFFSETFROM:+0000
TZOFFSETTO:+0100
TZNAME:Europe/London BST
END:DAYLIGHT
BEGIN:DAYLIGHT
DTSTART:20280326T020000
RDATE:20281029T010000
TZOFFSETFROM:+0000
TZOFFSETTO:+0100
TZNAME:Europe/London BST
END:DAYLIGHT
BEGIN:DAYLIGHT
DTSTART:20290325T020000
RDATE:20291028T010000
TZOFFSETFROM:+0000
TZOFFSETTO:+0100
TZNAME:Europe/London BST
END:DAYLIGHT
BEGIN:DAYLIGHT
DTSTART:20300331T020000
RDATE:20301027T010000
TZOFFSETFROM:+0000
TZOFFSETTO:+0100
TZNAME:Europe/London BST
END:DAYLIGHT
END:VTIMEZONE
BEGIN:VEVENT
UID:da9eaa0f8570fe66dfdc0714b3eb5c4c
CATEGORIES:West
CREATED:20250213T110956
SUMMARY:Surprise Major Practice!
LOCATION:St Mary's Church\, Pulborough.
URL;VALUE=URI:https://www.scacr.org/news-events/calendar/1410/surprise-major-practice?tmp
 l=component
DESCRIPTION:Let's make use of a 5th Saturday of the month by having a dfferent practice
  of Surprise Major!!  A chance for those who can or who are learning to  ri
 ng at this level but don't often have the opportunity!  Methods hoping to b
 e rung are Cambridge, Yorkshire, Superlative, Pudsey and maybe Lessness dep
 ending upon who is able tobe there!    Let This email address is being prot
 ected from spambots. You need JavaScript enabled to view it.
				document.g
 etElementById('cloak53c54ab1e4f2dadb02f0c00d98544efe').innerHTML = '';
				
 var prefix = '&#109;a' + 'i&#108;' + '&#116;o';
				var path = 'hr' + 'ef' 
 + '=';
				var addy53c54ab1e4f2dadb02f0c00d98544efe = 's&#101;c-w&#101;st' 
 + '&#64;';
				addy53c54ab1e4f2dadb02f0c00d98544efe = addy53c54ab1e4f2dadb0
 2f0c00d98544efe + 'sc&#97;cr' + '&#46;' + '&#111;rg';
				var addy_text53c5
 4ab1e4f2dadb02f0c00d98544efe = 's&#101;c-w&#101;st' + '&#64;' + 'sc&#97;cr'
  + '&#46;' + '&#111;rg';document.getElementById('cloak53c54ab1e4f2dadb02f0c
 00d98544efe').innerHTML += '<a ' + path + '\'' + prefix + ':' + addy53c54ab
 1e4f2dadb02f0c00d98544efe + '\'>'+addy_text53c54ab1e4f2dadb02f0c00d98544efe
 +'';
		 know if you would like to attend or call Janice on 07890804339.\n T
 his event was imported from: https://www.scacr.org/news-events/calendar/141
 0/surprise-major-practice?tmpl=component (https://www.scacr.org/news-events
 /calendar/1410/surprise-major-practice?tmpl=component)
X-ALT-DESC;FMTTYPE=text/html:<p>Let's make use of a 5th Saturday of the month by having a dfferent pract
 ice of Surprise Major!!&nbsp; A chance for those who can or who are learnin
 g to&nbsp; ring at this level but don't often have the opportunity!&nbsp; M
 ethods hoping to be rung are Cambridge, Yorkshire, Superlative, Pudsey and 
 maybe Lessness depending upon who is able tobe there!&nbsp; &nbsp; Let <spa
 n id="cloak53c54ab1e4f2dadb02f0c00d98544efe">This email address is being pr
 otected from spambots. You need JavaScript enabled to view it.</span><scrip
 t type='text/javascript'>
				document.getElementById('cloak53c54ab1e4f2dad
 b02f0c00d98544efe').innerHTML = '';
				var prefix = '&#109;a' + 'i&#108;' 
 + '&#116;o';
				var path = 'hr' + 'ef' + '=';
				var addy53c54ab1e4f2dadb
 02f0c00d98544efe = 's&#101;c-w&#101;st' + '&#64;';
				addy53c54ab1e4f2dadb
 02f0c00d98544efe = addy53c54ab1e4f2dadb02f0c00d98544efe + 'sc&#97;cr' + '&#
 46;' + '&#111;rg';
				var addy_text53c54ab1e4f2dadb02f0c00d98544efe = 's&#
 101;c-w&#101;st' + '&#64;' + 'sc&#97;cr' + '&#46;' + '&#111;rg';document.ge
 tElementById('cloak53c54ab1e4f2dadb02f0c00d98544efe').innerHTML += '<a ' + 
 path + '\'' + prefix + ':' + addy53c54ab1e4f2dadb02f0c00d98544efe + '\'>'+a
 ddy_text53c54ab1e4f2dadb02f0c00d98544efe+'<\/a>';
		</script>&nbsp;know if 
 you would like to attend or call Janice on 07890804339.</p> <a href="https:
 //www.scacr.org/news-events/calendar/1410/surprise-major-practice?tmpl=comp
 onent">This event was imported from: https://www.scacr.org/news-events/cale
 ndar/1410/surprise-major-practice?tmpl=component</a>CONTACT:This email address is being protected from spambots. You need JavaScript enabled to view it.
				document.getElementById('cloak7b356f750fb8e24411a30f5d05abdc08').innerHTML = '';
				var prefix = '&#109;a' + 'i&#108;' + '&#116;o';
				var path = 'hr' + 'ef' + '=';
				var addy7b356f750fb8e24411a30f5d05abdc08 = 's&#101;c-w&#101;st' + '&#64;';
				addy7b356f750fb8e24411a30f5d05abdc08 = addy7b356f750fb8e24411a30f5d05abdc08 + 'sc&#97;cr' + '&#46;' + '&#111;rg';
				var addy_text7b356f750fb8e24411a30f5d05abdc08 = 's&#101;c-w&#101;st' + '&#64;' + 'sc&#97;cr' + '&#46;' + '&#111;rg';document.getElementById('cloak7b356f750fb8e24411a30f5d05abdc08').innerHTML += '<a ' + path + '\'' + prefix + ':' + addy7b356f750fb8e24411a30f5d05abdc08 + '\'>'+addy_text7b356f750fb8e24411a30f5d05abdc08+'';
		  or 07890804339
DTSTAMP:20260424T232457
DTSTART;TZID=Europe/London:20250329T103000
DTEND;TZID=Europe/London:20250329T123000
SEQUENCE:0
TRANSP:OPAQUE
END:VEVENT
END:VCALENDAR