BEGIN:VCALENDAR
VERSION:2.0
PRODID:-//jEvents 2.0 for Joomla//EN
CALSCALE:GREGORIAN
METHOD:PUBLISH
BEGIN:VTIMEZONE
TZID:Europe/London
BEGIN:STANDARD
DTSTART:20240307T093000
RDATE:20240331T020000
TZOFFSETFROM:+0100
TZOFFSETTO:+0000
TZNAME:Europe/London GMT
END:STANDARD
BEGIN:STANDARD
DTSTART:20241027T010000
RDATE:20250330T020000
TZOFFSETFROM:+0100
TZOFFSETTO:+0000
TZNAME:Europe/London GMT
END:STANDARD
BEGIN:STANDARD
DTSTART:20251026T010000
RDATE:20260329T020000
TZOFFSETFROM:+0100
TZOFFSETTO:+0000
TZNAME:Europe/London GMT
END:STANDARD
BEGIN:STANDARD
DTSTART:20261025T010000
RDATE:20270328T020000
TZOFFSETFROM:+0100
TZOFFSETTO:+0000
TZNAME:Europe/London GMT
END:STANDARD
BEGIN:STANDARD
DTSTART:20271031T010000
RDATE:20280326T020000
TZOFFSETFROM:+0100
TZOFFSETTO:+0000
TZNAME:Europe/London GMT
END:STANDARD
BEGIN:STANDARD
DTSTART:20281029T010000
RDATE:20290325T020000
TZOFFSETFROM:+0100
TZOFFSETTO:+0000
TZNAME:Europe/London GMT
END:STANDARD
BEGIN:STANDARD
DTSTART:20291028T010000
RDATE:20300331T020000
TZOFFSETFROM:+0100
TZOFFSETTO:+0000
TZNAME:Europe/London GMT
END:STANDARD
BEGIN:STANDARD
DTSTART:20301027T010000
RDATE:20310330T020000
TZOFFSETFROM:+0100
TZOFFSETTO:+0000
TZNAME:Europe/London GMT
END:STANDARD
BEGIN:DAYLIGHT
DTSTART:20240331T020000
RDATE:20241027T010000
TZOFFSETFROM:+0000
TZOFFSETTO:+0100
TZNAME:Europe/London BST
END:DAYLIGHT
BEGIN:DAYLIGHT
DTSTART:20250330T020000
RDATE:20251026T010000
TZOFFSETFROM:+0000
TZOFFSETTO:+0100
TZNAME:Europe/London BST
END:DAYLIGHT
BEGIN:DAYLIGHT
DTSTART:20260329T020000
RDATE:20261025T010000
TZOFFSETFROM:+0000
TZOFFSETTO:+0100
TZNAME:Europe/London BST
END:DAYLIGHT
BEGIN:DAYLIGHT
DTSTART:20270328T020000
RDATE:20271031T010000
TZOFFSETFROM:+0000
TZOFFSETTO:+0100
TZNAME:Europe/London BST
END:DAYLIGHT
BEGIN:DAYLIGHT
DTSTART:20280326T020000
RDATE:20281029T010000
TZOFFSETFROM:+0000
TZOFFSETTO:+0100
TZNAME:Europe/London BST
END:DAYLIGHT
BEGIN:DAYLIGHT
DTSTART:20290325T020000
RDATE:20291028T010000
TZOFFSETFROM:+0000
TZOFFSETTO:+0100
TZNAME:Europe/London BST
END:DAYLIGHT
BEGIN:DAYLIGHT
DTSTART:20300331T020000
RDATE:20301027T010000
TZOFFSETFROM:+0000
TZOFFSETTO:+0100
TZNAME:Europe/London BST
END:DAYLIGHT
END:VTIMEZONE
BEGIN:VEVENT
UID:d521e13741244b9ea346605c7cf61eec
CATEGORIES:Association Event
CREATED:20250206T133209
SUMMARY:Teaching Course,  ART accredited. Module 2F - 
LOCATION:St Mary's Church\, Billingshurst.
URL;VALUE=URI:https://www.scacr.org/news-events/calendar/1396/teaching-course-art-accredi
 ted-module-2f?tmpl=component
DESCRIPTION:<p>This course is for teachers/facilitators&nbsp; to support ringers&nbsp; 
 to develop the necessary skills for good ringing and then move forward to r
 inging changes&nbsp; This is achieved through practical and classroom sessi
 ons focusing on&nbsp; looking at Foundation skills. How to teach call chang
 es, an exploration of Kaleidosocope ringing and Plain Hunt.&nbsp; Coaching 
 skills is also included,</p><p>Full details/costs and how to book and pay a
 re available via this link.&nbsp; &nbsp;<a href="https://events.bellringing
 .org/en/events/courses/teaching-course-module-2f-st-mary-s-billingshurst-su
 ssex">ART Events - Teaching Course - Module 2F - St Mary's, Billingshurst, 
 Sussex-Courses</a></p><p>Places are limited and you need to book by midday 
 21st February!!&nbsp; An ART teacher will be facilitating the and is sure t
 o be inspirational, fun and informative!!</p><p>Tea and cake will be availa
 ble throughout the day but please bring yor own lunch or there is a superma
 rket/cafe nearby.&nbsp; A £10.00 donation is required for the refreshments 
 and a tower donation.&nbsp;</p><p>There is a very small car park by the chu
 rch and some street parking.&nbsp; Pay and Display parking is also availabl
 e.</p><p>Look forward to seeing you there!</p> <a href="https://www.scacr.o
 rg/news-events/calendar/1396/teaching-course-art-accredited-module-2f?tmpl=
 component">This event was imported from: https://www.scacr.org/news-events/
 calendar/1396/teaching-course-art-accredited-module-2f?tmpl=component</a>CONTACT:This email address is being protected from spambots. You need JavaScript enabled to view it.
				document.getElementById('cloakf37085bb3f23b866059b61b83a4286d8').innerHTML = '';
				var prefix = '&#109;a' + 'i&#108;' + '&#116;o';
				var path = 'hr' + 'ef' + '=';
				var addyf37085bb3f23b866059b61b83a4286d8 = 'tr&#97;&#105;n&#105;ng' + '&#64;';
				addyf37085bb3f23b866059b61b83a4286d8 = addyf37085bb3f23b866059b61b83a4286d8 + 'sc&#97;cr' + '&#46;' + '&#111;rg';
				var addy_textf37085bb3f23b866059b61b83a4286d8 = 'tr&#97;&#105;n&#105;ng' + '&#64;' + 'sc&#97;cr' + '&#46;' + '&#111;rg';document.getElementById('cloakf37085bb3f23b866059b61b83a4286d8').innerHTML += '<a ' + path + '\'' + prefix + ':' + addyf37085bb3f23b866059b61b83a4286d8 + '\'>'+addy_textf37085bb3f23b866059b61b83a4286d8+'';
		
DTSTAMP:20260421T055523
DTSTART;TZID=Europe/London:20250308T093000
DTEND;TZID=Europe/London:20250308T170000
SEQUENCE:0
TRANSP:OPAQUE
END:VEVENT
END:VCALENDAR