BEGIN:VCALENDAR
VERSION:2.0
PRODID:-//jEvents 2.0 for Joomla//EN
CALSCALE:GREGORIAN
METHOD:PUBLISH
BEGIN:VTIMEZONE
TZID:Europe/London
BEGIN:STANDARD
DTSTART:20240108T193000
RDATE:20240331T020000
TZOFFSETFROM:+0100
TZOFFSETTO:+0000
TZNAME:Europe/London GMT
END:STANDARD
BEGIN:STANDARD
DTSTART:20241027T010000
RDATE:20250330T020000
TZOFFSETFROM:+0100
TZOFFSETTO:+0000
TZNAME:Europe/London GMT
END:STANDARD
BEGIN:STANDARD
DTSTART:20251026T010000
RDATE:20260329T020000
TZOFFSETFROM:+0100
TZOFFSETTO:+0000
TZNAME:Europe/London GMT
END:STANDARD
BEGIN:STANDARD
DTSTART:20261025T010000
RDATE:20270328T020000
TZOFFSETFROM:+0100
TZOFFSETTO:+0000
TZNAME:Europe/London GMT
END:STANDARD
BEGIN:STANDARD
DTSTART:20271031T010000
RDATE:20280326T020000
TZOFFSETFROM:+0100
TZOFFSETTO:+0000
TZNAME:Europe/London GMT
END:STANDARD
BEGIN:STANDARD
DTSTART:20281029T010000
RDATE:20290325T020000
TZOFFSETFROM:+0100
TZOFFSETTO:+0000
TZNAME:Europe/London GMT
END:STANDARD
BEGIN:STANDARD
DTSTART:20291028T010000
RDATE:20300331T020000
TZOFFSETFROM:+0100
TZOFFSETTO:+0000
TZNAME:Europe/London GMT
END:STANDARD
BEGIN:STANDARD
DTSTART:20301027T010000
RDATE:20310330T020000
TZOFFSETFROM:+0100
TZOFFSETTO:+0000
TZNAME:Europe/London GMT
END:STANDARD
BEGIN:DAYLIGHT
DTSTART:20240331T020000
RDATE:20241027T010000
TZOFFSETFROM:+0000
TZOFFSETTO:+0100
TZNAME:Europe/London BST
END:DAYLIGHT
BEGIN:DAYLIGHT
DTSTART:20250330T020000
RDATE:20251026T010000
TZOFFSETFROM:+0000
TZOFFSETTO:+0100
TZNAME:Europe/London BST
END:DAYLIGHT
BEGIN:DAYLIGHT
DTSTART:20260329T020000
RDATE:20261025T010000
TZOFFSETFROM:+0000
TZOFFSETTO:+0100
TZNAME:Europe/London BST
END:DAYLIGHT
BEGIN:DAYLIGHT
DTSTART:20270328T020000
RDATE:20271031T010000
TZOFFSETFROM:+0000
TZOFFSETTO:+0100
TZNAME:Europe/London BST
END:DAYLIGHT
BEGIN:DAYLIGHT
DTSTART:20280326T020000
RDATE:20281029T010000
TZOFFSETFROM:+0000
TZOFFSETTO:+0100
TZNAME:Europe/London BST
END:DAYLIGHT
BEGIN:DAYLIGHT
DTSTART:20290325T020000
RDATE:20291028T010000
TZOFFSETFROM:+0000
TZOFFSETTO:+0100
TZNAME:Europe/London BST
END:DAYLIGHT
BEGIN:DAYLIGHT
DTSTART:20300331T020000
RDATE:20301027T010000
TZOFFSETFROM:+0000
TZOFFSETTO:+0100
TZNAME:Europe/London BST
END:DAYLIGHT
END:VTIMEZONE
BEGIN:VEVENT
UID:4188af2922101d9a973b59fa6e4de381
CATEGORIES:East
CREATED:20250103T165213
SUMMARY:Doubles Practice for All Abilities
LOCATION:Westham
URL;VALUE=URI:https://www.scacr.org/news-events/calendar/1382/doubles-practice-for-all-ab
 ilities?tmpl=component
DESCRIPTION:Doubles Practice at Westham near Eastbourne.\nMethod of the month will be: 
 Grandsire Doubles\nJoin us for the monthly mid-week practice on this 10cwt 
 ring of 6 for those learning Plain Hunt and learning to treble on Plain Bob
 /Grandsire, through to short touches of doubles methods to suit the reperto
 ire of those attending.\n\n - First steps from Rounds to Plain Hunt\n - Lea
 rn to "Plain Hunt" the treble to methods\n - Take your plain course of Bob 
 Doubles or Grandsire to a touch\n - Stedman onwards for more experienced ri
 ngers (subject to having enough ringers that can ring your dream method!)\n
  - Try a new method*Experienced helpers to fill in and "stand-behind" are e
 ssential to the ringing development of learners and of course are always we
 lcome - you might even be able to sneak some minor in at the end!\nRefreshm
 ents served. ☕️\n\n*Recent events have included Plain Hunt, Plain Bob, Winc
 hendon Place, St Simon's, Grandsire and Stedman too\n This event was import
 ed from: https://www.scacr.org/news-events/calendar/1382/doubles-practice-f
 or-all-abilities?tmpl=component (https://www.scacr.org/news-events/calendar
 /1382/doubles-practice-for-all-abilities?tmpl=component)
X-ALT-DESC;FMTTYPE=text/html:<p><strong style="color: #000000;">Doubles Practice at Westham near Eastbou
 rne.</strong></p><p style="font-weight: bolder; color: #2441ff;">Method of 
 the month will be: Grandsire Doubles</p><p>Join us for the monthly mid-week
  practice on this 10cwt ring of 6 for those learning Plain Hunt and learnin
 g to treble on Plain Bob/Grandsire, through to short touches of doubles met
 hods to suit the repertoire of those attending.</p><ul><li>First steps from
  Rounds to Plain Hunt</li><li>Learn to "Plain Hunt" the treble to methods</
 li><li>Take your plain course of Bob Doubles or Grandsire to a touch</li><l
 i>Stedman onwards for more experienced ringers (subject to having enough ri
 ngers that can ring your dream method!)</li><li>Try a new method*</li></ul>
 <p>Experienced helpers to fill in and "stand-behind" are essential to the r
 inging development of learners and of course are always welcome - you might
  even be able to sneak some minor in at the end!</p><p>Refreshments served.
 &nbsp;☕️<br /><br /><em>*Recent events have included Plain Hunt, Plain Bob,
  Winchendon Place, St Simon's, Grandsire and Stedman too</em></p> <a href="
 https://www.scacr.org/news-events/calendar/1382/doubles-practice-for-all-ab
 ilities?tmpl=component">This event was imported from: https://www.scacr.org
 /news-events/calendar/1382/doubles-practice-for-all-abilities?tmpl=componen
 t</a>CONTACT:This email address is being protected from spambots. You need JavaScript enabled to view it.
				document.getElementById('cloak4fa4bddb727d740531dfcc0248a90a07').innerHTML = '';
				var prefix = '&#109;a' + 'i&#108;' + '&#116;o';
				var path = 'hr' + 'ef' + '=';
				var addy4fa4bddb727d740531dfcc0248a90a07 = 'st&#101;v&#101;.p&#105;lf&#111;ld' + '&#64;';
				addy4fa4bddb727d740531dfcc0248a90a07 = addy4fa4bddb727d740531dfcc0248a90a07 + 'wh&#101;r&#101;&#105;ns&#117;ss&#101;x' + '&#46;' + '&#111;rg' + '&#46;' + '&#117;k';
				var addy_text4fa4bddb727d740531dfcc0248a90a07 = 'st&#101;v&#101;.p&#105;lf&#111;ld' + '&#64;' + 'wh&#101;r&#101;&#105;ns&#117;ss&#101;x' + '&#46;' + '&#111;rg' + '&#46;' + '&#117;k';document.getElementById('cloak4fa4bddb727d740531dfcc0248a90a07').innerHTML += '<a ' + path + '\'' + prefix + ':' + addy4fa4bddb727d740531dfcc0248a90a07 + '\'>'+addy_text4fa4bddb727d740531dfcc0248a90a07+'';
		
DTSTAMP:20260420T133326
DTSTART;TZID=Europe/London:20250108T193000
DTEND;TZID=Europe/London:20250108T210000
SEQUENCE:0
TRANSP:OPAQUE
END:VEVENT
END:VCALENDAR