BEGIN:VCALENDAR
VERSION:2.0
PRODID:-//jEvents 2.0 for Joomla//EN
CALSCALE:GREGORIAN
METHOD:PUBLISH
BEGIN:VTIMEZONE
TZID:Europe/London
BEGIN:STANDARD
DTSTART:20231123T103000
RDATE:20240331T020000
TZOFFSETFROM:+0100
TZOFFSETTO:+0000
TZNAME:Europe/London GMT
END:STANDARD
BEGIN:STANDARD
DTSTART:20241027T010000
RDATE:20250330T020000
TZOFFSETFROM:+0100
TZOFFSETTO:+0000
TZNAME:Europe/London GMT
END:STANDARD
BEGIN:STANDARD
DTSTART:20251026T010000
RDATE:20260329T020000
TZOFFSETFROM:+0100
TZOFFSETTO:+0000
TZNAME:Europe/London GMT
END:STANDARD
BEGIN:STANDARD
DTSTART:20261025T010000
RDATE:20270328T020000
TZOFFSETFROM:+0100
TZOFFSETTO:+0000
TZNAME:Europe/London GMT
END:STANDARD
BEGIN:STANDARD
DTSTART:20271031T010000
RDATE:20280326T020000
TZOFFSETFROM:+0100
TZOFFSETTO:+0000
TZNAME:Europe/London GMT
END:STANDARD
BEGIN:STANDARD
DTSTART:20281029T010000
RDATE:20290325T020000
TZOFFSETFROM:+0100
TZOFFSETTO:+0000
TZNAME:Europe/London GMT
END:STANDARD
BEGIN:STANDARD
DTSTART:20291028T010000
RDATE:20300331T020000
TZOFFSETFROM:+0100
TZOFFSETTO:+0000
TZNAME:Europe/London GMT
END:STANDARD
BEGIN:STANDARD
DTSTART:20301027T010000
RDATE:20310330T020000
TZOFFSETFROM:+0100
TZOFFSETTO:+0000
TZNAME:Europe/London GMT
END:STANDARD
BEGIN:DAYLIGHT
DTSTART:20240331T020000
RDATE:20241027T010000
TZOFFSETFROM:+0000
TZOFFSETTO:+0100
TZNAME:Europe/London BST
END:DAYLIGHT
BEGIN:DAYLIGHT
DTSTART:20250330T020000
RDATE:20251026T010000
TZOFFSETFROM:+0000
TZOFFSETTO:+0100
TZNAME:Europe/London BST
END:DAYLIGHT
BEGIN:DAYLIGHT
DTSTART:20260329T020000
RDATE:20261025T010000
TZOFFSETFROM:+0000
TZOFFSETTO:+0100
TZNAME:Europe/London BST
END:DAYLIGHT
BEGIN:DAYLIGHT
DTSTART:20270328T020000
RDATE:20271031T010000
TZOFFSETFROM:+0000
TZOFFSETTO:+0100
TZNAME:Europe/London BST
END:DAYLIGHT
BEGIN:DAYLIGHT
DTSTART:20280326T020000
RDATE:20281029T010000
TZOFFSETFROM:+0000
TZOFFSETTO:+0100
TZNAME:Europe/London BST
END:DAYLIGHT
BEGIN:DAYLIGHT
DTSTART:20290325T020000
RDATE:20291028T010000
TZOFFSETFROM:+0000
TZOFFSETTO:+0100
TZNAME:Europe/London BST
END:DAYLIGHT
BEGIN:DAYLIGHT
DTSTART:20300331T020000
RDATE:20301027T010000
TZOFFSETFROM:+0000
TZOFFSETTO:+0100
TZNAME:Europe/London BST
END:DAYLIGHT
END:VTIMEZONE
BEGIN:VEVENT
UID:29884af9b38ad10fdd8bd4f76295692b
CATEGORIES:East
CREATED:20241108T215501
SUMMARY:Two Tower Practice
LOCATION:Mayfield and Rotherfield
URL;VALUE=URI:https://www.scacr.org/news-events/calendar/1366/two-tower-practice?tmpl=com
 ponent
DESCRIPTION:Final Eastern District Saturday Practice 2024\nMayfield and Rotherfield\nJo
 in us for the final two towers of 2024 at Mayfield and Rotherfield, in the 
 northern part of the district.  This practice is open to all Association me
 mbers who can ring rounds.  If you are not a confident ringer, but can ring
  in your own tower, please see if your tutor can come, or contact us to see
  if we can match you up with someone to stand by.\nWe expect the ringing to
  be mostly on 8 bells, however there may be some doubles/minor too.\nUsual 
 things we ring at the monthly Saturday practices: round, call changes, Plai
 n Bob, Grandsire, Stedman, Cambridge, Yorkshire; although other methods may
  be rung if we have enough ringers - please let the person running the towe
 r know what you'd like to try!\nWe start at 10:30 in Mayfield (parking on t
 he High Street or in the car park on South Street behind the High Street.  
 There is a lovely ring of 8 bells, with the tenor just under 20cwt.\nAt 12:
 00 we ring at Rotherfield, with a 23cwt ring of 8.  There is on street park
 ing immediately around the church.\nAfter the ringing at Rotherfield, teas 
 and coffees will be supplied by the local ringers.\n This event was importe
 d from: https://www.scacr.org/news-events/calendar/1366/two-tower-practice?
 tmpl=component (https://www.scacr.org/news-events/calendar/1366/two-tower-p
 ractice?tmpl=component)
X-ALT-DESC;FMTTYPE=text/html:<p><strong>Final Eastern District Saturday Practice 2024</strong></p><p>May
 field and Rotherfield</p><p>Join us for the final two towers of 2024 at May
 field and Rotherfield, in the northern part of the district.&nbsp; This pra
 ctice is open to all Association members who can ring rounds.&nbsp; If you 
 are not a confident ringer, but can ring in your own tower, please see if y
 our tutor can come, or contact us to see if we can match you up with someon
 e to stand by.</p><p>We expect the ringing to be mostly on 8 bells, however
  there may be some doubles/minor too.</p><p>Usual things we ring at the mon
 thly Saturday practices: round, call changes, Plain Bob, Grandsire, Stedman
 , Cambridge, Yorkshire; although other methods may be rung if we have enoug
 h ringers - please let the person running the tower know what you'd like to
  try!</p><p>We start at <strong>10:30 in Mayfield</strong> (parking on the 
 High Street or in the car park on South Street behind the High Street.&nbsp
 ; There is a lovely ring of 8 bells, with the tenor just under 20cwt.</p><p
 >At <strong>12:00 we ring at Rotherfield</strong>, with a 23cwt ring of 8.&
 nbsp; There is on street parking immediately around the church.</p><p>After
  the ringing at Rotherfield, teas and coffees will be supplied by the local
  ringers.</p> <a href="https://www.scacr.org/news-events/calendar/1366/two-
 tower-practice?tmpl=component">This event was imported from: https://www.sc
 acr.org/news-events/calendar/1366/two-tower-practice?tmpl=component</a>CONTACT:This email address is being protected from spambots. You need JavaScript enabled to view it.
				document.getElementById('cloakde98c954c3c95ebfbb27164bba8948dd').innerHTML = '';
				var prefix = '&#109;a' + 'i&#108;' + '&#116;o';
				var path = 'hr' + 'ef' + '=';
				var addyde98c954c3c95ebfbb27164bba8948dd = 's&#101;c-&#101;&#97;st' + '&#64;';
				addyde98c954c3c95ebfbb27164bba8948dd = addyde98c954c3c95ebfbb27164bba8948dd + 'sc&#97;cr' + '&#46;' + '&#111;rg';
				var addy_textde98c954c3c95ebfbb27164bba8948dd = 's&#101;c-&#101;&#97;st' + '&#64;' + 'sc&#97;cr' + '&#46;' + '&#111;rg';document.getElementById('cloakde98c954c3c95ebfbb27164bba8948dd').innerHTML += '<a ' + path + '\'' + prefix + ':' + addyde98c954c3c95ebfbb27164bba8948dd + '\'>'+addy_textde98c954c3c95ebfbb27164bba8948dd+'';
		
DTSTAMP:20260422T013624
DTSTART;TZID=Europe/London:20241123T103000
SEQUENCE:0
TRANSP:OPAQUE
END:VEVENT
END:VCALENDAR