BEGIN:VCALENDAR
VERSION:2.0
PRODID:-//jEvents 2.0 for Joomla//EN
CALSCALE:GREGORIAN
METHOD:PUBLISH
BEGIN:VTIMEZONE
TZID:Europe/London
BEGIN:STANDARD
DTSTART:20240125T160000
RDATE:20240331T020000
TZOFFSETFROM:+0100
TZOFFSETTO:+0000
TZNAME:Europe/London GMT
END:STANDARD
BEGIN:STANDARD
DTSTART:20241027T010000
RDATE:20250330T020000
TZOFFSETFROM:+0100
TZOFFSETTO:+0000
TZNAME:Europe/London GMT
END:STANDARD
BEGIN:STANDARD
DTSTART:20251026T010000
RDATE:20260329T020000
TZOFFSETFROM:+0100
TZOFFSETTO:+0000
TZNAME:Europe/London GMT
END:STANDARD
BEGIN:STANDARD
DTSTART:20261025T010000
RDATE:20270328T020000
TZOFFSETFROM:+0100
TZOFFSETTO:+0000
TZNAME:Europe/London GMT
END:STANDARD
BEGIN:STANDARD
DTSTART:20271031T010000
RDATE:20280326T020000
TZOFFSETFROM:+0100
TZOFFSETTO:+0000
TZNAME:Europe/London GMT
END:STANDARD
BEGIN:STANDARD
DTSTART:20281029T010000
RDATE:20290325T020000
TZOFFSETFROM:+0100
TZOFFSETTO:+0000
TZNAME:Europe/London GMT
END:STANDARD
BEGIN:STANDARD
DTSTART:20291028T010000
RDATE:20300331T020000
TZOFFSETFROM:+0100
TZOFFSETTO:+0000
TZNAME:Europe/London GMT
END:STANDARD
BEGIN:STANDARD
DTSTART:20301027T010000
RDATE:20310330T020000
TZOFFSETFROM:+0100
TZOFFSETTO:+0000
TZNAME:Europe/London GMT
END:STANDARD
BEGIN:DAYLIGHT
DTSTART:20240331T020000
RDATE:20241027T010000
TZOFFSETFROM:+0000
TZOFFSETTO:+0100
TZNAME:Europe/London BST
END:DAYLIGHT
BEGIN:DAYLIGHT
DTSTART:20250330T020000
RDATE:20251026T010000
TZOFFSETFROM:+0000
TZOFFSETTO:+0100
TZNAME:Europe/London BST
END:DAYLIGHT
BEGIN:DAYLIGHT
DTSTART:20260329T020000
RDATE:20261025T010000
TZOFFSETFROM:+0000
TZOFFSETTO:+0100
TZNAME:Europe/London BST
END:DAYLIGHT
BEGIN:DAYLIGHT
DTSTART:20270328T020000
RDATE:20271031T010000
TZOFFSETFROM:+0000
TZOFFSETTO:+0100
TZNAME:Europe/London BST
END:DAYLIGHT
BEGIN:DAYLIGHT
DTSTART:20280326T020000
RDATE:20281029T010000
TZOFFSETFROM:+0000
TZOFFSETTO:+0100
TZNAME:Europe/London BST
END:DAYLIGHT
BEGIN:DAYLIGHT
DTSTART:20290325T020000
RDATE:20291028T010000
TZOFFSETFROM:+0000
TZOFFSETTO:+0100
TZNAME:Europe/London BST
END:DAYLIGHT
BEGIN:DAYLIGHT
DTSTART:20300331T020000
RDATE:20301027T010000
TZOFFSETFROM:+0000
TZOFFSETTO:+0100
TZNAME:Europe/London BST
END:DAYLIGHT
END:VTIMEZONE
BEGIN:VEVENT
UID:25fc33ad6745331350cabb97754391ab
CATEGORIES:South
CREATED:20240925T094442
SUMMARY:Southern District Quiz Seaford
LOCATION:Seaford
URL;VALUE=URI:https://www.scacr.org/news-events/calendar/1345/southern-district-quiz-seaf
 ord?tmpl=component
DESCRIPTION: \nPlease gather your team for the quiz night in Seaford. \nPlease sign up 
 for the quiz with your team or as an individual using with the following li
 nk  (https://membermojo.co.uk/sussexbellringers/store)https://membermojo.co
 .uk/sussexbellringers/store (https://membermojo.co.uk/sussexbellringers/sto
 re) \nRinging 4pm to 5.30pm - St Leonard's church Seaford\n After at \nCros
 sways Church, Clinton Place, Seaford BN25 1NPT\n 5.30pm onwards\n Tea and c
 offee available \nFish and Chip supper at 6pm - veggie option available fol
 lowed by the Quiz \nTeams of 6.  £10 per head.  Limited space. \nEmail or t
 ext and I will reply with payment details \nNeed numbers and payment by Sat
 urday January 18th\n Cheers\n Debbie   Email; This email address is being p
 rotected from spambots. You need JavaScript enabled to view it.
				documen
 t.getElementById('cloak724aa32fbc541a6799ffc079f0dcf8c4').innerHTML = '';
	
 			var prefix = '&#109;a' + 'i&#108;' + '&#116;o';
				var path = 'hr' + 'e
 f' + '=';
				var addy724aa32fbc541a6799ffc079f0dcf8c4 = '&#101;v&#97;ns&#1
 01;nt4&#117;' + '&#64;';
				addy724aa32fbc541a6799ffc079f0dcf8c4 = addy724
 aa32fbc541a6799ffc079f0dcf8c4 + 'h&#111;tm&#97;&#105;l' + '&#46;' + 'c&#111
 ;' + '&#46;' + '&#117;k';
				var addy_text724aa32fbc541a6799ffc079f0dcf8c4
  = '&#101;v&#97;ns&#101;nt4&#117;' + '&#64;' + 'h&#111;tm&#97;&#105;l' + '&
 #46;' + 'c&#111;' + '&#46;' + '&#117;k';document.getElementById('cloak724aa
 32fbc541a6799ffc079f0dcf8c4').innerHTML += '<a ' + path + '\'' + prefix + '
 :' + addy724aa32fbc541a6799ffc079f0dcf8c4 + '\'>'+addy_text724aa32fbc541a67
 99ffc079f0dcf8c4+'';
		\n07944 586 442\nAll welcome\n This event was import
 ed from: https://www.scacr.org/news-events/calendar/1345/southern-district-
 quiz-seaford?tmpl=component (https://www.scacr.org/news-events/calendar/134
 5/southern-district-quiz-seaford?tmpl=component)
X-ALT-DESC;FMTTYPE=text/html:<p>&nbsp;</p><p><em>Please gather your team for the quiz night in Seaford.<
 /em><em>&nbsp;</em></p><p><em>Please sign up for the quiz with your team or
  as an individual using with the following link <a href="https://membermojo
 .co.uk/sussexbellringers/store"></a><a href="https://membermojo.co.uk/susse
 xbellringers/store">https://membermojo.co.uk/sussexbellringers/store</a> </
 em></p><p><em>Ringing 4pm to 5.30pm - St Leonard's church Seaford</em></p><
 p><em>&nbsp;</em><em>After at</em><em>&nbsp;</em></p><p><em>Crossways Churc
 h, Clinton Place, Seaford BN25 1NPT</em></p><p><em>&nbsp;</em><em>5.30pm on
 wards</em></p><p><em>&nbsp;</em><em>Tea and coffee available</em><em>&nbsp;
 </em></p><p><em>Fish and Chip supper at 6pm - veggie option available follo
 wed by the Quiz</em><em>&nbsp;</em></p><p><em>Teams of 6.&nbsp; £10 per hea
 d.&nbsp; Limited space.</em><em>&nbsp;</em></p><p><em>Email or text and I w
 ill reply with payment details</em><em>&nbsp;</em></p><p><em>Need numbers a
 nd payment by Saturday January 18th</em></p><p><em>&nbsp;</em><em>Cheers</e
 m></p><p><em>&nbsp;</em><em>Debbie&nbsp; &nbsp;</em>Email; <span id="cloak7
 24aa32fbc541a6799ffc079f0dcf8c4">This email address is being protected from
  spambots. You need JavaScript enabled to view it.</span><script type='text
 /javascript'>
				document.getElementById('cloak724aa32fbc541a6799ffc079f0d
 cf8c4').innerHTML = '';
				var prefix = '&#109;a' + 'i&#108;' + '&#116;o';
 
				var path = 'hr' + 'ef' + '=';
				var addy724aa32fbc541a6799ffc079f0dc
 f8c4 = '&#101;v&#97;ns&#101;nt4&#117;' + '&#64;';
				addy724aa32fbc541a679
 9ffc079f0dcf8c4 = addy724aa32fbc541a6799ffc079f0dcf8c4 + 'h&#111;tm&#97;&#1
 05;l' + '&#46;' + 'c&#111;' + '&#46;' + '&#117;k';
				var addy_text724aa32
 fbc541a6799ffc079f0dcf8c4 = '&#101;v&#97;ns&#101;nt4&#117;' + '&#64;' + 'h&
 #111;tm&#97;&#105;l' + '&#46;' + 'c&#111;' + '&#46;' + '&#117;k';document.g
 etElementById('cloak724aa32fbc541a6799ffc079f0dcf8c4').innerHTML += '<a ' +
  path + '\'' + prefix + ':' + addy724aa32fbc541a6799ffc079f0dcf8c4 + '\'>'+
 addy_text724aa32fbc541a6799ffc079f0dcf8c4+'<\/a>';
		</script></p><p>07944 
 586 442</p><p>All welcome</p> <a href="https://www.scacr.org/news-events/ca
 lendar/1345/southern-district-quiz-seaford?tmpl=component">This event was i
 mported from: https://www.scacr.org/news-events/calendar/1345/southern-dist
 rict-quiz-seaford?tmpl=component</a>CONTACT:Debbie Evans
DTSTAMP:20260420T065143
DTSTART;TZID=Europe/London:20250125T160000
SEQUENCE:0
TRANSP:OPAQUE
END:VEVENT
END:VCALENDAR