BEGIN:VCALENDAR
VERSION:2.0
PRODID:-//jEvents 2.0 for Joomla//EN
CALSCALE:GREGORIAN
METHOD:PUBLISH
BEGIN:VTIMEZONE
TZID:Europe/London
BEGIN:STANDARD
DTSTART:20231029T010000
RDATE:20240331T020000
TZOFFSETFROM:+0100
TZOFFSETTO:+0000
TZNAME:Europe/London GMT
END:STANDARD
BEGIN:STANDARD
DTSTART:20241027T010000
RDATE:20250330T020000
TZOFFSETFROM:+0100
TZOFFSETTO:+0000
TZNAME:Europe/London GMT
END:STANDARD
BEGIN:STANDARD
DTSTART:20251026T010000
RDATE:20260329T020000
TZOFFSETFROM:+0100
TZOFFSETTO:+0000
TZNAME:Europe/London GMT
END:STANDARD
BEGIN:STANDARD
DTSTART:20261025T010000
RDATE:20270328T020000
TZOFFSETFROM:+0100
TZOFFSETTO:+0000
TZNAME:Europe/London GMT
END:STANDARD
BEGIN:STANDARD
DTSTART:20271031T010000
RDATE:20280326T020000
TZOFFSETFROM:+0100
TZOFFSETTO:+0000
TZNAME:Europe/London GMT
END:STANDARD
BEGIN:STANDARD
DTSTART:20281029T010000
RDATE:20290325T020000
TZOFFSETFROM:+0100
TZOFFSETTO:+0000
TZNAME:Europe/London GMT
END:STANDARD
BEGIN:STANDARD
DTSTART:20291028T010000
RDATE:20300331T020000
TZOFFSETFROM:+0100
TZOFFSETTO:+0000
TZNAME:Europe/London GMT
END:STANDARD
BEGIN:STANDARD
DTSTART:20301027T010000
RDATE:20310330T020000
TZOFFSETFROM:+0100
TZOFFSETTO:+0000
TZNAME:Europe/London GMT
END:STANDARD
BEGIN:DAYLIGHT
DTSTART:20230928T000000
RDATE:20231029T010000
TZOFFSETFROM:+0000
TZOFFSETTO:+0100
TZNAME:Europe/London BST
END:DAYLIGHT
BEGIN:DAYLIGHT
DTSTART:20240331T020000
RDATE:20241027T010000
TZOFFSETFROM:+0000
TZOFFSETTO:+0100
TZNAME:Europe/London BST
END:DAYLIGHT
BEGIN:DAYLIGHT
DTSTART:20250330T020000
RDATE:20251026T010000
TZOFFSETFROM:+0000
TZOFFSETTO:+0100
TZNAME:Europe/London BST
END:DAYLIGHT
BEGIN:DAYLIGHT
DTSTART:20260329T020000
RDATE:20261025T010000
TZOFFSETFROM:+0000
TZOFFSETTO:+0100
TZNAME:Europe/London BST
END:DAYLIGHT
BEGIN:DAYLIGHT
DTSTART:20270328T020000
RDATE:20271031T010000
TZOFFSETFROM:+0000
TZOFFSETTO:+0100
TZNAME:Europe/London BST
END:DAYLIGHT
BEGIN:DAYLIGHT
DTSTART:20280326T020000
RDATE:20281029T010000
TZOFFSETFROM:+0000
TZOFFSETTO:+0100
TZNAME:Europe/London BST
END:DAYLIGHT
BEGIN:DAYLIGHT
DTSTART:20290325T020000
RDATE:20291028T010000
TZOFFSETFROM:+0000
TZOFFSETTO:+0100
TZNAME:Europe/London BST
END:DAYLIGHT
BEGIN:DAYLIGHT
DTSTART:20300331T020000
RDATE:20301027T010000
TZOFFSETFROM:+0000
TZOFFSETTO:+0100
TZNAME:Europe/London BST
END:DAYLIGHT
END:VTIMEZONE
BEGIN:VEVENT
UID:9f48d4458b5bf9d68bf20e72454851b2
CATEGORIES:East
CREATED:20240824T175820
SUMMARY:Eastern District Three Tower Practice
LOCATION:Brede\, Beckley\, Peasmarsh
URL;VALUE=URI:https://www.scacr.org/news-events/calendar/1343/eastern-district-three-towe
 r-practice?tmpl=component
DESCRIPTION:<p><strong>Eastern District Monthly Practice</strong></p><p><strong>Join us
  for the September event with three towers along the Kent border</strong></
 p><p>The confirmed schedule is:</p><ul><li>Brede 11:00-12:00</li><li>Lunch 
 (Own Arrangments)</li><li>Beckley 13:30-14:15</li><li>Peasmarsh 14:30-15:15
 </li></ul><p>We start the day at Brede, which once had a wharf and tramway,
  with ships coming up from Rye to supply the pumping station below the chur
 ch, which is on the hill (sadly the Steam Giants museum isn't open on the d
 ay we are visiting!).&nbsp; The church here houses the oldest bell we will 
 see today, one from c1475, and has a total of 6 bells, with the others bein
 g 17th and 20th century, the tenor being a healthy 13cwt.&nbsp;</p><p>Lunch
  is by own arrangement before heading off to Beckley, where the church of G
 rade I listed church of All Saints is on the western end of this elongated 
 village&nbsp; It is less than a mile from Northiam church as the crow files
 .&nbsp; There are 6 bells, dating from the 18th to 20th centuries, the teno
 r tipping the scales at a smidge over 12cwt.</p><p>We then move on to&nbsp;
 Peasmarsh, where this 9½cwt ring of six in the Grade I listed Norman church
  of St Peter &amp; St Paul.&nbsp; The six bells here are a mix of 17th and 
 19th century, with two "new" Dutch trebles from 1988.</p> <a href="https://
 www.scacr.org/news-events/calendar/1343/eastern-district-three-tower-practi
 ce?tmpl=component">This event was imported from: https://www.scacr.org/news
 -events/calendar/1343/eastern-district-three-tower-practice?tmpl=component<
 /a>CONTACT:This email address is being protected from spambots. You need JavaScript enabled to view it.
				document.getElementById('cloak67c5accf1aecbb61c1a2de484b26d706').innerHTML = '';
				var prefix = '&#109;a' + 'i&#108;' + '&#116;o';
				var path = 'hr' + 'ef' + '=';
				var addy67c5accf1aecbb61c1a2de484b26d706 = 's&#101;c-&#101;&#97;st' + '&#64;';
				addy67c5accf1aecbb61c1a2de484b26d706 = addy67c5accf1aecbb61c1a2de484b26d706 + 'sc&#97;cr' + '&#46;' + '&#111;rg';
				var addy_text67c5accf1aecbb61c1a2de484b26d706 = 's&#101;c-&#101;&#97;st' + '&#64;' + 'sc&#97;cr' + '&#46;' + '&#111;rg';document.getElementById('cloak67c5accf1aecbb61c1a2de484b26d706').innerHTML += '<a ' + path + '\'' + prefix + ':' + addy67c5accf1aecbb61c1a2de484b26d706 + '\'>'+addy_text67c5accf1aecbb61c1a2de484b26d706+'';
		
DTSTAMP:20260425T003733
DTSTART;TZID=Europe/London;VALUE=DATE:20240928
DTEND;TZID=Europe/London;VALUE=DATE:20240929
SEQUENCE:0
TRANSP:OPAQUE
END:VEVENT
END:VCALENDAR