BEGIN:VCALENDAR
VERSION:2.0
PRODID:-//jEvents 2.0 for Joomla//EN
CALSCALE:GREGORIAN
METHOD:PUBLISH
BEGIN:VTIMEZONE
TZID:Europe/London
BEGIN:STANDARD
DTSTART:20231029T010000
RDATE:20240331T020000
TZOFFSETFROM:+0100
TZOFFSETTO:+0000
TZNAME:Europe/London GMT
END:STANDARD
BEGIN:STANDARD
DTSTART:20241027T010000
RDATE:20250330T020000
TZOFFSETFROM:+0100
TZOFFSETTO:+0000
TZNAME:Europe/London GMT
END:STANDARD
BEGIN:STANDARD
DTSTART:20251026T010000
RDATE:20260329T020000
TZOFFSETFROM:+0100
TZOFFSETTO:+0000
TZNAME:Europe/London GMT
END:STANDARD
BEGIN:STANDARD
DTSTART:20261025T010000
RDATE:20270328T020000
TZOFFSETFROM:+0100
TZOFFSETTO:+0000
TZNAME:Europe/London GMT
END:STANDARD
BEGIN:STANDARD
DTSTART:20271031T010000
RDATE:20280326T020000
TZOFFSETFROM:+0100
TZOFFSETTO:+0000
TZNAME:Europe/London GMT
END:STANDARD
BEGIN:STANDARD
DTSTART:20281029T010000
RDATE:20290325T020000
TZOFFSETFROM:+0100
TZOFFSETTO:+0000
TZNAME:Europe/London GMT
END:STANDARD
BEGIN:STANDARD
DTSTART:20291028T010000
RDATE:20300331T020000
TZOFFSETFROM:+0100
TZOFFSETTO:+0000
TZNAME:Europe/London GMT
END:STANDARD
BEGIN:STANDARD
DTSTART:20301027T010000
RDATE:20310330T020000
TZOFFSETFROM:+0100
TZOFFSETTO:+0000
TZNAME:Europe/London GMT
END:STANDARD
BEGIN:DAYLIGHT
DTSTART:20230914T150000
RDATE:20231029T010000
TZOFFSETFROM:+0000
TZOFFSETTO:+0100
TZNAME:Europe/London BST
END:DAYLIGHT
BEGIN:DAYLIGHT
DTSTART:20240331T020000
RDATE:20241027T010000
TZOFFSETFROM:+0000
TZOFFSETTO:+0100
TZNAME:Europe/London BST
END:DAYLIGHT
BEGIN:DAYLIGHT
DTSTART:20250330T020000
RDATE:20251026T010000
TZOFFSETFROM:+0000
TZOFFSETTO:+0100
TZNAME:Europe/London BST
END:DAYLIGHT
BEGIN:DAYLIGHT
DTSTART:20260329T020000
RDATE:20261025T010000
TZOFFSETFROM:+0000
TZOFFSETTO:+0100
TZNAME:Europe/London BST
END:DAYLIGHT
BEGIN:DAYLIGHT
DTSTART:20270328T020000
RDATE:20271031T010000
TZOFFSETFROM:+0000
TZOFFSETTO:+0100
TZNAME:Europe/London BST
END:DAYLIGHT
BEGIN:DAYLIGHT
DTSTART:20280326T020000
RDATE:20281029T010000
TZOFFSETFROM:+0000
TZOFFSETTO:+0100
TZNAME:Europe/London BST
END:DAYLIGHT
BEGIN:DAYLIGHT
DTSTART:20290325T020000
RDATE:20291028T010000
TZOFFSETFROM:+0000
TZOFFSETTO:+0100
TZNAME:Europe/London BST
END:DAYLIGHT
BEGIN:DAYLIGHT
DTSTART:20300331T020000
RDATE:20301027T010000
TZOFFSETFROM:+0000
TZOFFSETTO:+0100
TZNAME:Europe/London BST
END:DAYLIGHT
END:VTIMEZONE
BEGIN:VEVENT
UID:630f80a7b7eb6a05f5372881e8249724
CATEGORIES:West
CREATED:20240817T201611
SUMMARY:Monthly 'Get Together'
LOCATION:Holy Trinity Church\, Bosham
URL;VALUE=URI:https://www.scacr.org/news-events/calendar/1334/monthly-get-together?tmpl=c
 omponent
DESCRIPTION:<p>Come along to the monthly event at this 6 bell tower!&nbsp; Everyone is 
 welcome and tea and cake will be available!&nbsp; The intention is to also 
 have a raffle in aid of BRF so please bring some change!&nbsp; Names for te
 a please by end of day Thursday 12th September to <span id="cloak2531be6b80
 c7b5903333303f0b2537c9">This email address is being protected from spambots
 . You need JavaScript enabled to view it.</span><script type='text/javascri
 pt'>
				document.getElementById('cloak2531be6b80c7b5903333303f0b2537c9').i
 nnerHTML = '';
				var prefix = '&#109;a' + 'i&#108;' + '&#116;o';
				var 
 path = 'hr' + 'ef' + '=';
				var addy2531be6b80c7b5903333303f0b2537c9 = 'n
 &#101;ws-w&#101;st' + '&#64;';
				addy2531be6b80c7b5903333303f0b2537c9 = a
 ddy2531be6b80c7b5903333303f0b2537c9 + 'sc&#97;cr' + '&#46;' + '&#111;rg';
	
 			var addy_text2531be6b80c7b5903333303f0b2537c9 = 'n&#101;ws-w&#101;st' + 
 '&#64;' + 'sc&#97;cr' + '&#46;' + '&#111;rg';document.getElementById('cloak
 2531be6b80c7b5903333303f0b2537c9').innerHTML += '<a ' + path + '\'' + prefi
 x + ':' + addy2531be6b80c7b5903333303f0b2537c9 + '\'>'+addy_text2531be6b80c
 7b5903333303f0b2537c9+'<\/a>';
		</script>&nbsp; &nbsp;(Mandy Rodgers)</p> 
 <a href="https://www.scacr.org/news-events/calendar/1334/monthly-get-togeth
 er?tmpl=component">This event was imported from: https://www.scacr.org/news
 -events/calendar/1334/monthly-get-together?tmpl=component</a>CONTACT:This email address is being protected from spambots. You need JavaScript enabled to view it.
				document.getElementById('cloak0c067606e4040f59b1d2cbe0f56f2fb4').innerHTML = '';
				var prefix = '&#109;a' + 'i&#108;' + '&#116;o';
				var path = 'hr' + 'ef' + '=';
				var addy0c067606e4040f59b1d2cbe0f56f2fb4 = 'n&#101;ws-w&#101;st' + '&#64;';
				addy0c067606e4040f59b1d2cbe0f56f2fb4 = addy0c067606e4040f59b1d2cbe0f56f2fb4 + 'sc&#97;cr' + '&#46;' + '&#111;rg';
				var addy_text0c067606e4040f59b1d2cbe0f56f2fb4 = 'n&#101;ws-w&#101;st' + '&#64;' + 'sc&#97;cr' + '&#46;' + '&#111;rg';document.getElementById('cloak0c067606e4040f59b1d2cbe0f56f2fb4').innerHTML += '<a ' + path + '\'' + prefix + ':' + addy0c067606e4040f59b1d2cbe0f56f2fb4 + '\'>'+addy_text0c067606e4040f59b1d2cbe0f56f2fb4+'';
		
DTSTAMP:20260424T123256
DTSTART;TZID=Europe/London:20240914T150000
DTEND;TZID=Europe/London:20240914T163000
SEQUENCE:0
TRANSP:OPAQUE
END:VEVENT
END:VCALENDAR