BEGIN:VCALENDAR
VERSION:2.0
PRODID:-//jEvents 2.0 for Joomla//EN
CALSCALE:GREGORIAN
METHOD:PUBLISH
BEGIN:VTIMEZONE
TZID:Europe/London
BEGIN:STANDARD
DTSTART:20231031T193000
RDATE:20240331T020000
TZOFFSETFROM:+0100
TZOFFSETTO:+0000
TZNAME:Europe/London GMT
END:STANDARD
BEGIN:STANDARD
DTSTART:20241027T010000
RDATE:20250330T020000
TZOFFSETFROM:+0100
TZOFFSETTO:+0000
TZNAME:Europe/London GMT
END:STANDARD
BEGIN:STANDARD
DTSTART:20251026T010000
RDATE:20260329T020000
TZOFFSETFROM:+0100
TZOFFSETTO:+0000
TZNAME:Europe/London GMT
END:STANDARD
BEGIN:STANDARD
DTSTART:20261025T010000
RDATE:20270328T020000
TZOFFSETFROM:+0100
TZOFFSETTO:+0000
TZNAME:Europe/London GMT
END:STANDARD
BEGIN:STANDARD
DTSTART:20271031T010000
RDATE:20280326T020000
TZOFFSETFROM:+0100
TZOFFSETTO:+0000
TZNAME:Europe/London GMT
END:STANDARD
BEGIN:STANDARD
DTSTART:20281029T010000
RDATE:20290325T020000
TZOFFSETFROM:+0100
TZOFFSETTO:+0000
TZNAME:Europe/London GMT
END:STANDARD
BEGIN:STANDARD
DTSTART:20291028T010000
RDATE:20300331T020000
TZOFFSETFROM:+0100
TZOFFSETTO:+0000
TZNAME:Europe/London GMT
END:STANDARD
BEGIN:STANDARD
DTSTART:20301027T010000
RDATE:20310330T020000
TZOFFSETFROM:+0100
TZOFFSETTO:+0000
TZNAME:Europe/London GMT
END:STANDARD
BEGIN:DAYLIGHT
DTSTART:20240331T020000
RDATE:20241027T010000
TZOFFSETFROM:+0000
TZOFFSETTO:+0100
TZNAME:Europe/London BST
END:DAYLIGHT
BEGIN:DAYLIGHT
DTSTART:20250330T020000
RDATE:20251026T010000
TZOFFSETFROM:+0000
TZOFFSETTO:+0100
TZNAME:Europe/London BST
END:DAYLIGHT
BEGIN:DAYLIGHT
DTSTART:20260329T020000
RDATE:20261025T010000
TZOFFSETFROM:+0000
TZOFFSETTO:+0100
TZNAME:Europe/London BST
END:DAYLIGHT
BEGIN:DAYLIGHT
DTSTART:20270328T020000
RDATE:20271031T010000
TZOFFSETFROM:+0000
TZOFFSETTO:+0100
TZNAME:Europe/London BST
END:DAYLIGHT
BEGIN:DAYLIGHT
DTSTART:20280326T020000
RDATE:20281029T010000
TZOFFSETFROM:+0000
TZOFFSETTO:+0100
TZNAME:Europe/London BST
END:DAYLIGHT
BEGIN:DAYLIGHT
DTSTART:20290325T020000
RDATE:20291028T010000
TZOFFSETFROM:+0000
TZOFFSETTO:+0100
TZNAME:Europe/London BST
END:DAYLIGHT
BEGIN:DAYLIGHT
DTSTART:20300331T020000
RDATE:20301027T010000
TZOFFSETFROM:+0000
TZOFFSETTO:+0100
TZNAME:Europe/London BST
END:DAYLIGHT
END:VTIMEZONE
BEGIN:VEVENT
UID:7cc6eba41f523b579ccdfbb9b5260efc
CATEGORIES:East
CREATED:20240808T153258
SUMMARY:Eastern District Triples Practice
LOCATION:Heathfield
URL;VALUE=URI:https://www.scacr.org/news-events/calendar/1319/eastern-district-triples-pr
 actice?tmpl=component
DESCRIPTION:<p><strong>Monthly triples practice at this spacious tower in the middle of
  the District.</strong></p><p>This event is ideal for:</p><ul><li>those who
  can ring plain hunt or hunt the treble to methods on five bells and want t
 o take the next step with a larger number of bells</li><li>those who can ri
 ng methods on 5 and would like to try the equivalent on 7</li><li>those who
  are competent on triples or major methods and principles but don't often g
 et the opportunity to do so in their own tower.</li></ul><p>...and everythi
 ng inbetween!</p> <a href="https://www.scacr.org/news-events/calendar/1319/
 eastern-district-triples-practice?tmpl=component">This event was imported f
 rom: https://www.scacr.org/news-events/calendar/1319/eastern-district-tripl
 es-practice?tmpl=component</a>CONTACT:This email address is being protected from spambots. You need JavaScript enabled to view it.
				document.getElementById('cloaka855da6f1fe94f63c3a25b693e86f329').innerHTML = '';
				var prefix = '&#109;a' + 'i&#108;' + '&#116;o';
				var path = 'hr' + 'ef' + '=';
				var addya855da6f1fe94f63c3a25b693e86f329 = 's&#101;c-&#101;&#97;st' + '&#64;';
				addya855da6f1fe94f63c3a25b693e86f329 = addya855da6f1fe94f63c3a25b693e86f329 + 'sc&#97;cr' + '&#46;' + '&#111;rg';
				var addy_texta855da6f1fe94f63c3a25b693e86f329 = 's&#101;c-&#101;&#97;st' + '&#64;' + 'sc&#97;cr' + '&#46;' + '&#111;rg';document.getElementById('cloaka855da6f1fe94f63c3a25b693e86f329').innerHTML += '<a ' + path + '\'' + prefix + ':' + addya855da6f1fe94f63c3a25b693e86f329 + '\'>'+addy_texta855da6f1fe94f63c3a25b693e86f329+'';
		
DTSTAMP:20260422T160938
DTSTART;TZID=Europe/London:20241031T193000
DTEND;TZID=Europe/London:20241031T210000
SEQUENCE:0
TRANSP:OPAQUE
END:VEVENT
END:VCALENDAR