BEGIN:VCALENDAR
VERSION:2.0
PRODID:-//jEvents 2.0 for Joomla//EN
CALSCALE:GREGORIAN
METHOD:PUBLISH
BEGIN:VTIMEZONE
TZID:Europe/London
BEGIN:STANDARD
DTSTART:20231029T010000
RDATE:20240331T020000
TZOFFSETFROM:+0100
TZOFFSETTO:+0000
TZNAME:Europe/London GMT
END:STANDARD
BEGIN:STANDARD
DTSTART:20241027T010000
RDATE:20250330T020000
TZOFFSETFROM:+0100
TZOFFSETTO:+0000
TZNAME:Europe/London GMT
END:STANDARD
BEGIN:STANDARD
DTSTART:20251026T010000
RDATE:20260329T020000
TZOFFSETFROM:+0100
TZOFFSETTO:+0000
TZNAME:Europe/London GMT
END:STANDARD
BEGIN:STANDARD
DTSTART:20261025T010000
RDATE:20270328T020000
TZOFFSETFROM:+0100
TZOFFSETTO:+0000
TZNAME:Europe/London GMT
END:STANDARD
BEGIN:STANDARD
DTSTART:20271031T010000
RDATE:20280326T020000
TZOFFSETFROM:+0100
TZOFFSETTO:+0000
TZNAME:Europe/London GMT
END:STANDARD
BEGIN:STANDARD
DTSTART:20281029T010000
RDATE:20290325T020000
TZOFFSETFROM:+0100
TZOFFSETTO:+0000
TZNAME:Europe/London GMT
END:STANDARD
BEGIN:STANDARD
DTSTART:20291028T010000
RDATE:20300331T020000
TZOFFSETFROM:+0100
TZOFFSETTO:+0000
TZNAME:Europe/London GMT
END:STANDARD
BEGIN:STANDARD
DTSTART:20301027T010000
RDATE:20310330T020000
TZOFFSETFROM:+0100
TZOFFSETTO:+0000
TZNAME:Europe/London GMT
END:STANDARD
BEGIN:DAYLIGHT
DTSTART:20230712T193000
RDATE:20231029T010000
TZOFFSETFROM:+0000
TZOFFSETTO:+0100
TZNAME:Europe/London BST
END:DAYLIGHT
BEGIN:DAYLIGHT
DTSTART:20240331T020000
RDATE:20241027T010000
TZOFFSETFROM:+0000
TZOFFSETTO:+0100
TZNAME:Europe/London BST
END:DAYLIGHT
BEGIN:DAYLIGHT
DTSTART:20250330T020000
RDATE:20251026T010000
TZOFFSETFROM:+0000
TZOFFSETTO:+0100
TZNAME:Europe/London BST
END:DAYLIGHT
BEGIN:DAYLIGHT
DTSTART:20260329T020000
RDATE:20261025T010000
TZOFFSETFROM:+0000
TZOFFSETTO:+0100
TZNAME:Europe/London BST
END:DAYLIGHT
BEGIN:DAYLIGHT
DTSTART:20270328T020000
RDATE:20271031T010000
TZOFFSETFROM:+0000
TZOFFSETTO:+0100
TZNAME:Europe/London BST
END:DAYLIGHT
BEGIN:DAYLIGHT
DTSTART:20280326T020000
RDATE:20281029T010000
TZOFFSETFROM:+0000
TZOFFSETTO:+0100
TZNAME:Europe/London BST
END:DAYLIGHT
BEGIN:DAYLIGHT
DTSTART:20290325T020000
RDATE:20291028T010000
TZOFFSETFROM:+0000
TZOFFSETTO:+0100
TZNAME:Europe/London BST
END:DAYLIGHT
BEGIN:DAYLIGHT
DTSTART:20300331T020000
RDATE:20301027T010000
TZOFFSETFROM:+0000
TZOFFSETTO:+0100
TZNAME:Europe/London BST
END:DAYLIGHT
END:VTIMEZONE
BEGIN:VEVENT
UID:fb217197b1ff01d3edc557bb25e79027
CATEGORIES:East
CREATED:20240711T191858
SUMMARY:Practice For All
LOCATION:Eastbourne All Saints'
URL;VALUE=URI:https://www.scacr.org/news-events/calendar/1309/practice-for-all?tmpl=compo
 nent
DESCRIPTION:This Friday evening practice at All Saints in Eastbourne (8 bells) is aimed
  at everyone who can ring a bell, as well as being to welcome along anyone 
 who is interested in learning to ring.\nThe tower is a short walk (approx h
 alf a mile) from the station and town centre bus stops, and also near the s
 eafront by the Wish Tower, with the beach and gardens between there and Hol
 lywell, if you fancy a stroll beforehand.\nIt would be nice to see as many 
 ringers as possible, from any district, supporting this practice, as the to
 wer currently does not have enough ringers to form a regular band.\nThe Eas
 tern District also have regular practices for those learning doubles and tr
 iples methods, and also once a month have a combined Eastbourne practice, w
 here all the bands in the town join together to help each other and improve
  their ringing.  Please see Look To and also the monthly calendar e-mail, a
 s well as the website for more details.\n This event was imported from: htt
 ps://www.scacr.org/news-events/calendar/1309/practice-for-all?tmpl=componen
 t (https://www.scacr.org/news-events/calendar/1309/practice-for-all?tmpl=co
 mponent)
X-ALT-DESC;FMTTYPE=text/html:<p>This Friday evening practice at All Saints in Eastbourne (8 bells) is ai
 med at everyone who can ring a bell, as well as being to welcome along anyo
 ne who is interested in learning to ring.</p><p>The tower is a short walk (
 approx half a mile) from the station and town centre bus stops, and also ne
 ar the seafront by the Wish Tower, with the beach and gardens between there
  and Hollywell, if you fancy a stroll beforehand.</p><p>It would be nice to
  see as many ringers as possible, from any district, supporting this practi
 ce, as the tower currently does not have enough ringers to form a regular b
 and.</p><p><em>The Eastern District also have regular practices for those l
 earning doubles and triples methods, and also once a month have a combined 
 Eastbourne practice, where all the bands in the town join together to help 
 each other and improve their ringing.&nbsp; Please see Look To and also the
  monthly calendar e-mail, as well as the website for more details.</em></p>
  <a href="https://www.scacr.org/news-events/calendar/1309/practice-for-all?
 tmpl=component">This event was imported from: https://www.scacr.org/news-ev
 ents/calendar/1309/practice-for-all?tmpl=component</a>CONTACT:This email address is being protected from spambots. You need JavaScript enabled to view it.
				document.getElementById('cloakbdb958ffd8117e586d5eda2fdc93312f').innerHTML = '';
				var prefix = '&#109;a' + 'i&#108;' + '&#116;o';
				var path = 'hr' + 'ef' + '=';
				var addybdb958ffd8117e586d5eda2fdc93312f = 's&#101;c-&#101;&#97;st' + '&#64;';
				addybdb958ffd8117e586d5eda2fdc93312f = addybdb958ffd8117e586d5eda2fdc93312f + 'sc&#97;cr' + '&#46;' + '&#111;rg';
				var addy_textbdb958ffd8117e586d5eda2fdc93312f = 's&#101;c-&#101;&#97;st' + '&#64;' + 'sc&#97;cr' + '&#46;' + '&#111;rg';document.getElementById('cloakbdb958ffd8117e586d5eda2fdc93312f').innerHTML += '<a ' + path + '\'' + prefix + ':' + addybdb958ffd8117e586d5eda2fdc93312f + '\'>'+addy_textbdb958ffd8117e586d5eda2fdc93312f+'';
		
DTSTAMP:20260421T004113
DTSTART;TZID=Europe/London:20240712T193000
SEQUENCE:0
TRANSP:OPAQUE
END:VEVENT
END:VCALENDAR