BEGIN:VCALENDAR
VERSION:2.0
PRODID:-//jEvents 2.0 for Joomla//EN
CALSCALE:GREGORIAN
METHOD:PUBLISH
BEGIN:VTIMEZONE
TZID:Europe/London
BEGIN:STANDARD
DTSTART:20231029T010000
RDATE:20240331T020000
TZOFFSETFROM:+0100
TZOFFSETTO:+0000
TZNAME:Europe/London GMT
END:STANDARD
BEGIN:STANDARD
DTSTART:20241027T010000
RDATE:20250330T020000
TZOFFSETFROM:+0100
TZOFFSETTO:+0000
TZNAME:Europe/London GMT
END:STANDARD
BEGIN:STANDARD
DTSTART:20251026T010000
RDATE:20260329T020000
TZOFFSETFROM:+0100
TZOFFSETTO:+0000
TZNAME:Europe/London GMT
END:STANDARD
BEGIN:STANDARD
DTSTART:20261025T010000
RDATE:20270328T020000
TZOFFSETFROM:+0100
TZOFFSETTO:+0000
TZNAME:Europe/London GMT
END:STANDARD
BEGIN:STANDARD
DTSTART:20271031T010000
RDATE:20280326T020000
TZOFFSETFROM:+0100
TZOFFSETTO:+0000
TZNAME:Europe/London GMT
END:STANDARD
BEGIN:STANDARD
DTSTART:20281029T010000
RDATE:20290325T020000
TZOFFSETFROM:+0100
TZOFFSETTO:+0000
TZNAME:Europe/London GMT
END:STANDARD
BEGIN:STANDARD
DTSTART:20291028T010000
RDATE:20300331T020000
TZOFFSETFROM:+0100
TZOFFSETTO:+0000
TZNAME:Europe/London GMT
END:STANDARD
BEGIN:STANDARD
DTSTART:20301027T010000
RDATE:20310330T020000
TZOFFSETFROM:+0100
TZOFFSETTO:+0000
TZNAME:Europe/London GMT
END:STANDARD
BEGIN:DAYLIGHT
DTSTART:20230802T193000
RDATE:20231029T010000
TZOFFSETFROM:+0000
TZOFFSETTO:+0100
TZNAME:Europe/London BST
END:DAYLIGHT
BEGIN:DAYLIGHT
DTSTART:20240331T020000
RDATE:20241027T010000
TZOFFSETFROM:+0000
TZOFFSETTO:+0100
TZNAME:Europe/London BST
END:DAYLIGHT
BEGIN:DAYLIGHT
DTSTART:20250330T020000
RDATE:20251026T010000
TZOFFSETFROM:+0000
TZOFFSETTO:+0100
TZNAME:Europe/London BST
END:DAYLIGHT
BEGIN:DAYLIGHT
DTSTART:20260329T020000
RDATE:20261025T010000
TZOFFSETFROM:+0000
TZOFFSETTO:+0100
TZNAME:Europe/London BST
END:DAYLIGHT
BEGIN:DAYLIGHT
DTSTART:20270328T020000
RDATE:20271031T010000
TZOFFSETFROM:+0000
TZOFFSETTO:+0100
TZNAME:Europe/London BST
END:DAYLIGHT
BEGIN:DAYLIGHT
DTSTART:20280326T020000
RDATE:20281029T010000
TZOFFSETFROM:+0000
TZOFFSETTO:+0100
TZNAME:Europe/London BST
END:DAYLIGHT
BEGIN:DAYLIGHT
DTSTART:20290325T020000
RDATE:20291028T010000
TZOFFSETFROM:+0000
TZOFFSETTO:+0100
TZNAME:Europe/London BST
END:DAYLIGHT
BEGIN:DAYLIGHT
DTSTART:20300331T020000
RDATE:20301027T010000
TZOFFSETFROM:+0000
TZOFFSETTO:+0100
TZNAME:Europe/London BST
END:DAYLIGHT
END:VTIMEZONE
BEGIN:VEVENT
UID:a460f42e93938ddf5138c27dc09b5cff
CATEGORIES:West
CREATED:20240609T124750
SUMMARY:General 8 Bell Practice
LOCATION:St Nicholas Church\, Arundel. 
URL;VALUE=URI:https://www.scacr.org/news-events/calendar/1301/general-8-bell-practice?tmp
 l=component
DESCRIPTION:<p>&nbsp;Come along and enjoy ringing on this lovely ring of 8 bells in a p
 icturesque setting!&nbsp; &nbsp;All levels are welcome !!&nbsp; A great opp
 ortunity if you normally ring on 6 bells, to stretch the mind into counting
  up to 8!&nbsp; Rounds, call changes, Plain Hunt, Grandsire and Bob Triples
  can be practiced so do come and give it a try!</p><p>Any queries contact J
 anice on 07890804339 or e mail <span id="cloakb67fb747ed452169460ae0988df10
 d65">This email address is being protected from spambots. You need JavaScri
 pt enabled to view it.</span><script type='text/javascript'>
				document.g
 etElementById('cloakb67fb747ed452169460ae0988df10d65').innerHTML = '';
				
 var prefix = '&#109;a' + 'i&#108;' + '&#116;o';
				var path = 'hr' + 'ef' 
 + '=';
				var addyb67fb747ed452169460ae0988df10d65 = 's&#101;c-w&#101;st' 
 + '&#64;';
				addyb67fb747ed452169460ae0988df10d65 = addyb67fb747ed4521694
 60ae0988df10d65 + 'sc&#97;cr' + '&#46;' + '&#111;rg';
				var addy_textb67f
 b747ed452169460ae0988df10d65 = 's&#101;c-w&#101;st' + '&#64;' + 'sc&#97;cr'
  + '&#46;' + '&#111;rg';document.getElementById('cloakb67fb747ed452169460ae
 0988df10d65').innerHTML += '<a ' + path + '\'' + prefix + ':' + addyb67fb74
 7ed452169460ae0988df10d65 + '\'>'+addy_textb67fb747ed452169460ae0988df10d65
 +'<\/a>';
		</script></p> <a href="https://www.scacr.org/news-events/calend
 ar/1301/general-8-bell-practice?tmpl=component">This event was imported fro
 m: https://www.scacr.org/news-events/calendar/1301/general-8-bell-practice?
 tmpl=component</a>CONTACT:This email address is being protected from spambots. You need JavaScript enabled to view it.
				document.getElementById('cloake745a9661d7a4c9134e8e74ffd0727c1').innerHTML = '';
				var prefix = '&#109;a' + 'i&#108;' + '&#116;o';
				var path = 'hr' + 'ef' + '=';
				var addye745a9661d7a4c9134e8e74ffd0727c1 = 's&#101;c-w&#101;st' + '&#64;';
				addye745a9661d7a4c9134e8e74ffd0727c1 = addye745a9661d7a4c9134e8e74ffd0727c1 + 'sc&#97;cr' + '&#46;' + '&#111;rg';
				var addy_texte745a9661d7a4c9134e8e74ffd0727c1 = 's&#101;c-w&#101;st' + '&#64;' + 'sc&#97;cr' + '&#46;' + '&#111;rg';document.getElementById('cloake745a9661d7a4c9134e8e74ffd0727c1').innerHTML += '<a ' + path + '\'' + prefix + ':' + addye745a9661d7a4c9134e8e74ffd0727c1 + '\'>'+addy_texte745a9661d7a4c9134e8e74ffd0727c1+'';
		
DTSTAMP:20260421T055523
DTSTART;TZID=Europe/London:20240802T193000
DTEND;TZID=Europe/London:20240802T210000
SEQUENCE:0
TRANSP:OPAQUE
END:VEVENT
END:VCALENDAR