BEGIN:VCALENDAR
VERSION:2.0
PRODID:-//jEvents 2.0 for Joomla//EN
CALSCALE:GREGORIAN
METHOD:PUBLISH
BEGIN:VTIMEZONE
TZID:Europe/London
BEGIN:STANDARD
DTSTART:20231029T010000
RDATE:20240331T020000
TZOFFSETFROM:+0100
TZOFFSETTO:+0000
TZNAME:Europe/London GMT
END:STANDARD
BEGIN:STANDARD
DTSTART:20241027T010000
RDATE:20250330T020000
TZOFFSETFROM:+0100
TZOFFSETTO:+0000
TZNAME:Europe/London GMT
END:STANDARD
BEGIN:STANDARD
DTSTART:20251026T010000
RDATE:20260329T020000
TZOFFSETFROM:+0100
TZOFFSETTO:+0000
TZNAME:Europe/London GMT
END:STANDARD
BEGIN:STANDARD
DTSTART:20261025T010000
RDATE:20270328T020000
TZOFFSETFROM:+0100
TZOFFSETTO:+0000
TZNAME:Europe/London GMT
END:STANDARD
BEGIN:STANDARD
DTSTART:20271031T010000
RDATE:20280326T020000
TZOFFSETFROM:+0100
TZOFFSETTO:+0000
TZNAME:Europe/London GMT
END:STANDARD
BEGIN:STANDARD
DTSTART:20281029T010000
RDATE:20290325T020000
TZOFFSETFROM:+0100
TZOFFSETTO:+0000
TZNAME:Europe/London GMT
END:STANDARD
BEGIN:STANDARD
DTSTART:20291028T010000
RDATE:20300331T020000
TZOFFSETFROM:+0100
TZOFFSETTO:+0000
TZNAME:Europe/London GMT
END:STANDARD
BEGIN:STANDARD
DTSTART:20301027T010000
RDATE:20310330T020000
TZOFFSETFROM:+0100
TZOFFSETTO:+0000
TZNAME:Europe/London GMT
END:STANDARD
BEGIN:DAYLIGHT
DTSTART:20230708T193000
RDATE:20231029T010000
TZOFFSETFROM:+0000
TZOFFSETTO:+0100
TZNAME:Europe/London BST
END:DAYLIGHT
BEGIN:DAYLIGHT
DTSTART:20240331T020000
RDATE:20241027T010000
TZOFFSETFROM:+0000
TZOFFSETTO:+0100
TZNAME:Europe/London BST
END:DAYLIGHT
BEGIN:DAYLIGHT
DTSTART:20250330T020000
RDATE:20251026T010000
TZOFFSETFROM:+0000
TZOFFSETTO:+0100
TZNAME:Europe/London BST
END:DAYLIGHT
BEGIN:DAYLIGHT
DTSTART:20260329T020000
RDATE:20261025T010000
TZOFFSETFROM:+0000
TZOFFSETTO:+0100
TZNAME:Europe/London BST
END:DAYLIGHT
BEGIN:DAYLIGHT
DTSTART:20270328T020000
RDATE:20271031T010000
TZOFFSETFROM:+0000
TZOFFSETTO:+0100
TZNAME:Europe/London BST
END:DAYLIGHT
BEGIN:DAYLIGHT
DTSTART:20280326T020000
RDATE:20281029T010000
TZOFFSETFROM:+0000
TZOFFSETTO:+0100
TZNAME:Europe/London BST
END:DAYLIGHT
BEGIN:DAYLIGHT
DTSTART:20290325T020000
RDATE:20291028T010000
TZOFFSETFROM:+0000
TZOFFSETTO:+0100
TZNAME:Europe/London BST
END:DAYLIGHT
BEGIN:DAYLIGHT
DTSTART:20300331T020000
RDATE:20301027T010000
TZOFFSETFROM:+0000
TZOFFSETTO:+0100
TZNAME:Europe/London BST
END:DAYLIGHT
END:VTIMEZONE
BEGIN:VEVENT
UID:3402f25d85d8f525ca35eb1b02cd4a6f
CATEGORIES:West
CREATED:20240609T123002
SUMMARY:Surprise Minor Simulator Practice
LOCATION:St Mary's Church\, Stoughton
URL;VALUE=URI:https://www.scacr.org/news-events/calendar/1296/surprise-minor-simulator-pr
 actice?tmpl=component
DESCRIPTION:This is a regular practice is held every second Monday of the month!\nCurre
 nt methods rung are: Cambridge, London, Norwich, Carlisle and Beverley!  Th
 e idea is to consolidate them and start splicing them!!  Other methods mayb
 e added as and when.\nDon't br put off if you are unable to ring all these 
 methods or can't ring spliced - there are a range of abilities and it is a 
 practice so an opportunity to have a go!!\nPlease let Joanna Woodcock know 
 if you intend to go along on This email address is being protected from spa
 mbots. You need JavaScript enabled to view it.
				document.getElementById(
 'cloak8a43471b7fe8edb18e952a559cb5139a').innerHTML = '';
				var prefix = '
 &#109;a' + 'i&#108;' + '&#116;o';
				var path = 'hr' + 'ef' + '=';
				var
  addy8a43471b7fe8edb18e952a559cb5139a = 'd&#101;&#97;nl&#97;n&#101;&#101;nd
 ' + '&#64;';
				addy8a43471b7fe8edb18e952a559cb5139a = addy8a43471b7fe8edb
 18e952a559cb5139a + 'gm&#97;&#105;l' + '&#46;' + 'c&#111;m';
				var addy_t
 ext8a43471b7fe8edb18e952a559cb5139a = 'd&#101;&#97;nl&#97;n&#101;&#101;nd' 
 + '&#64;' + 'gm&#97;&#105;l' + '&#46;' + 'c&#111;m';document.getElementById
 ('cloak8a43471b7fe8edb18e952a559cb5139a').innerHTML += '<a ' + path + '\'' 
 + prefix + ':' + addy8a43471b7fe8edb18e952a559cb5139a + '\'>'+addy_text8a43
 471b7fe8edb18e952a559cb5139a+'';
		\nThere is ample on-street parking in th
 e village and limited, blue badge parking up at the track at the church.  T
 he farmyard car park to the left of the track is private and so please do n
 ot use!\nThere are no toilets in the church - nearest facilities are in the
  Hare and Hounds pub approx 300 m away.\nIf there is plenty of rain - it ma
 y be handy to wear wellies or at least have some in the car!!!\nContact the
  Tower Captain if you have any other questions!  Tim Wright - This email ad
 dress is being protected from spambots. You need JavaScript enabled to view
  it.
				document.getElementById('cloak924d27e3bfb48d0f606f6aab74ffa1b4').i
 nnerHTML = '';
				var prefix = '&#109;a' + 'i&#108;' + '&#116;o';
				var 
 path = 'hr' + 'ef' + '=';
				var addy924d27e3bfb48d0f606f6aab74ffa1b4 = 't
 cf.wr&#105;ght' + '&#64;';
				addy924d27e3bfb48d0f606f6aab74ffa1b4 = addy9
 24d27e3bfb48d0f606f6aab74ffa1b4 + 'bt&#105;nt&#101;rn&#101;t' + '&#46;' + '
 c&#111;m';
				var addy_text924d27e3bfb48d0f606f6aab74ffa1b4 = 'tcf.wr&#105
 ;ght' + '&#64;' + 'bt&#105;nt&#101;rn&#101;t' + '&#46;' + 'c&#111;m';docume
 nt.getElementById('cloak924d27e3bfb48d0f606f6aab74ffa1b4').innerHTML += '<a
  ' + path + '\'' + prefix + ':' + addy924d27e3bfb48d0f606f6aab74ffa1b4 + '\
 '>'+addy_text924d27e3bfb48d0f606f6aab74ffa1b4+'';
		\n This event was impor
 ted from: https://www.scacr.org/news-events/calendar/1296/surprise-minor-si
 mulator-practice?tmpl=component (https://www.scacr.org/news-events/calendar
 /1296/surprise-minor-simulator-practice?tmpl=component)
X-ALT-DESC;FMTTYPE=text/html:<p>This is a regular practice is held every second Monday of the month!</p>
 <p>Current methods rung are: Cambridge, London, Norwich, Carlisle and Bever
 ley!&nbsp; The idea is to consolidate them and start splicing them!!&nbsp; 
 Other methods maybe added as and when.</p><p>Don't br put off if you are un
 able to ring all these methods or can't ring spliced - there are a range of
  abilities and it is a practice so an opportunity to have a go!!</p><p>Plea
 se let Joanna Woodcock know if you intend to go along on <span id="cloak8a4
 3471b7fe8edb18e952a559cb5139a">This email address is being protected from s
 pambots. You need JavaScript enabled to view it.</span><script type='text/j
 avascript'>
				document.getElementById('cloak8a43471b7fe8edb18e952a559cb51
 39a').innerHTML = '';
				var prefix = '&#109;a' + 'i&#108;' + '&#116;o';
	
 			var path = 'hr' + 'ef' + '=';
				var addy8a43471b7fe8edb18e952a559cb513
 9a = 'd&#101;&#97;nl&#97;n&#101;&#101;nd' + '&#64;';
				addy8a43471b7fe8ed
 b18e952a559cb5139a = addy8a43471b7fe8edb18e952a559cb5139a + 'gm&#97;&#105;l
 ' + '&#46;' + 'c&#111;m';
				var addy_text8a43471b7fe8edb18e952a559cb5139a
  = 'd&#101;&#97;nl&#97;n&#101;&#101;nd' + '&#64;' + 'gm&#97;&#105;l' + '&#4
 6;' + 'c&#111;m';document.getElementById('cloak8a43471b7fe8edb18e952a559cb5
 139a').innerHTML += '<a ' + path + '\'' + prefix + ':' + addy8a43471b7fe8ed
 b18e952a559cb5139a + '\'>'+addy_text8a43471b7fe8edb18e952a559cb5139a+'<\/a>
 ';
		</script></p><p>There is ample on-street parking in the village and li
 mited, blue badge parking up at the track at the church.&nbsp; The farmyard
  car park to the left of the track is private and so please do not use!</p>
 <p>There are no toilets in the church - nearest facilities are in the Hare 
 and Hounds pub approx 300 m away.</p><p>If there is plenty of rain - it may
  be handy to wear wellies or at least have some in the car!!!</p><p>Contact
  the Tower Captain if you have any other questions!&nbsp; Tim Wright - <spa
 n id="cloak924d27e3bfb48d0f606f6aab74ffa1b4">This email address is being pr
 otected from spambots. You need JavaScript enabled to view it.</span><scrip
 t type='text/javascript'>
				document.getElementById('cloak924d27e3bfb48d0
 f606f6aab74ffa1b4').innerHTML = '';
				var prefix = '&#109;a' + 'i&#108;' 
 + '&#116;o';
				var path = 'hr' + 'ef' + '=';
				var addy924d27e3bfb48d0f
 606f6aab74ffa1b4 = 'tcf.wr&#105;ght' + '&#64;';
				addy924d27e3bfb48d0f606
 f6aab74ffa1b4 = addy924d27e3bfb48d0f606f6aab74ffa1b4 + 'bt&#105;nt&#101;rn&
 #101;t' + '&#46;' + 'c&#111;m';
				var addy_text924d27e3bfb48d0f606f6aab74
 ffa1b4 = 'tcf.wr&#105;ght' + '&#64;' + 'bt&#105;nt&#101;rn&#101;t' + '&#46;
 ' + 'c&#111;m';document.getElementById('cloak924d27e3bfb48d0f606f6aab74ffa1
 b4').innerHTML += '<a ' + path + '\'' + prefix + ':' + addy924d27e3bfb48d0f
 606f6aab74ffa1b4 + '\'>'+addy_text924d27e3bfb48d0f606f6aab74ffa1b4+'<\/a>';
 
		</script></p> <a href="https://www.scacr.org/news-events/calendar/1296/s
 urprise-minor-simulator-practice?tmpl=component">This event was imported fr
 om: https://www.scacr.org/news-events/calendar/1296/surprise-minor-simulato
 r-practice?tmpl=component</a>CONTACT:Joanna Woodcock This email address is being protected from spambots. You need JavaScript enabled to view it.
				document.getElementById('cloakea8f2893e9398c45e128488016edd974').innerHTML = '';
				var prefix = '&#109;a' + 'i&#108;' + '&#116;o';
				var path = 'hr' + 'ef' + '=';
				var addyea8f2893e9398c45e128488016edd974 = 'd&#101;&#97;nl&#97;n&#101;&#101;nd' + '&#64;';
				addyea8f2893e9398c45e128488016edd974 = addyea8f2893e9398c45e128488016edd974 + 'gm&#97;&#105;l' + '&#46;' + 'c&#111;m';
				var addy_textea8f2893e9398c45e128488016edd974 = 'd&#101;&#97;nl&#97;n&#101;&#101;nd' + '&#64;' + 'gm&#97;&#105;l' + '&#46;' + 'c&#111;m';document.getElementById('cloakea8f2893e9398c45e128488016edd974').innerHTML += '<a ' + path + '\'' + prefix + ':' + addyea8f2893e9398c45e128488016edd974 + '\'>'+addy_textea8f2893e9398c45e128488016edd974+'';
		
DTSTAMP:20260423T094514
DTSTART;TZID=Europe/London:20240708T193000
DTEND;TZID=Europe/London:20240708T210000
SEQUENCE:0
TRANSP:OPAQUE
END:VEVENT
END:VCALENDAR