BEGIN:VCALENDAR
VERSION:2.0
PRODID:-//jEvents 2.0 for Joomla//EN
CALSCALE:GREGORIAN
METHOD:PUBLISH
BEGIN:VTIMEZONE
TZID:Europe/London
BEGIN:STANDARD
DTSTART:20231029T010000
RDATE:20240331T020000
TZOFFSETFROM:+0100
TZOFFSETTO:+0000
TZNAME:Europe/London GMT
END:STANDARD
BEGIN:STANDARD
DTSTART:20241027T010000
RDATE:20250330T020000
TZOFFSETFROM:+0100
TZOFFSETTO:+0000
TZNAME:Europe/London GMT
END:STANDARD
BEGIN:STANDARD
DTSTART:20251026T010000
RDATE:20260329T020000
TZOFFSETFROM:+0100
TZOFFSETTO:+0000
TZNAME:Europe/London GMT
END:STANDARD
BEGIN:STANDARD
DTSTART:20261025T010000
RDATE:20270328T020000
TZOFFSETFROM:+0100
TZOFFSETTO:+0000
TZNAME:Europe/London GMT
END:STANDARD
BEGIN:STANDARD
DTSTART:20271031T010000
RDATE:20280326T020000
TZOFFSETFROM:+0100
TZOFFSETTO:+0000
TZNAME:Europe/London GMT
END:STANDARD
BEGIN:STANDARD
DTSTART:20281029T010000
RDATE:20290325T020000
TZOFFSETFROM:+0100
TZOFFSETTO:+0000
TZNAME:Europe/London GMT
END:STANDARD
BEGIN:STANDARD
DTSTART:20291028T010000
RDATE:20300331T020000
TZOFFSETFROM:+0100
TZOFFSETTO:+0000
TZNAME:Europe/London GMT
END:STANDARD
BEGIN:STANDARD
DTSTART:20301027T010000
RDATE:20310330T020000
TZOFFSETFROM:+0100
TZOFFSETTO:+0000
TZNAME:Europe/London GMT
END:STANDARD
BEGIN:DAYLIGHT
DTSTART:20230504T133000
RDATE:20231029T010000
TZOFFSETFROM:+0000
TZOFFSETTO:+0100
TZNAME:Europe/London BST
END:DAYLIGHT
BEGIN:DAYLIGHT
DTSTART:20240331T020000
RDATE:20241027T010000
TZOFFSETFROM:+0000
TZOFFSETTO:+0100
TZNAME:Europe/London BST
END:DAYLIGHT
BEGIN:DAYLIGHT
DTSTART:20250330T020000
RDATE:20251026T010000
TZOFFSETFROM:+0000
TZOFFSETTO:+0100
TZNAME:Europe/London BST
END:DAYLIGHT
BEGIN:DAYLIGHT
DTSTART:20260329T020000
RDATE:20261025T010000
TZOFFSETFROM:+0000
TZOFFSETTO:+0100
TZNAME:Europe/London BST
END:DAYLIGHT
BEGIN:DAYLIGHT
DTSTART:20270328T020000
RDATE:20271031T010000
TZOFFSETFROM:+0000
TZOFFSETTO:+0100
TZNAME:Europe/London BST
END:DAYLIGHT
BEGIN:DAYLIGHT
DTSTART:20280326T020000
RDATE:20281029T010000
TZOFFSETFROM:+0000
TZOFFSETTO:+0100
TZNAME:Europe/London BST
END:DAYLIGHT
BEGIN:DAYLIGHT
DTSTART:20290325T020000
RDATE:20291028T010000
TZOFFSETFROM:+0000
TZOFFSETTO:+0100
TZNAME:Europe/London BST
END:DAYLIGHT
BEGIN:DAYLIGHT
DTSTART:20300331T020000
RDATE:20301027T010000
TZOFFSETFROM:+0000
TZOFFSETTO:+0100
TZNAME:Europe/London BST
END:DAYLIGHT
END:VTIMEZONE
BEGIN:VEVENT
UID:210329009f263b16ad8059039fca63d7
CATEGORIES:North
CREATED:20240430T104412
SUMMARY:Nothern District Saturday Social: Ringing and Cake! 
LOCATION:Turner's Hill\, St. Leonards
URL;VALUE=URI:https://www.scacr.org/news-events/calendar/1284/nothern-district-saturday-s
 ocial-ringing-and-cake?tmpl=component
DESCRIPTION:<p>Join us for the Northern District Saturday Social event - Ringing and Ca
 ke at <a href="towers/directory/128-turners-hill-st-leonard">Turner's Hill,
  St. Leonards</a>&nbsp;on&nbsp;<strong>Saturday 4th May</strong>, from&nbsp
 ;<strong>13:30 - 15;30!</strong> Ringing is from rounds onwards - all welco
 me! If you haven't rung a new tower before, you may want to bring your ring
 ing teacher / helper to join you.</p><p>If you have any questions, please d
 on't hesitate to reach out at <a href="mailto:sec-north@scacr.org!"><span i
 d="cloak95b45e934f2eac9492b2288399788659">This email address is being prote
 cted from spambots. You need JavaScript enabled to view it.</span><script t
 ype='text/javascript'>
				document.getElementById('cloak95b45e934f2eac9492
 b2288399788659').innerHTML = '';
				var prefix = '&#109;a' + 'i&#108;' + '
 &#116;o';
				var path = 'hr' + 'ef' + '=';
				var addy95b45e934f2eac9492b
 2288399788659 = 's&#101;c-n&#111;rth' + '&#64;';
				addy95b45e934f2eac9492
 b2288399788659 = addy95b45e934f2eac9492b2288399788659 + 'sc&#97;cr' + '&#46
 ;' + '&#111;rg';
				var addy_text95b45e934f2eac9492b2288399788659 = 's&#10
 1;c-n&#111;rth' + '&#64;' + 'sc&#97;cr' + '&#46;' + '&#111;rg';document.get
 ElementById('cloak95b45e934f2eac9492b2288399788659').innerHTML += '<a ' + p
 ath + '\'' + prefix + ':' + addy95b45e934f2eac9492b2288399788659 + '\'>'+ad
 dy_text95b45e934f2eac9492b2288399788659+'<\/a>';
		</script>!</a>&nbsp;</p>
 <p>We look forward to seeing you there!</p><p>&nbsp;</p> <a href="https://w
 ww.scacr.org/news-events/calendar/1284/nothern-district-saturday-social-rin
 ging-and-cake?tmpl=component">This event was imported from: https://www.sca
 cr.org/news-events/calendar/1284/nothern-district-saturday-social-ringing-a
 nd-cake?tmpl=component</a>
X-ALT-DESC;FMTTYPE=text/html:<p>Join us for the Northern District Saturday Social event - Ringing and Ca
 ke at <a href="https://www.scacr.org/towers/directory/128-turners-hill-st-l
 eonard">Turner's Hill, St. Leonards</a>&nbsp;on&nbsp;<strong>Saturday 4th M
 ay</strong>, from&nbsp;<strong>13:30 - 15;30!</strong> Ringing is from roun
 ds onwards - all welcome! If you haven't rung a new tower before, you may w
 ant to bring your ringing teacher / helper to join you.</p><p>If you have a
 ny questions, please don't hesitate to reach out at <a href="mailto:sec-nor
 th@scacr.org!"><span id="cloak95b45e934f2eac9492b2288399788659">This email 
 address is being protected from spambots. You need JavaScript enabled to vi
 ew it.</span><script type='text/javascript'>
				document.getElementById('c
 loak95b45e934f2eac9492b2288399788659').innerHTML = '';
				var prefix = '&#
 109;a' + 'i&#108;' + '&#116;o';
				var path = 'hr' + 'ef' + '=';
				var a
 ddy95b45e934f2eac9492b2288399788659 = 's&#101;c-n&#111;rth' + '&#64;';
				
 addy95b45e934f2eac9492b2288399788659 = addy95b45e934f2eac9492b2288399788659
  + 'sc&#97;cr' + '&#46;' + '&#111;rg';
				var addy_text95b45e934f2eac9492b
 2288399788659 = 's&#101;c-n&#111;rth' + '&#64;' + 'sc&#97;cr' + '&#46;' + '
 &#111;rg';document.getElementById('cloak95b45e934f2eac9492b2288399788659').
 innerHTML += '<a ' + path + '\'' + prefix + ':' + addy95b45e934f2eac9492b22
 88399788659 + '\'>'+addy_text95b45e934f2eac9492b2288399788659+'<\/a>';
		</
 script>!</a>&nbsp;</p><p>We look forward to seeing you there!</p><p>&nbsp;<
 /p> <a href="https://www.scacr.org/news-events/calendar/1284/nothern-distri
 ct-saturday-social-ringing-and-cake?tmpl=component">This event was imported
  from: https://www.scacr.org/news-events/calendar/1284/nothern-district-sat
 urday-social-ringing-and-cake?tmpl=component</a>CONTACT:This email address is being protected from spambots. You need JavaScript enabled to view it.
				document.getElementById('cloak02a854ca1bdf11d4d9a8e19fe4c33776').innerHTML = '';
				var prefix = '&#109;a' + 'i&#108;' + '&#116;o';
				var path = 'hr' + 'ef' + '=';
				var addy02a854ca1bdf11d4d9a8e19fe4c33776 = 's&#101;c-n&#111;rth' + '&#64;';
				addy02a854ca1bdf11d4d9a8e19fe4c33776 = addy02a854ca1bdf11d4d9a8e19fe4c33776 + 'sc&#97;cr' + '&#46;' + '&#111;rg';
				var addy_text02a854ca1bdf11d4d9a8e19fe4c33776 = 's&#101;c-n&#111;rth' + '&#64;' + 'sc&#97;cr' + '&#46;' + '&#111;rg';document.getElementById('cloak02a854ca1bdf11d4d9a8e19fe4c33776').innerHTML += '<a ' + path + '\'' + prefix + ':' + addy02a854ca1bdf11d4d9a8e19fe4c33776 + '\'>'+addy_text02a854ca1bdf11d4d9a8e19fe4c33776+'';
		
DTSTAMP:20260419T161237
DTSTART;TZID=Europe/London:20240504T133000
DTEND;TZID=Europe/London:20240504T153000
SEQUENCE:0
TRANSP:OPAQUE
END:VEVENT
END:VCALENDAR