BEGIN:VCALENDAR
VERSION:2.0
PRODID:-//jEvents 2.0 for Joomla//EN
CALSCALE:GREGORIAN
METHOD:PUBLISH
BEGIN:VTIMEZONE
TZID:Europe/London
BEGIN:STANDARD
DTSTART:20231029T010000
RDATE:20240331T020000
TZOFFSETFROM:+0100
TZOFFSETTO:+0000
TZNAME:Europe/London GMT
END:STANDARD
BEGIN:STANDARD
DTSTART:20241027T010000
RDATE:20250330T020000
TZOFFSETFROM:+0100
TZOFFSETTO:+0000
TZNAME:Europe/London GMT
END:STANDARD
BEGIN:STANDARD
DTSTART:20251026T010000
RDATE:20260329T020000
TZOFFSETFROM:+0100
TZOFFSETTO:+0000
TZNAME:Europe/London GMT
END:STANDARD
BEGIN:STANDARD
DTSTART:20261025T010000
RDATE:20270328T020000
TZOFFSETFROM:+0100
TZOFFSETTO:+0000
TZNAME:Europe/London GMT
END:STANDARD
BEGIN:STANDARD
DTSTART:20271031T010000
RDATE:20280326T020000
TZOFFSETFROM:+0100
TZOFFSETTO:+0000
TZNAME:Europe/London GMT
END:STANDARD
BEGIN:STANDARD
DTSTART:20281029T010000
RDATE:20290325T020000
TZOFFSETFROM:+0100
TZOFFSETTO:+0000
TZNAME:Europe/London GMT
END:STANDARD
BEGIN:STANDARD
DTSTART:20291028T010000
RDATE:20300331T020000
TZOFFSETFROM:+0100
TZOFFSETTO:+0000
TZNAME:Europe/London GMT
END:STANDARD
BEGIN:STANDARD
DTSTART:20301027T010000
RDATE:20310330T020000
TZOFFSETFROM:+0100
TZOFFSETTO:+0000
TZNAME:Europe/London GMT
END:STANDARD
BEGIN:DAYLIGHT
DTSTART:20230513T193000
RDATE:20231029T010000
TZOFFSETFROM:+0000
TZOFFSETTO:+0100
TZNAME:Europe/London BST
END:DAYLIGHT
BEGIN:DAYLIGHT
DTSTART:20240331T020000
RDATE:20241027T010000
TZOFFSETFROM:+0000
TZOFFSETTO:+0100
TZNAME:Europe/London BST
END:DAYLIGHT
BEGIN:DAYLIGHT
DTSTART:20250330T020000
RDATE:20251026T010000
TZOFFSETFROM:+0000
TZOFFSETTO:+0100
TZNAME:Europe/London BST
END:DAYLIGHT
BEGIN:DAYLIGHT
DTSTART:20260329T020000
RDATE:20261025T010000
TZOFFSETFROM:+0000
TZOFFSETTO:+0100
TZNAME:Europe/London BST
END:DAYLIGHT
BEGIN:DAYLIGHT
DTSTART:20270328T020000
RDATE:20271031T010000
TZOFFSETFROM:+0000
TZOFFSETTO:+0100
TZNAME:Europe/London BST
END:DAYLIGHT
BEGIN:DAYLIGHT
DTSTART:20280326T020000
RDATE:20281029T010000
TZOFFSETFROM:+0000
TZOFFSETTO:+0100
TZNAME:Europe/London BST
END:DAYLIGHT
BEGIN:DAYLIGHT
DTSTART:20290325T020000
RDATE:20291028T010000
TZOFFSETFROM:+0000
TZOFFSETTO:+0100
TZNAME:Europe/London BST
END:DAYLIGHT
BEGIN:DAYLIGHT
DTSTART:20300331T020000
RDATE:20301027T010000
TZOFFSETFROM:+0000
TZOFFSETTO:+0100
TZNAME:Europe/London BST
END:DAYLIGHT
END:VTIMEZONE
BEGIN:VEVENT
UID:5b156070d410319e86249bb04f9b1e57
CATEGORIES:North
CREATED:20240426T091127
SUMMARY:Northern Surprise Major Practice
LOCATION:Turners Hill
URL;VALUE=URI:https://www.scacr.org/news-events/calendar/1283/northern-surprise-major-pra
 ctice?tmpl=component
DESCRIPTION:The main focus of these practices remains the Core 7 methods, for those tha
 t are already comfortable with the 7, the current additional method is Doub
 le Dublin (https://rsw.me.uk/blueline/methods/view/Double_Dublin_Surprise_M
 ajor (https://rsw.me.uk/blueline/methods/view/Double_Dublin_Surprise_Major)
 ).\nSimon Linford's great book on the Core 7 and beyond is found here https
 ://www.ringingworld.co.uk/purchase/shop/the-core-seven-and-beyond.html (htt
 ps://www.ringingworld.co.uk/purchase/shop/the-core-seven-and-beyond.html)\n
 The idea is to try and improve the success rate and striking accuracy in th
 e Core 7 methods and it would be very much appreciated if where possible at
 tendees do a little extra homework in advance, to help ensure we peform our
  best on the night. There will also be an enhanced effort to ensure more op
 timal band placement.\nI hope there will continue to be an opportunity for 
 the more experienced ringers to ring a touch of spliced during the practice
  subject to attendance (advanced repetoire currently includes Deva, Glasgow
  and the latest Double Dublin).\nPlease get in touch (This email address is
  being protected from spambots. You need JavaScript enabled to view it.
			
 	document.getElementById('cloakc298e97acdf9ebb49c3fd5263fe1b7be').innerHTML
  = '';
				var prefix = '&#109;a' + 'i&#108;' + '&#116;o';
				var path = '
 hr' + 'ef' + '=';
				var addyc298e97acdf9ebb49c3fd5263fe1b7be = 'n&#101;ss
 r&#105;ng&#105;ng' + '&#64;';
				addyc298e97acdf9ebb49c3fd5263fe1b7be = ad
 dyc298e97acdf9ebb49c3fd5263fe1b7be + '&#105;cl&#111;&#117;d' + '&#46;' + 'c
 &#111;m';
				var addy_textc298e97acdf9ebb49c3fd5263fe1b7be = 'n&#101;ssr&#
 105;ng&#105;ng' + '&#64;' + '&#105;cl&#111;&#117;d' + '&#46;' + 'c&#111;m';
 document.getElementById('cloakc298e97acdf9ebb49c3fd5263fe1b7be').innerHTML 
 += '<a ' + path + '\'' + prefix + ':' + addyc298e97acdf9ebb49c3fd5263fe1b7b
 e + '\'>'+addy_textc298e97acdf9ebb49c3fd5263fe1b7be+'';
		) if there is any
 thing in particular you would like to ring and/or to advise of your attenda
 nce.\nRingers from other divisions are welcome to attend although ideally p
 lease email in advance. This event was imported from: https://www.scacr.org
 /news-events/calendar/1283/northern-surprise-major-practice?tmpl=component 
 (https://www.scacr.org/news-events/calendar/1283/northern-surprise-major-pr
 actice?tmpl=component)
X-ALT-DESC;FMTTYPE=text/html:<p>The main focus of these practices remains the Core 7 methods, for those 
 that are already comfortable with the 7, the current additional method is&n
 bsp;Double Dublin (<a href="https://rsw.me.uk/blueline/methods/view/Double_
 Dublin_Surprise_Major">https://rsw.me.uk/blueline/methods/view/Double_Dubli
 n_Surprise_Major</a>).</p><p>Simon Linford's great book on the Core 7 and b
 eyond is found here&nbsp;<a href="https://www.ringingworld.co.uk/purchase/s
 hop/the-core-seven-and-beyond.html">https://www.ringingworld.co.uk/purchase
 /shop/the-core-seven-and-beyond.html</a></p><p>The idea is to try and impro
 ve the success rate and striking accuracy in the Core 7 methods and it woul
 d be very much appreciated if where possible attendees do a little extra ho
 mework in advance, to help ensure we peform our best on the night. There wi
 ll also be an enhanced effort to ensure more optimal band placement.</p><p>
 I hope there will continue to be an opportunity for the more experienced ri
 ngers to ring a touch of spliced during the practice subject to attendance 
 (advanced repetoire currently includes Deva, Glasgow and the latest Double 
 Dublin).</p><p>Please get in touch (<span id="cloakc298e97acdf9ebb49c3fd526
 3fe1b7be">This email address is being protected from spambots. You need Jav
 aScript enabled to view it.</span><script type='text/javascript'>
				docum
 ent.getElementById('cloakc298e97acdf9ebb49c3fd5263fe1b7be').innerHTML = '';
 
				var prefix = '&#109;a' + 'i&#108;' + '&#116;o';
				var path = 'hr' + 
 'ef' + '=';
				var addyc298e97acdf9ebb49c3fd5263fe1b7be = 'n&#101;ssr&#105
 ;ng&#105;ng' + '&#64;';
				addyc298e97acdf9ebb49c3fd5263fe1b7be = addyc298
 e97acdf9ebb49c3fd5263fe1b7be + '&#105;cl&#111;&#117;d' + '&#46;' + 'c&#111;
 m';
				var addy_textc298e97acdf9ebb49c3fd5263fe1b7be = 'n&#101;ssr&#105;ng
 &#105;ng' + '&#64;' + '&#105;cl&#111;&#117;d' + '&#46;' + 'c&#111;m';docume
 nt.getElementById('cloakc298e97acdf9ebb49c3fd5263fe1b7be').innerHTML += '<a
  ' + path + '\'' + prefix + ':' + addyc298e97acdf9ebb49c3fd5263fe1b7be + '\
 '>'+addy_textc298e97acdf9ebb49c3fd5263fe1b7be+'<\/a>';
		</script>) if ther
 e is anything in particular you would like to ring and/or to advise of your
  attendance.</p><div><div><div class="apple-rich-link" role="link" data-url
 ="https://www.ringingworld.co.uk/purchase/shop/the-core-seven-and-beyond.ht
 ml">Ringers from other divisions are welcome to attend although ideally ple
 ase email in advance.</div></div></div> <a href="https://www.scacr.org/news
 -events/calendar/1283/northern-surprise-major-practice?tmpl=component">This
  event was imported from: https://www.scacr.org/news-events/calendar/1283/n
 orthern-surprise-major-practice?tmpl=component</a>CONTACT:This email address is being protected from spambots. You need JavaScript enabled to view it.
				document.getElementById('cloak67bdf091423903a8611576401ba512a0').innerHTML = '';
				var prefix = '&#109;a' + 'i&#108;' + '&#116;o';
				var path = 'hr' + 'ef' + '=';
				var addy67bdf091423903a8611576401ba512a0 = 'n&#101;ssr&#105;ng&#105;ng' + '&#64;';
				addy67bdf091423903a8611576401ba512a0 = addy67bdf091423903a8611576401ba512a0 + '&#105;cl&#111;&#117;d' + '&#46;' + 'c&#111;m';
				var addy_text67bdf091423903a8611576401ba512a0 = 'n&#101;ssr&#105;ng&#105;ng' + '&#64;' + '&#105;cl&#111;&#117;d' + '&#46;' + 'c&#111;m';document.getElementById('cloak67bdf091423903a8611576401ba512a0').innerHTML += '<a ' + path + '\'' + prefix + ':' + addy67bdf091423903a8611576401ba512a0 + '\'>'+addy_text67bdf091423903a8611576401ba512a0+'';
		
X-EXTRAINFO:https://dove.cccbr.org.uk/tower/16948
DTSTAMP:20260422T015345
DTSTART;TZID=Europe/London:20240513T193000
DTEND;TZID=Europe/London:20240513T210000
SEQUENCE:0
TRANSP:OPAQUE
END:VEVENT
END:VCALENDAR