BEGIN:VCALENDAR
VERSION:2.0
PRODID:-//jEvents 2.0 for Joomla//EN
CALSCALE:GREGORIAN
METHOD:PUBLISH
BEGIN:VTIMEZONE
TZID:Europe/London
BEGIN:STANDARD
DTSTART:20231029T010000
RDATE:20240331T020000
TZOFFSETFROM:+0100
TZOFFSETTO:+0000
TZNAME:Europe/London GMT
END:STANDARD
BEGIN:STANDARD
DTSTART:20241027T010000
RDATE:20250330T020000
TZOFFSETFROM:+0100
TZOFFSETTO:+0000
TZNAME:Europe/London GMT
END:STANDARD
BEGIN:STANDARD
DTSTART:20251026T010000
RDATE:20260329T020000
TZOFFSETFROM:+0100
TZOFFSETTO:+0000
TZNAME:Europe/London GMT
END:STANDARD
BEGIN:STANDARD
DTSTART:20261025T010000
RDATE:20270328T020000
TZOFFSETFROM:+0100
TZOFFSETTO:+0000
TZNAME:Europe/London GMT
END:STANDARD
BEGIN:STANDARD
DTSTART:20271031T010000
RDATE:20280326T020000
TZOFFSETFROM:+0100
TZOFFSETTO:+0000
TZNAME:Europe/London GMT
END:STANDARD
BEGIN:STANDARD
DTSTART:20281029T010000
RDATE:20290325T020000
TZOFFSETFROM:+0100
TZOFFSETTO:+0000
TZNAME:Europe/London GMT
END:STANDARD
BEGIN:STANDARD
DTSTART:20291028T010000
RDATE:20300331T020000
TZOFFSETFROM:+0100
TZOFFSETTO:+0000
TZNAME:Europe/London GMT
END:STANDARD
BEGIN:STANDARD
DTSTART:20301027T010000
RDATE:20310330T020000
TZOFFSETFROM:+0100
TZOFFSETTO:+0000
TZNAME:Europe/London GMT
END:STANDARD
BEGIN:DAYLIGHT
DTSTART:20230608T100000
RDATE:20231029T010000
TZOFFSETFROM:+0000
TZOFFSETTO:+0100
TZNAME:Europe/London BST
END:DAYLIGHT
BEGIN:DAYLIGHT
DTSTART:20240331T020000
RDATE:20241027T010000
TZOFFSETFROM:+0000
TZOFFSETTO:+0100
TZNAME:Europe/London BST
END:DAYLIGHT
BEGIN:DAYLIGHT
DTSTART:20250330T020000
RDATE:20251026T010000
TZOFFSETFROM:+0000
TZOFFSETTO:+0100
TZNAME:Europe/London BST
END:DAYLIGHT
BEGIN:DAYLIGHT
DTSTART:20260329T020000
RDATE:20261025T010000
TZOFFSETFROM:+0000
TZOFFSETTO:+0100
TZNAME:Europe/London BST
END:DAYLIGHT
BEGIN:DAYLIGHT
DTSTART:20270328T020000
RDATE:20271031T010000
TZOFFSETFROM:+0000
TZOFFSETTO:+0100
TZNAME:Europe/London BST
END:DAYLIGHT
BEGIN:DAYLIGHT
DTSTART:20280326T020000
RDATE:20281029T010000
TZOFFSETFROM:+0000
TZOFFSETTO:+0100
TZNAME:Europe/London BST
END:DAYLIGHT
BEGIN:DAYLIGHT
DTSTART:20290325T020000
RDATE:20291028T010000
TZOFFSETFROM:+0000
TZOFFSETTO:+0100
TZNAME:Europe/London BST
END:DAYLIGHT
BEGIN:DAYLIGHT
DTSTART:20300331T020000
RDATE:20301027T010000
TZOFFSETFROM:+0000
TZOFFSETTO:+0100
TZNAME:Europe/London BST
END:DAYLIGHT
END:VTIMEZONE
BEGIN:VEVENT
UID:832364f354bd517f7a31379e5f57ac1e
CATEGORIES:West
CREATED:20240406T163236
SUMMARY:Ring, Walk and Pub Lunch!
LOCATION:St Giles Church Graffham
URL;VALUE=URI:https://www.scacr.org/news-events/calendar/1273/ring-walk-and-pub-lunch?tmp
 l=component
DESCRIPTION:<p>&nbsp;Let's hope there is going to be plenty of sunshine for this day!&n
 bsp; Ringing will be from 10 -12&nbsp; followed by a leisurely&nbsp; walk a
 nd then lunch at The Three Moles, Selham. GU28 0PN&nbsp; Open to everyone -
  this is sure to be a lovely&nbsp; event.&nbsp; If you are interested in th
 e pub lunch, - please let vicky chase know on <span id="cloak2e22d97efbee62
 99c5e793da6cc99435">This email address is being protected from spambots. Yo
 u need JavaScript enabled to view it.</span><script type='text/javascript'>
 
				document.getElementById('cloak2e22d97efbee6299c5e793da6cc99435').inner
 HTML = '';
				var prefix = '&#109;a' + 'i&#108;' + '&#116;o';
				var path
  = 'hr' + 'ef' + '=';
				var addy2e22d97efbee6299c5e793da6cc99435 = 'tr&#9
 7;&#105;n&#105;ng' + '&#64;';
				addy2e22d97efbee6299c5e793da6cc99435 = ad
 dy2e22d97efbee6299c5e793da6cc99435 + 'sc&#97;cr' + '&#46;' + '&#111;rg';
		
 		var addy_text2e22d97efbee6299c5e793da6cc99435 = 'tr&#97;&#105;n&#105;ng' 
 + '&#64;' + 'sc&#97;cr' + '&#46;' + '&#111;rg';document.getElementById('clo
 ak2e22d97efbee6299c5e793da6cc99435').innerHTML += '<a ' + path + '\'' + pre
 fix + ':' + addy2e22d97efbee6299c5e793da6cc99435 + '\'>'+addy_text2e22d97ef
 bee6299c5e793da6cc99435+'<\/a>';
		</script>&nbsp; by the end of Thursday s
 o can confirm numbers.&nbsp; Pre ordering of food is not necessary.&nbsp;&n
 bsp;</p> <a href="https://www.scacr.org/news-events/calendar/1273/ring-walk
 -and-pub-lunch?tmpl=component">This event was imported from: https://www.sc
 acr.org/news-events/calendar/1273/ring-walk-and-pub-lunch?tmpl=component</a
 >CONTACT:This email address is being protected from spambots. You need JavaScript enabled to view it.
				document.getElementById('cloak772993ca99fc78497aa0814ed491285e').innerHTML = '';
				var prefix = '&#109;a' + 'i&#108;' + '&#116;o';
				var path = 'hr' + 'ef' + '=';
				var addy772993ca99fc78497aa0814ed491285e = 'tr&#97;&#105;n&#105;ng' + '&#64;';
				addy772993ca99fc78497aa0814ed491285e = addy772993ca99fc78497aa0814ed491285e + 'sc&#97;cr' + '&#46;' + '&#111;rg';
				var addy_text772993ca99fc78497aa0814ed491285e = 'tr&#97;&#105;n&#105;ng' + '&#64;' + 'sc&#97;cr' + '&#46;' + '&#111;rg';document.getElementById('cloak772993ca99fc78497aa0814ed491285e').innerHTML += '<a ' + path + '\'' + prefix + ':' + addy772993ca99fc78497aa0814ed491285e + '\'>'+addy_text772993ca99fc78497aa0814ed491285e+'';
		
DTSTAMP:20260420T115737
DTSTART;TZID=Europe/London:20240608T100000
SEQUENCE:0
TRANSP:OPAQUE
END:VEVENT
END:VCALENDAR