BEGIN:VCALENDAR
VERSION:2.0
PRODID:-//jEvents 2.0 for Joomla//EN
CALSCALE:GREGORIAN
METHOD:PUBLISH
BEGIN:VTIMEZONE
TZID:Europe/London
BEGIN:STANDARD
DTSTART:20231029T010000
RDATE:20240331T020000
TZOFFSETFROM:+0100
TZOFFSETTO:+0000
TZNAME:Europe/London GMT
END:STANDARD
BEGIN:STANDARD
DTSTART:20241027T010000
RDATE:20250330T020000
TZOFFSETFROM:+0100
TZOFFSETTO:+0000
TZNAME:Europe/London GMT
END:STANDARD
BEGIN:STANDARD
DTSTART:20251026T010000
RDATE:20260329T020000
TZOFFSETFROM:+0100
TZOFFSETTO:+0000
TZNAME:Europe/London GMT
END:STANDARD
BEGIN:STANDARD
DTSTART:20261025T010000
RDATE:20270328T020000
TZOFFSETFROM:+0100
TZOFFSETTO:+0000
TZNAME:Europe/London GMT
END:STANDARD
BEGIN:STANDARD
DTSTART:20271031T010000
RDATE:20280326T020000
TZOFFSETFROM:+0100
TZOFFSETTO:+0000
TZNAME:Europe/London GMT
END:STANDARD
BEGIN:STANDARD
DTSTART:20281029T010000
RDATE:20290325T020000
TZOFFSETFROM:+0100
TZOFFSETTO:+0000
TZNAME:Europe/London GMT
END:STANDARD
BEGIN:STANDARD
DTSTART:20291028T010000
RDATE:20300331T020000
TZOFFSETFROM:+0100
TZOFFSETTO:+0000
TZNAME:Europe/London GMT
END:STANDARD
BEGIN:STANDARD
DTSTART:20301027T010000
RDATE:20310330T020000
TZOFFSETFROM:+0100
TZOFFSETTO:+0000
TZNAME:Europe/London GMT
END:STANDARD
BEGIN:DAYLIGHT
DTSTART:20230513T193000
RDATE:20231029T010000
TZOFFSETFROM:+0000
TZOFFSETTO:+0100
TZNAME:Europe/London BST
END:DAYLIGHT
BEGIN:DAYLIGHT
DTSTART:20240331T020000
RDATE:20241027T010000
TZOFFSETFROM:+0000
TZOFFSETTO:+0100
TZNAME:Europe/London BST
END:DAYLIGHT
BEGIN:DAYLIGHT
DTSTART:20250330T020000
RDATE:20251026T010000
TZOFFSETFROM:+0000
TZOFFSETTO:+0100
TZNAME:Europe/London BST
END:DAYLIGHT
BEGIN:DAYLIGHT
DTSTART:20260329T020000
RDATE:20261025T010000
TZOFFSETFROM:+0000
TZOFFSETTO:+0100
TZNAME:Europe/London BST
END:DAYLIGHT
BEGIN:DAYLIGHT
DTSTART:20270328T020000
RDATE:20271031T010000
TZOFFSETFROM:+0000
TZOFFSETTO:+0100
TZNAME:Europe/London BST
END:DAYLIGHT
BEGIN:DAYLIGHT
DTSTART:20280326T020000
RDATE:20281029T010000
TZOFFSETFROM:+0000
TZOFFSETTO:+0100
TZNAME:Europe/London BST
END:DAYLIGHT
BEGIN:DAYLIGHT
DTSTART:20290325T020000
RDATE:20291028T010000
TZOFFSETFROM:+0000
TZOFFSETTO:+0100
TZNAME:Europe/London BST
END:DAYLIGHT
BEGIN:DAYLIGHT
DTSTART:20300331T020000
RDATE:20301027T010000
TZOFFSETFROM:+0000
TZOFFSETTO:+0100
TZNAME:Europe/London BST
END:DAYLIGHT
END:VTIMEZONE
BEGIN:VEVENT
UID:d14d35890a2aa9981858b3c50f917d15
CATEGORIES:West
CREATED:20240406T154838
SUMMARY:Surprise Minor Simulator Practice
LOCATION:St Mary's Church\, Stoughton
URL;VALUE=URI:https://www.scacr.org/news-events/calendar/1268/surprise-minor-simulator-pr
 actice?tmpl=component
DESCRIPTION:<p>This is a regular practice is held every second Monday of the month!</p>
 <p>Current methods rung are: Cambridge, London, Norwich, Carlisle and Bever
 ley!&nbsp; The idea is to consolidate them and start splicing them!!&nbsp; 
 Other methods maybe added as and when.</p><p>Don't br put off if you are un
 able to ring all these methods or can't ring spliced - there are a range of
  abilities and it is a practice so an opportunity to have a go!!</p><p>Plea
 se let Joanna Woodcock know if you intend to go along on <span id="cloakb95
 7a83ff2db1a8bfe3f4b320669e7de">This email address is being protected from s
 pambots. You need JavaScript enabled to view it.</span><script type='text/j
 avascript'>
				document.getElementById('cloakb957a83ff2db1a8bfe3f4b320669e
 7de').innerHTML = '';
				var prefix = '&#109;a' + 'i&#108;' + '&#116;o';
	
 			var path = 'hr' + 'ef' + '=';
				var addyb957a83ff2db1a8bfe3f4b320669e7
 de = 'd&#101;&#97;nl&#97;n&#101;&#101;nd' + '&#64;';
				addyb957a83ff2db1a
 8bfe3f4b320669e7de = addyb957a83ff2db1a8bfe3f4b320669e7de + 'gm&#97;&#105;l
 ' + '&#46;' + 'c&#111;m';
				var addy_textb957a83ff2db1a8bfe3f4b320669e7de
  = 'd&#101;&#97;nl&#97;n&#101;&#101;nd' + '&#64;' + 'gm&#97;&#105;l' + '&#4
 6;' + 'c&#111;m';document.getElementById('cloakb957a83ff2db1a8bfe3f4b320669
 e7de').innerHTML += '<a ' + path + '\'' + prefix + ':' + addyb957a83ff2db1a
 8bfe3f4b320669e7de + '\'>'+addy_textb957a83ff2db1a8bfe3f4b320669e7de+'<\/a>
 ';
		</script></p><p>There is ample on-street parking in the village and li
 mited, blue badge parking up at the track at the church.&nbsp; The farmyard
  car park to the left of the track is private and so please do not use!</p>
 <p>There are no toilets in the church - nearest facilities are in the Hare 
 and Hounds pub approx 300 m away.</p><p>If there is plenty of rain - it may
  be handy to wear wellies or at least have some in the car!!!</p><p>Contact
  the Tower Captain if you have any other questions!&nbsp; Tim Wright - <spa
 n id="cloak9ffc7f6a3fb5f5ef32c0a75cf939d703">This email address is being pr
 otected from spambots. You need JavaScript enabled to view it.</span><scrip
 t type='text/javascript'>
				document.getElementById('cloak9ffc7f6a3fb5f5e
 f32c0a75cf939d703').innerHTML = '';
				var prefix = '&#109;a' + 'i&#108;' 
 + '&#116;o';
				var path = 'hr' + 'ef' + '=';
				var addy9ffc7f6a3fb5f5ef
 32c0a75cf939d703 = 'tcf.wr&#105;ght' + '&#64;';
				addy9ffc7f6a3fb5f5ef32c
 0a75cf939d703 = addy9ffc7f6a3fb5f5ef32c0a75cf939d703 + 'bt&#105;nt&#101;rn&
 #101;t' + '&#46;' + 'c&#111;m';
				var addy_text9ffc7f6a3fb5f5ef32c0a75cf9
 39d703 = 'tcf.wr&#105;ght' + '&#64;' + 'bt&#105;nt&#101;rn&#101;t' + '&#46;
 ' + 'c&#111;m';document.getElementById('cloak9ffc7f6a3fb5f5ef32c0a75cf939d7
 03').innerHTML += '<a ' + path + '\'' + prefix + ':' + addy9ffc7f6a3fb5f5ef
 32c0a75cf939d703 + '\'>'+addy_text9ffc7f6a3fb5f5ef32c0a75cf939d703+'<\/a>';
 
		</script></p> <a href="https://www.scacr.org/news-events/calendar/1268/s
 urprise-minor-simulator-practice?tmpl=component">This event was imported fr
 om: https://www.scacr.org/news-events/calendar/1268/surprise-minor-simulato
 r-practice?tmpl=component</a>CONTACT:Joanna Woodcock This email address is being protected from spambots. You need JavaScript enabled to view it.
				document.getElementById('cloak9eed5189cc8a7ef96b5ed85535ff23c2').innerHTML = '';
				var prefix = '&#109;a' + 'i&#108;' + '&#116;o';
				var path = 'hr' + 'ef' + '=';
				var addy9eed5189cc8a7ef96b5ed85535ff23c2 = 'd&#101;&#97;nl&#97;n&#101;&#101;nd' + '&#64;';
				addy9eed5189cc8a7ef96b5ed85535ff23c2 = addy9eed5189cc8a7ef96b5ed85535ff23c2 + 'gm&#97;&#105;l' + '&#46;' + 'c&#111;m';
				var addy_text9eed5189cc8a7ef96b5ed85535ff23c2 = 'd&#101;&#97;nl&#97;n&#101;&#101;nd' + '&#64;' + 'gm&#97;&#105;l' + '&#46;' + 'c&#111;m';document.getElementById('cloak9eed5189cc8a7ef96b5ed85535ff23c2').innerHTML += '<a ' + path + '\'' + prefix + ':' + addy9eed5189cc8a7ef96b5ed85535ff23c2 + '\'>'+addy_text9eed5189cc8a7ef96b5ed85535ff23c2+'';
		
DTSTAMP:20260420T115736
DTSTART;TZID=Europe/London:20240513T193000
DTEND;TZID=Europe/London:20240513T210000
SEQUENCE:0
TRANSP:OPAQUE
END:VEVENT
END:VCALENDAR