BEGIN:VCALENDAR
VERSION:2.0
PRODID:-//jEvents 2.0 for Joomla//EN
CALSCALE:GREGORIAN
METHOD:PUBLISH
BEGIN:VTIMEZONE
TZID:Europe/London
BEGIN:STANDARD
DTSTART:20231029T010000
RDATE:20240331T020000
TZOFFSETFROM:+0100
TZOFFSETTO:+0000
TZNAME:Europe/London GMT
END:STANDARD
BEGIN:STANDARD
DTSTART:20241027T010000
RDATE:20250330T020000
TZOFFSETFROM:+0100
TZOFFSETTO:+0000
TZNAME:Europe/London GMT
END:STANDARD
BEGIN:STANDARD
DTSTART:20251026T010000
RDATE:20260329T020000
TZOFFSETFROM:+0100
TZOFFSETTO:+0000
TZNAME:Europe/London GMT
END:STANDARD
BEGIN:STANDARD
DTSTART:20261025T010000
RDATE:20270328T020000
TZOFFSETFROM:+0100
TZOFFSETTO:+0000
TZNAME:Europe/London GMT
END:STANDARD
BEGIN:STANDARD
DTSTART:20271031T010000
RDATE:20280326T020000
TZOFFSETFROM:+0100
TZOFFSETTO:+0000
TZNAME:Europe/London GMT
END:STANDARD
BEGIN:STANDARD
DTSTART:20281029T010000
RDATE:20290325T020000
TZOFFSETFROM:+0100
TZOFFSETTO:+0000
TZNAME:Europe/London GMT
END:STANDARD
BEGIN:STANDARD
DTSTART:20291028T010000
RDATE:20300331T020000
TZOFFSETFROM:+0100
TZOFFSETTO:+0000
TZNAME:Europe/London GMT
END:STANDARD
BEGIN:STANDARD
DTSTART:20301027T010000
RDATE:20310330T020000
TZOFFSETFROM:+0100
TZOFFSETTO:+0000
TZNAME:Europe/London GMT
END:STANDARD
BEGIN:DAYLIGHT
DTSTART:20230408T193000
RDATE:20231029T010000
TZOFFSETFROM:+0000
TZOFFSETTO:+0100
TZNAME:Europe/London BST
END:DAYLIGHT
BEGIN:DAYLIGHT
DTSTART:20240331T020000
RDATE:20241027T010000
TZOFFSETFROM:+0000
TZOFFSETTO:+0100
TZNAME:Europe/London BST
END:DAYLIGHT
BEGIN:DAYLIGHT
DTSTART:20250330T020000
RDATE:20251026T010000
TZOFFSETFROM:+0000
TZOFFSETTO:+0100
TZNAME:Europe/London BST
END:DAYLIGHT
BEGIN:DAYLIGHT
DTSTART:20260329T020000
RDATE:20261025T010000
TZOFFSETFROM:+0000
TZOFFSETTO:+0100
TZNAME:Europe/London BST
END:DAYLIGHT
BEGIN:DAYLIGHT
DTSTART:20270328T020000
RDATE:20271031T010000
TZOFFSETFROM:+0000
TZOFFSETTO:+0100
TZNAME:Europe/London BST
END:DAYLIGHT
BEGIN:DAYLIGHT
DTSTART:20280326T020000
RDATE:20281029T010000
TZOFFSETFROM:+0000
TZOFFSETTO:+0100
TZNAME:Europe/London BST
END:DAYLIGHT
BEGIN:DAYLIGHT
DTSTART:20290325T020000
RDATE:20291028T010000
TZOFFSETFROM:+0000
TZOFFSETTO:+0100
TZNAME:Europe/London BST
END:DAYLIGHT
BEGIN:DAYLIGHT
DTSTART:20300331T020000
RDATE:20301027T010000
TZOFFSETFROM:+0000
TZOFFSETTO:+0100
TZNAME:Europe/London BST
END:DAYLIGHT
END:VTIMEZONE
BEGIN:VEVENT
UID:dd84e32df67f7a2d0134c0eea308ee0b
CATEGORIES:North
CREATED:20240318T171239
SUMMARY:Northern Surprise Practice
LOCATION:Rusper
URL;VALUE=URI:https://www.scacr.org/news-events/calendar/1260/northern-surprise-practice?
 tmpl=component
DESCRIPTION:The main focus of these practices remains the Core 7 methods, for those tha
 t are already comfortable with the 7, March's advanced method of the month 
 is Double Dublin (https://rsw.me.uk/blueline/methods/view/Double_Dublin_Sur
 prise_Major (https://rsw.me.uk/blueline/methods/view/Double_Dublin_Surprise
 _Major)).\nSimon Linford's great book on the Core 7 and beyond is found her
 e https://www.ringingworld.co.uk/purchase/shop/the-core-seven-and-beyond.ht
 ml (https://www.ringingworld.co.uk/purchase/shop/the-core-seven-and-beyond.
 html)\nThe idea is to try and improve the success rate and striking accurac
 y in the Core 7 methods and it would be very much appreciated if where poss
 ible attendees do a little extra homework in advance, to help ensure we pef
 orm our best on the night. There will also be an enhanced effort to ensure 
 more optimal band placement.\nI hope there will continue to be an opportuni
 ty for the more experienced ringers to ring a touch of spliced at the end o
 f the practice subject to attendance (advanced repetoire currently includes
  Deva, Glasgow and the latest Double Dublin).\nPlease get in touch (This em
 ail address is being protected from spambots. You need JavaScript enabled t
 o view it.
				document.getElementById('cloak134a0dfcf4771e94256cb994a1122b
 ea').innerHTML = '';
				var prefix = '&#109;a' + 'i&#108;' + '&#116;o';
		
 		var path = 'hr' + 'ef' + '=';
				var addy134a0dfcf4771e94256cb994a1122be
 a = 'n&#101;ssr&#105;ng&#105;ng' + '&#64;';
				addy134a0dfcf4771e94256cb99
 4a1122bea = addy134a0dfcf4771e94256cb994a1122bea + '&#105;cl&#111;&#117;d' 
 + '&#46;' + 'c&#111;m';
				var addy_text134a0dfcf4771e94256cb994a1122bea =
  'n&#101;ssr&#105;ng&#105;ng' + '&#64;' + '&#105;cl&#111;&#117;d' + '&#46;'
  + 'c&#111;m';document.getElementById('cloak134a0dfcf4771e94256cb994a1122be
 a').innerHTML += '<a ' + path + '\'' + prefix + ':' + addy134a0dfcf4771e942
 56cb994a1122bea + '\'>'+addy_text134a0dfcf4771e94256cb994a1122bea+'';
		) i
 f there is anything in particular you would like to ring.\nRingers from oth
 er divisions are welcome to attend although ideally please email in advance
 . This event was imported from: https://www.scacr.org/news-events/calendar/
 1260/northern-surprise-practice?tmpl=component (https://www.scacr.org/news-
 events/calendar/1260/northern-surprise-practice?tmpl=component)
X-ALT-DESC;FMTTYPE=text/html:<p>The main focus of these practices remains the Core 7 methods, for those 
 that are already comfortable with the 7, March's advanced method of the mon
 th is&nbsp;Double Dublin (<a href="https://rsw.me.uk/blueline/methods/view/
 Double_Dublin_Surprise_Major">https://rsw.me.uk/blueline/methods/view/Doubl
 e_Dublin_Surprise_Major</a>).</p><p>Simon Linford's great book on the Core 
 7 and beyond is found here&nbsp;<a href="https://www.ringingworld.co.uk/pur
 chase/shop/the-core-seven-and-beyond.html">https://www.ringingworld.co.uk/p
 urchase/shop/the-core-seven-and-beyond.html</a></p><p>The idea is to try an
 d improve the success rate and striking accuracy in the Core 7 methods and 
 it would be very much appreciated if where possible attendees do a little e
 xtra homework in advance, to help ensure we peform our best on the night. T
 here will also be an enhanced effort to ensure more optimal band placement.
 </p><p>I hope there will continue to be an opportunity for the more experie
 nced ringers to ring a touch of spliced at the end of the practice subject 
 to attendance (advanced repetoire currently includes Deva, Glasgow and the 
 latest Double Dublin).</p><p>Please get in touch (<span id="cloak134a0dfcf4
 771e94256cb994a1122bea">This email address is being protected from spambots
 . You need JavaScript enabled to view it.</span><script type='text/javascri
 pt'>
				document.getElementById('cloak134a0dfcf4771e94256cb994a1122bea').i
 nnerHTML = '';
				var prefix = '&#109;a' + 'i&#108;' + '&#116;o';
				var 
 path = 'hr' + 'ef' + '=';
				var addy134a0dfcf4771e94256cb994a1122bea = 'n
 &#101;ssr&#105;ng&#105;ng' + '&#64;';
				addy134a0dfcf4771e94256cb994a1122
 bea = addy134a0dfcf4771e94256cb994a1122bea + '&#105;cl&#111;&#117;d' + '&#4
 6;' + 'c&#111;m';
				var addy_text134a0dfcf4771e94256cb994a1122bea = 'n&#1
 01;ssr&#105;ng&#105;ng' + '&#64;' + '&#105;cl&#111;&#117;d' + '&#46;' + 'c&
 #111;m';document.getElementById('cloak134a0dfcf4771e94256cb994a1122bea').in
 nerHTML += '<a ' + path + '\'' + prefix + ':' + addy134a0dfcf4771e94256cb99
 4a1122bea + '\'>'+addy_text134a0dfcf4771e94256cb994a1122bea+'<\/a>';
		</sc
 ript>) if there is anything in particular you would like to ring.</p><div><
 div><div class="apple-rich-link" role="link" data-url="https://www.ringingw
 orld.co.uk/purchase/shop/the-core-seven-and-beyond.html">Ringers from other
  divisions are welcome to attend although ideally please email in advance.<
 /div></div></div> <a href="https://www.scacr.org/news-events/calendar/1260/
 northern-surprise-practice?tmpl=component">This event was imported from: ht
 tps://www.scacr.org/news-events/calendar/1260/northern-surprise-practice?tm
 pl=component</a>CONTACT:This email address is being protected from spambots. You need JavaScript enabled to view it.
				document.getElementById('cloake407ea6855a343d37d999a11193876f0').innerHTML = '';
				var prefix = '&#109;a' + 'i&#108;' + '&#116;o';
				var path = 'hr' + 'ef' + '=';
				var addye407ea6855a343d37d999a11193876f0 = 'n&#101;ssr&#105;ng&#105;ng' + '&#64;';
				addye407ea6855a343d37d999a11193876f0 = addye407ea6855a343d37d999a11193876f0 + '&#105;cl&#111;&#117;d' + '&#46;' + 'c&#111;m';
				var addy_texte407ea6855a343d37d999a11193876f0 = 'n&#101;ssr&#105;ng&#105;ng' + '&#64;' + '&#105;cl&#111;&#117;d' + '&#46;' + 'c&#111;m';document.getElementById('cloake407ea6855a343d37d999a11193876f0').innerHTML += '<a ' + path + '\'' + prefix + ':' + addye407ea6855a343d37d999a11193876f0 + '\'>'+addy_texte407ea6855a343d37d999a11193876f0+'';
		
DTSTAMP:20260420T112812
DTSTART;TZID=Europe/London:20240408T193000
DTEND;TZID=Europe/London:20240408T210000
SEQUENCE:0
TRANSP:OPAQUE
END:VEVENT
END:VCALENDAR