BEGIN:VCALENDAR
VERSION:2.0
PRODID:-//jEvents 2.0 for Joomla//EN
CALSCALE:GREGORIAN
METHOD:PUBLISH
BEGIN:VTIMEZONE
TZID:Europe/London
BEGIN:STANDARD
DTSTART:20230316T100000
RDATE:20230326T020000
TZOFFSETFROM:+0100
TZOFFSETTO:+0000
TZNAME:Europe/London GMT
END:STANDARD
BEGIN:STANDARD
DTSTART:20231029T010000
RDATE:20240331T020000
TZOFFSETFROM:+0100
TZOFFSETTO:+0000
TZNAME:Europe/London GMT
END:STANDARD
BEGIN:STANDARD
DTSTART:20241027T010000
RDATE:20250330T020000
TZOFFSETFROM:+0100
TZOFFSETTO:+0000
TZNAME:Europe/London GMT
END:STANDARD
BEGIN:STANDARD
DTSTART:20251026T010000
RDATE:20260329T020000
TZOFFSETFROM:+0100
TZOFFSETTO:+0000
TZNAME:Europe/London GMT
END:STANDARD
BEGIN:STANDARD
DTSTART:20261025T010000
RDATE:20270328T020000
TZOFFSETFROM:+0100
TZOFFSETTO:+0000
TZNAME:Europe/London GMT
END:STANDARD
BEGIN:STANDARD
DTSTART:20271031T010000
RDATE:20280326T020000
TZOFFSETFROM:+0100
TZOFFSETTO:+0000
TZNAME:Europe/London GMT
END:STANDARD
BEGIN:STANDARD
DTSTART:20281029T010000
RDATE:20290325T020000
TZOFFSETFROM:+0100
TZOFFSETTO:+0000
TZNAME:Europe/London GMT
END:STANDARD
BEGIN:STANDARD
DTSTART:20291028T010000
RDATE:20300331T020000
TZOFFSETFROM:+0100
TZOFFSETTO:+0000
TZNAME:Europe/London GMT
END:STANDARD
BEGIN:STANDARD
DTSTART:20301027T010000
RDATE:20310330T020000
TZOFFSETFROM:+0100
TZOFFSETTO:+0000
TZNAME:Europe/London GMT
END:STANDARD
BEGIN:DAYLIGHT
DTSTART:20230326T020000
RDATE:20231029T010000
TZOFFSETFROM:+0000
TZOFFSETTO:+0100
TZNAME:Europe/London BST
END:DAYLIGHT
BEGIN:DAYLIGHT
DTSTART:20240331T020000
RDATE:20241027T010000
TZOFFSETFROM:+0000
TZOFFSETTO:+0100
TZNAME:Europe/London BST
END:DAYLIGHT
BEGIN:DAYLIGHT
DTSTART:20250330T020000
RDATE:20251026T010000
TZOFFSETFROM:+0000
TZOFFSETTO:+0100
TZNAME:Europe/London BST
END:DAYLIGHT
BEGIN:DAYLIGHT
DTSTART:20260329T020000
RDATE:20261025T010000
TZOFFSETFROM:+0000
TZOFFSETTO:+0100
TZNAME:Europe/London BST
END:DAYLIGHT
BEGIN:DAYLIGHT
DTSTART:20270328T020000
RDATE:20271031T010000
TZOFFSETFROM:+0000
TZOFFSETTO:+0100
TZNAME:Europe/London BST
END:DAYLIGHT
BEGIN:DAYLIGHT
DTSTART:20280326T020000
RDATE:20281029T010000
TZOFFSETFROM:+0000
TZOFFSETTO:+0100
TZNAME:Europe/London BST
END:DAYLIGHT
BEGIN:DAYLIGHT
DTSTART:20290325T020000
RDATE:20291028T010000
TZOFFSETFROM:+0000
TZOFFSETTO:+0100
TZNAME:Europe/London BST
END:DAYLIGHT
BEGIN:DAYLIGHT
DTSTART:20300331T020000
RDATE:20301027T010000
TZOFFSETFROM:+0000
TZOFFSETTO:+0100
TZNAME:Europe/London BST
END:DAYLIGHT
END:VTIMEZONE
BEGIN:VEVENT
UID:9e74ef33ad7c3595b38f97f079721631
CATEGORIES:West
CREATED:20240217T175922
SUMMARY:Rounds to Plain Hunt
LOCATION:St Mary's Church\, Storrington
URL;VALUE=URI:https://www.scacr.org/news-events/calendar/1244/rounds-to-plain-hunt?tmpl=c
 omponent
DESCRIPTION:This is a great opportunity for those who are able to handle a bell indepen
 dently and are ready to ring rounds, call changes and plain hunt!  You will
  handle the bell in the usual way and will be ringing with a supportive ban
 d  with the simulator up and running!  It is imperative that you book throu
 gh Christine Butterfield on 01903 872623  in order to monitor numbers to gi
 ve everyone the best experience.  Refreshments will be provided for a donat
 ion.  Look forward to seeing you there!!\nPLEASE NOTE THAT PLACES FOR THIS 
 EVENT ARE NOW FULL - THERE IS A WAITING LIST - PLEASE CONTACT CHRISTINE BUT
 TERFIELD IF YOU WOULD LIKE TO BE ADDED TO THIS LIST.\n This event was impor
 ted from: https://www.scacr.org/news-events/calendar/1244/rounds-to-plain-h
 unt?tmpl=component (https://www.scacr.org/news-events/calendar/1244/rounds-
 to-plain-hunt?tmpl=component)
X-ALT-DESC;FMTTYPE=text/html:<p>This is a great opportunity for those who are able to handle a bell inde
 pendently and are ready to ring rounds, call changes and plain hunt!&nbsp; 
 You will handle the bell in the usual way and will be ringing with a suppor
 tive band&nbsp; with the simulator up and running!&nbsp; It is <strong>impe
 rative</strong> that you book through Christine Butterfield on 01903 872623
 &nbsp; in order to monitor numbers to give everyone the best experience.&nb
 sp; Refreshments will be provided for a donation.&nbsp; Look forward to see
 ing you there!!</p><p>PLEASE NOTE THAT PLACES FOR THIS EVENT ARE NOW FULL -
  THERE IS A WAITING LIST - PLEASE CONTACT CHRISTINE BUTTERFIELD IF YOU WOUL
 D LIKE TO BE ADDED TO THIS LIST.</p> <a href="https://www.scacr.org/news-ev
 ents/calendar/1244/rounds-to-plain-hunt?tmpl=component">This event was impo
 rted from: https://www.scacr.org/news-events/calendar/1244/rounds-to-plain-
 hunt?tmpl=component</a>CONTACT:Christine Butterfield 01903 872623
DTSTAMP:20260424T192108
DTSTART;TZID=Europe/London:20240316T100000
DTEND;TZID=Europe/London:20240316T120000
SEQUENCE:0
TRANSP:OPAQUE
END:VEVENT
END:VCALENDAR