BEGIN:VCALENDAR
VERSION:2.0
PRODID:-//jEvents 2.0 for Joomla//EN
CALSCALE:GREGORIAN
METHOD:PUBLISH
BEGIN:VTIMEZONE
TZID:Europe/London
BEGIN:STANDARD
DTSTART:20230302T093000
RDATE:20230326T020000
TZOFFSETFROM:+0100
TZOFFSETTO:+0000
TZNAME:Europe/London GMT
END:STANDARD
BEGIN:STANDARD
DTSTART:20231029T010000
RDATE:20240331T020000
TZOFFSETFROM:+0100
TZOFFSETTO:+0000
TZNAME:Europe/London GMT
END:STANDARD
BEGIN:STANDARD
DTSTART:20241027T010000
RDATE:20250330T020000
TZOFFSETFROM:+0100
TZOFFSETTO:+0000
TZNAME:Europe/London GMT
END:STANDARD
BEGIN:STANDARD
DTSTART:20251026T010000
RDATE:20260329T020000
TZOFFSETFROM:+0100
TZOFFSETTO:+0000
TZNAME:Europe/London GMT
END:STANDARD
BEGIN:STANDARD
DTSTART:20261025T010000
RDATE:20270328T020000
TZOFFSETFROM:+0100
TZOFFSETTO:+0000
TZNAME:Europe/London GMT
END:STANDARD
BEGIN:STANDARD
DTSTART:20271031T010000
RDATE:20280326T020000
TZOFFSETFROM:+0100
TZOFFSETTO:+0000
TZNAME:Europe/London GMT
END:STANDARD
BEGIN:STANDARD
DTSTART:20281029T010000
RDATE:20290325T020000
TZOFFSETFROM:+0100
TZOFFSETTO:+0000
TZNAME:Europe/London GMT
END:STANDARD
BEGIN:STANDARD
DTSTART:20291028T010000
RDATE:20300331T020000
TZOFFSETFROM:+0100
TZOFFSETTO:+0000
TZNAME:Europe/London GMT
END:STANDARD
BEGIN:STANDARD
DTSTART:20301027T010000
RDATE:20310330T020000
TZOFFSETFROM:+0100
TZOFFSETTO:+0000
TZNAME:Europe/London GMT
END:STANDARD
BEGIN:DAYLIGHT
DTSTART:20230326T020000
RDATE:20231029T010000
TZOFFSETFROM:+0000
TZOFFSETTO:+0100
TZNAME:Europe/London BST
END:DAYLIGHT
BEGIN:DAYLIGHT
DTSTART:20240331T020000
RDATE:20241027T010000
TZOFFSETFROM:+0000
TZOFFSETTO:+0100
TZNAME:Europe/London BST
END:DAYLIGHT
BEGIN:DAYLIGHT
DTSTART:20250330T020000
RDATE:20251026T010000
TZOFFSETFROM:+0000
TZOFFSETTO:+0100
TZNAME:Europe/London BST
END:DAYLIGHT
BEGIN:DAYLIGHT
DTSTART:20260329T020000
RDATE:20261025T010000
TZOFFSETFROM:+0000
TZOFFSETTO:+0100
TZNAME:Europe/London BST
END:DAYLIGHT
BEGIN:DAYLIGHT
DTSTART:20270328T020000
RDATE:20271031T010000
TZOFFSETFROM:+0000
TZOFFSETTO:+0100
TZNAME:Europe/London BST
END:DAYLIGHT
BEGIN:DAYLIGHT
DTSTART:20280326T020000
RDATE:20281029T010000
TZOFFSETFROM:+0000
TZOFFSETTO:+0100
TZNAME:Europe/London BST
END:DAYLIGHT
BEGIN:DAYLIGHT
DTSTART:20290325T020000
RDATE:20291028T010000
TZOFFSETFROM:+0000
TZOFFSETTO:+0100
TZNAME:Europe/London BST
END:DAYLIGHT
BEGIN:DAYLIGHT
DTSTART:20300331T020000
RDATE:20301027T010000
TZOFFSETFROM:+0000
TZOFFSETTO:+0100
TZNAME:Europe/London BST
END:DAYLIGHT
END:VTIMEZONE
BEGIN:VEVENT
UID:7f3f447c95a308d3213ea946e5d743c4
CATEGORIES:West
CREATED:20240217T175216
SUMMARY: Beyond Plain Hunt!
LOCATION:St Mary's Washington
URL;VALUE=URI:https://www.scacr.org/news-events/calendar/1242/beyond-plain-hunt?tmpl=comp
 onent
DESCRIPTION:A great opportunity to ring on this ground floor tower with a supportive ba
 nd.  This is a regular monthly event for those who can ring rounds, call  c
 hanges and Plain Hunt are ready to progress to Doubles.   Refreshments are 
 also provided. \nIt is imperative that you contact Christine Butterfeld on 
 01903 872623 so that she can monitor numbers.  E mail This email address is
  being protected from spambots. You need JavaScript enabled to view it.
			
 	document.getElementById('cloak399436da306b84221fa40c2d410fed5b').innerHTML
  = '';
				var prefix = '&#109;a' + 'i&#108;' + '&#116;o';
				var path = '
 hr' + 'ef' + '=';
				var addy399436da306b84221fa40c2d410fed5b = 's&#101;c-
 w&#101;st' + '&#64;';
				addy399436da306b84221fa40c2d410fed5b = addy399436
 da306b84221fa40c2d410fed5b + 'sc&#97;cr' + '&#46;' + '&#111;rg';
				var ad
 dy_text399436da306b84221fa40c2d410fed5b = 's&#101;c-w&#101;st' + '&#64;' + 
 'sc&#97;cr' + '&#46;' + '&#111;rg';document.getElementById('cloak399436da30
 6b84221fa40c2d410fed5b').innerHTML += '<a ' + path + '\'' + prefix + ':' + 
 addy399436da306b84221fa40c2d410fed5b + '\'>'+addy_text399436da306b84221fa40
 c2d410fed5b+'';
		 if you require refreshments.\nLook forward to seeing you
  there\nPLEASE NOTE THAT PLACES FOR THIS EVENT ARE NOW FULL.  THERE IS A WA
 ITING LIST - CONTACT CHRISTINE BUTTERFIELD IF YOU WOULD LIKE TO BE ADDED TO
  THIS LIST.\n This event was imported from: https://www.scacr.org/news-even
 ts/calendar/1242/beyond-plain-hunt?tmpl=component (https://www.scacr.org/ne
 ws-events/calendar/1242/beyond-plain-hunt?tmpl=component)
X-ALT-DESC;FMTTYPE=text/html:<p>A great opportunity to ring on this ground floor tower with a supportive
  band.&nbsp; This is a regular monthly event for those who can ring rounds,
  call&nbsp; changes and Plain Hunt are ready to progress to Doubles.&nbsp; 
 &nbsp;Refreshments are also provided.&nbsp;</p><p>It is imperative that you
  contact Christine Butterfeld on 01903 872623 so that she can monitor numbe
 rs.&nbsp; E mail <span id="cloak399436da306b84221fa40c2d410fed5b">This emai
 l address is being protected from spambots. You need JavaScript enabled to 
 view it.</span><script type='text/javascript'>
				document.getElementById(
 'cloak399436da306b84221fa40c2d410fed5b').innerHTML = '';
				var prefix = '
 &#109;a' + 'i&#108;' + '&#116;o';
				var path = 'hr' + 'ef' + '=';
				var
  addy399436da306b84221fa40c2d410fed5b = 's&#101;c-w&#101;st' + '&#64;';
			
 	addy399436da306b84221fa40c2d410fed5b = addy399436da306b84221fa40c2d410fed5
 b + 'sc&#97;cr' + '&#46;' + '&#111;rg';
				var addy_text399436da306b84221f
 a40c2d410fed5b = 's&#101;c-w&#101;st' + '&#64;' + 'sc&#97;cr' + '&#46;' + '
 &#111;rg';document.getElementById('cloak399436da306b84221fa40c2d410fed5b').
 innerHTML += '<a ' + path + '\'' + prefix + ':' + addy399436da306b84221fa40
 c2d410fed5b + '\'>'+addy_text399436da306b84221fa40c2d410fed5b+'<\/a>';
		</
 script>&nbsp;if you require refreshments.</p><p>Look forward to seeing you 
 there</p><p>PLEASE NOTE THAT PLACES FOR THIS EVENT ARE NOW FULL.&nbsp; THER
 E IS A WAITING LIST - CONTACT CHRISTINE BUTTERFIELD IF YOU WOULD LIKE TO BE
  ADDED TO THIS LIST.</p> <a href="https://www.scacr.org/news-events/calenda
 r/1242/beyond-plain-hunt?tmpl=component">This event was imported from: http
 s://www.scacr.org/news-events/calendar/1242/beyond-plain-hunt?tmpl=componen
 t</a>CONTACT:Christine Butterfield 01903 872623
DTSTAMP:20260423T225343
DTSTART;TZID=Europe/London:20240302T093000
DTEND;TZID=Europe/London:20240302T120000
SEQUENCE:0
TRANSP:OPAQUE
END:VEVENT
END:VCALENDAR