BEGIN:VCALENDAR
VERSION:2.0
PRODID:-//jEvents 2.0 for Joomla//EN
CALSCALE:GREGORIAN
METHOD:PUBLISH
BEGIN:VTIMEZONE
TZID:Europe/London
BEGIN:STANDARD
DTSTART:20230309T104500
RDATE:20230326T020000
TZOFFSETFROM:+0100
TZOFFSETTO:+0000
TZNAME:Europe/London GMT
END:STANDARD
BEGIN:STANDARD
DTSTART:20231029T010000
RDATE:20240331T020000
TZOFFSETFROM:+0100
TZOFFSETTO:+0000
TZNAME:Europe/London GMT
END:STANDARD
BEGIN:STANDARD
DTSTART:20241027T010000
RDATE:20250330T020000
TZOFFSETFROM:+0100
TZOFFSETTO:+0000
TZNAME:Europe/London GMT
END:STANDARD
BEGIN:STANDARD
DTSTART:20251026T010000
RDATE:20260329T020000
TZOFFSETFROM:+0100
TZOFFSETTO:+0000
TZNAME:Europe/London GMT
END:STANDARD
BEGIN:STANDARD
DTSTART:20261025T010000
RDATE:20270328T020000
TZOFFSETFROM:+0100
TZOFFSETTO:+0000
TZNAME:Europe/London GMT
END:STANDARD
BEGIN:STANDARD
DTSTART:20271031T010000
RDATE:20280326T020000
TZOFFSETFROM:+0100
TZOFFSETTO:+0000
TZNAME:Europe/London GMT
END:STANDARD
BEGIN:STANDARD
DTSTART:20281029T010000
RDATE:20290325T020000
TZOFFSETFROM:+0100
TZOFFSETTO:+0000
TZNAME:Europe/London GMT
END:STANDARD
BEGIN:STANDARD
DTSTART:20291028T010000
RDATE:20300331T020000
TZOFFSETFROM:+0100
TZOFFSETTO:+0000
TZNAME:Europe/London GMT
END:STANDARD
BEGIN:STANDARD
DTSTART:20301027T010000
RDATE:20310330T020000
TZOFFSETFROM:+0100
TZOFFSETTO:+0000
TZNAME:Europe/London GMT
END:STANDARD
BEGIN:DAYLIGHT
DTSTART:20230326T020000
RDATE:20231029T010000
TZOFFSETFROM:+0000
TZOFFSETTO:+0100
TZNAME:Europe/London BST
END:DAYLIGHT
BEGIN:DAYLIGHT
DTSTART:20240331T020000
RDATE:20241027T010000
TZOFFSETFROM:+0000
TZOFFSETTO:+0100
TZNAME:Europe/London BST
END:DAYLIGHT
BEGIN:DAYLIGHT
DTSTART:20250330T020000
RDATE:20251026T010000
TZOFFSETFROM:+0000
TZOFFSETTO:+0100
TZNAME:Europe/London BST
END:DAYLIGHT
BEGIN:DAYLIGHT
DTSTART:20260329T020000
RDATE:20261025T010000
TZOFFSETFROM:+0000
TZOFFSETTO:+0100
TZNAME:Europe/London BST
END:DAYLIGHT
BEGIN:DAYLIGHT
DTSTART:20270328T020000
RDATE:20271031T010000
TZOFFSETFROM:+0000
TZOFFSETTO:+0100
TZNAME:Europe/London BST
END:DAYLIGHT
BEGIN:DAYLIGHT
DTSTART:20280326T020000
RDATE:20281029T010000
TZOFFSETFROM:+0000
TZOFFSETTO:+0100
TZNAME:Europe/London BST
END:DAYLIGHT
BEGIN:DAYLIGHT
DTSTART:20290325T020000
RDATE:20291028T010000
TZOFFSETFROM:+0000
TZOFFSETTO:+0100
TZNAME:Europe/London BST
END:DAYLIGHT
BEGIN:DAYLIGHT
DTSTART:20300331T020000
RDATE:20301027T010000
TZOFFSETFROM:+0000
TZOFFSETTO:+0100
TZNAME:Europe/London BST
END:DAYLIGHT
END:VTIMEZONE
BEGIN:VEVENT
UID:ac514fdda52ab01a39c5f31512d6044d
CATEGORIES:West
CREATED:20240216T121036
SUMMARY:Ringing, pub lunch, Ringing!
LOCATION:St Bartholomew's church Rogate\, St Luke's Church\, Milland
URL;VALUE=URI:https://www.scacr.org/news-events/calendar/1241/ringing-pub-lunch-ringing?t
 mpl=component
DESCRIPTION:An opportunity for a Pub lunch and also to ring at 2 towers!!!  Starting at
  10.45 at St Bartholomew's Church, Rogate GU31 5EA until Midday and then a 
 short drive to The Flying Bull Pub in Rake  GU33 7JB for lunch from 12.30 -
  13.45 and then another short drive to St Luke's Church, Milland GU30 7JL f
 or ringing from 14.00 - 15.00. See attached poster for full details!!  YOU 
 MUST BOOK LUNCH PRIOR TO THE EVENT BY THE END OF DAY TUESDAY 5TH MARCH  dir
 ectly to sec-west@scacr (mailto:sec-west@scacr'org).org or ring janice on 0
 7890804339.    The menu is available on the pub website  - there is main me
 nu, a sandwich menu and a gluten free menu.  Look forward to seeing you the
 re!  \nThe plan is to have a raffle in aid of BRF so any donations of prize
 s would be very welcome!\n This event was imported from: https://www.scacr.
 org/news-events/calendar/1241/ringing-pub-lunch-ringing?tmpl=component (htt
 ps://www.scacr.org/news-events/calendar/1241/ringing-pub-lunch-ringing?tmpl
 =component)
X-ALT-DESC;FMTTYPE=text/html:<p>An opportunity for a Pub lunch and also to ring at 2 towers!!!&nbsp; Sta
 rting at 10.45 at St Bartholomew's Church, Rogate GU31 5EA until Midday and
  then a short drive to The Flying Bull Pub in Rake&nbsp; GU33 7JB for lunch
  from 12.30 - 13.45 and then another short drive to St Luke's Church, Milla
 nd GU30 7JL for ringing from 14.00 - 15.00. See attached poster for full de
 tails!!&nbsp; YOU MUST BOOK LUNCH PRIOR TO THE EVENT BY THE END OF DAY TUES
 DAY 5TH MARCH&nbsp; directly to <a href="mailto:sec-west@scacr'org">sec-wes
 t@scacr</a>.org or ring janice on 07890804339.&nbsp; &nbsp; The menu is ava
 ilable on the pub website&nbsp; - there is main menu, a sandwich menu and a
  gluten free menu.&nbsp; Look forward to seeing you there!&nbsp;&nbsp;</p><
 p>The plan is to have a raffle in aid of BRF so any donations of prizes wou
 ld be very welcome!</p> <a href="https://www.scacr.org/news-events/calendar
 /1241/ringing-pub-lunch-ringing?tmpl=component">This event was imported fro
 m: https://www.scacr.org/news-events/calendar/1241/ringing-pub-lunch-ringin
 g?tmpl=component</a>CONTACT:This email address is being protected from spambots. You need JavaScript enabled to view it.
				document.getElementById('cloak23de36da575a80a27f00f1df667586b6').innerHTML = '';
				var prefix = '&#109;a' + 'i&#108;' + '&#116;o';
				var path = 'hr' + 'ef' + '=';
				var addy23de36da575a80a27f00f1df667586b6 = 's&#101;c-w&#101;st' + '&#64;';
				addy23de36da575a80a27f00f1df667586b6 = addy23de36da575a80a27f00f1df667586b6 + 'sc&#97;cr' + '&#46;' + '&#111;rg';
				var addy_text23de36da575a80a27f00f1df667586b6 = 's&#101;c-w&#101;st' + '&#64;' + 'sc&#97;cr' + '&#46;' + '&#111;rg';document.getElementById('cloak23de36da575a80a27f00f1df667586b6').innerHTML += '<a ' + path + '\'' + prefix + ':' + addy23de36da575a80a27f00f1df667586b6 + '\'>'+addy_text23de36da575a80a27f00f1df667586b6+'';
		
X-EXTRAINFO:Please see attached poster for full details.
DTSTAMP:20260421T134559
DTSTART;TZID=Europe/London:20240309T104500
DTEND;TZID=Europe/London:20240309T150000
SEQUENCE:0
TRANSP:OPAQUE
END:VEVENT
END:VCALENDAR