BEGIN:VCALENDAR
VERSION:2.0
PRODID:-//jEvents 2.0 for Joomla//EN
CALSCALE:GREGORIAN
METHOD:PUBLISH
BEGIN:VTIMEZONE
TZID:Europe/London
BEGIN:STANDARD
DTSTART:20231029T010000
RDATE:20240331T020000
TZOFFSETFROM:+0100
TZOFFSETTO:+0000
TZNAME:Europe/London GMT
END:STANDARD
BEGIN:STANDARD
DTSTART:20241027T010000
RDATE:20250330T020000
TZOFFSETFROM:+0100
TZOFFSETTO:+0000
TZNAME:Europe/London GMT
END:STANDARD
BEGIN:STANDARD
DTSTART:20251026T010000
RDATE:20260329T020000
TZOFFSETFROM:+0100
TZOFFSETTO:+0000
TZNAME:Europe/London GMT
END:STANDARD
BEGIN:STANDARD
DTSTART:20261025T010000
RDATE:20270328T020000
TZOFFSETFROM:+0100
TZOFFSETTO:+0000
TZNAME:Europe/London GMT
END:STANDARD
BEGIN:STANDARD
DTSTART:20271031T010000
RDATE:20280326T020000
TZOFFSETFROM:+0100
TZOFFSETTO:+0000
TZNAME:Europe/London GMT
END:STANDARD
BEGIN:STANDARD
DTSTART:20281029T010000
RDATE:20290325T020000
TZOFFSETFROM:+0100
TZOFFSETTO:+0000
TZNAME:Europe/London GMT
END:STANDARD
BEGIN:STANDARD
DTSTART:20291028T010000
RDATE:20300331T020000
TZOFFSETFROM:+0100
TZOFFSETTO:+0000
TZNAME:Europe/London GMT
END:STANDARD
BEGIN:STANDARD
DTSTART:20301027T010000
RDATE:20310330T020000
TZOFFSETFROM:+0100
TZOFFSETTO:+0000
TZNAME:Europe/London GMT
END:STANDARD
BEGIN:DAYLIGHT
DTSTART:20230512T140000
RDATE:20231029T010000
TZOFFSETFROM:+0000
TZOFFSETTO:+0100
TZNAME:Europe/London BST
END:DAYLIGHT
BEGIN:DAYLIGHT
DTSTART:20240331T020000
RDATE:20241027T010000
TZOFFSETFROM:+0000
TZOFFSETTO:+0100
TZNAME:Europe/London BST
END:DAYLIGHT
BEGIN:DAYLIGHT
DTSTART:20250330T020000
RDATE:20251026T010000
TZOFFSETFROM:+0000
TZOFFSETTO:+0100
TZNAME:Europe/London BST
END:DAYLIGHT
BEGIN:DAYLIGHT
DTSTART:20260329T020000
RDATE:20261025T010000
TZOFFSETFROM:+0000
TZOFFSETTO:+0100
TZNAME:Europe/London BST
END:DAYLIGHT
BEGIN:DAYLIGHT
DTSTART:20270328T020000
RDATE:20271031T010000
TZOFFSETFROM:+0000
TZOFFSETTO:+0100
TZNAME:Europe/London BST
END:DAYLIGHT
BEGIN:DAYLIGHT
DTSTART:20280326T020000
RDATE:20281029T010000
TZOFFSETFROM:+0000
TZOFFSETTO:+0100
TZNAME:Europe/London BST
END:DAYLIGHT
BEGIN:DAYLIGHT
DTSTART:20290325T020000
RDATE:20291028T010000
TZOFFSETFROM:+0000
TZOFFSETTO:+0100
TZNAME:Europe/London BST
END:DAYLIGHT
BEGIN:DAYLIGHT
DTSTART:20300331T020000
RDATE:20301027T010000
TZOFFSETFROM:+0000
TZOFFSETTO:+0100
TZNAME:Europe/London BST
END:DAYLIGHT
END:VTIMEZONE
BEGIN:VEVENT
UID:2383e571125cb32dbe94de309de20680
CATEGORIES:Young Ringers Event
CREATED:20240121T141529
SUMMARY:Sussex Young Ringers - everyone welcome
LOCATION:East Grinstead
URL;VALUE=URI:https://www.scacr.org/news-events/calendar/1239/sussex-young-ringers-everyo
 ne-welcome?tmpl=component
DESCRIPTION:Another chance to get together with other young ringers for general ringing
  and cake.\nNeighbours from the surrounding counties re very welcome to joi
 n us.\nIt would be helpful to know if you're coming so do get in touch with
  us.\n This event was imported from: https://www.scacr.org/news-events/cale
 ndar/1239/sussex-young-ringers-everyone-welcome?tmpl=component (https://www
 .scacr.org/news-events/calendar/1239/sussex-young-ringers-everyone-welcome?
 tmpl=component)
X-ALT-DESC;FMTTYPE=text/html:<p>Another chance to get together with other young ringers for general ring
 ing and cake.</p><p>Neighbours from the surrounding counties re very welcom
 e to join us.</p><p>It would be helpful to know if you're coming so do get 
 in touch with us.</p> <a href="https://www.scacr.org/news-events/calendar/1
 239/sussex-young-ringers-everyone-welcome?tmpl=component">This event was im
 ported from: https://www.scacr.org/news-events/calendar/1239/sussex-young-r
 ingers-everyone-welcome?tmpl=component</a>CONTACT:Marisa Hayes 07796 145464 (text / whatsapp)
X-EXTRAINFO:Parking for St Swithun's is available. Alternatively travel by train.
DTSTAMP:20260421T085946
DTSTART;TZID=Europe/London:20240512T140000
DTEND;TZID=Europe/London:20240512T153000
SEQUENCE:0
TRANSP:OPAQUE
END:VEVENT
END:VCALENDAR