BEGIN:VCALENDAR
VERSION:2.0
PRODID:-//jEvents 2.0 for Joomla//EN
CALSCALE:GREGORIAN
METHOD:PUBLISH
BEGIN:VTIMEZONE
TZID:Europe/London
BEGIN:STANDARD
DTSTART:20231029T010000
RDATE:20240331T020000
TZOFFSETFROM:+0100
TZOFFSETTO:+0000
TZNAME:Europe/London GMT
END:STANDARD
BEGIN:STANDARD
DTSTART:20241027T010000
RDATE:20250330T020000
TZOFFSETFROM:+0100
TZOFFSETTO:+0000
TZNAME:Europe/London GMT
END:STANDARD
BEGIN:STANDARD
DTSTART:20251026T010000
RDATE:20260329T020000
TZOFFSETFROM:+0100
TZOFFSETTO:+0000
TZNAME:Europe/London GMT
END:STANDARD
BEGIN:STANDARD
DTSTART:20261025T010000
RDATE:20270328T020000
TZOFFSETFROM:+0100
TZOFFSETTO:+0000
TZNAME:Europe/London GMT
END:STANDARD
BEGIN:STANDARD
DTSTART:20271031T010000
RDATE:20280326T020000
TZOFFSETFROM:+0100
TZOFFSETTO:+0000
TZNAME:Europe/London GMT
END:STANDARD
BEGIN:STANDARD
DTSTART:20281029T010000
RDATE:20290325T020000
TZOFFSETFROM:+0100
TZOFFSETTO:+0000
TZNAME:Europe/London GMT
END:STANDARD
BEGIN:STANDARD
DTSTART:20291028T010000
RDATE:20300331T020000
TZOFFSETFROM:+0100
TZOFFSETTO:+0000
TZNAME:Europe/London GMT
END:STANDARD
BEGIN:STANDARD
DTSTART:20301027T010000
RDATE:20310330T020000
TZOFFSETFROM:+0100
TZOFFSETTO:+0000
TZNAME:Europe/London GMT
END:STANDARD
BEGIN:DAYLIGHT
DTSTART:20230427T013000
RDATE:20231029T010000
TZOFFSETFROM:+0000
TZOFFSETTO:+0100
TZNAME:Europe/London BST
END:DAYLIGHT
BEGIN:DAYLIGHT
DTSTART:20240331T020000
RDATE:20241027T010000
TZOFFSETFROM:+0000
TZOFFSETTO:+0100
TZNAME:Europe/London BST
END:DAYLIGHT
BEGIN:DAYLIGHT
DTSTART:20250330T020000
RDATE:20251026T010000
TZOFFSETFROM:+0000
TZOFFSETTO:+0100
TZNAME:Europe/London BST
END:DAYLIGHT
BEGIN:DAYLIGHT
DTSTART:20260329T020000
RDATE:20261025T010000
TZOFFSETFROM:+0000
TZOFFSETTO:+0100
TZNAME:Europe/London BST
END:DAYLIGHT
BEGIN:DAYLIGHT
DTSTART:20270328T020000
RDATE:20271031T010000
TZOFFSETFROM:+0000
TZOFFSETTO:+0100
TZNAME:Europe/London BST
END:DAYLIGHT
BEGIN:DAYLIGHT
DTSTART:20280326T020000
RDATE:20281029T010000
TZOFFSETFROM:+0000
TZOFFSETTO:+0100
TZNAME:Europe/London BST
END:DAYLIGHT
BEGIN:DAYLIGHT
DTSTART:20290325T020000
RDATE:20291028T010000
TZOFFSETFROM:+0000
TZOFFSETTO:+0100
TZNAME:Europe/London BST
END:DAYLIGHT
BEGIN:DAYLIGHT
DTSTART:20300331T020000
RDATE:20301027T010000
TZOFFSETFROM:+0000
TZOFFSETTO:+0100
TZNAME:Europe/London BST
END:DAYLIGHT
END:VTIMEZONE
BEGIN:VEVENT
UID:5d2a2108eb71edc199f34f8d3bddbb73
CATEGORIES:East
CREATED:20240115T215605
SUMMARY:Eastern District Practice (Two Towers)
LOCATION:Dallington &amp; Brightling
URL;VALUE=URI:https://www.scacr.org/news-events/calendar/1230/eastern-district-practice-t
 wo-towers?tmpl=component
DESCRIPTION:Eastern District Monthly Practice\nJoin us for the April event as we ring a
 t Dallington and Brightling.\n1:30pm - St Giles, Dallington, where ringing 
 will take place on the 10cwt ring of 6 bells.\n3:00pm - Follow in the steps
  of John "Mad Jack" Fuller with ringing at Brightling, on the 12cwt ring of
  8, a church whose churchyard is dominated by "The Pyramid": Jack Fuller's 
 mausoleum.  \nThe walk element of this outing has been removed due ot the v
 ery wet underfoot conditions that are still plaguing us in mid-March, meani
 ng it is too wet to trial the route beforehand at the moment.  Although con
 ditions may well have improved a lot by the end of April (let's hope!), the
  need to put final times on the day's arrangements.  If anyone fancies a wa
 lk on the day, there is the circular Jack Fuller walk around the follies fr
 om Brightling Church, which can be done before or after ringing.\n This eve
 nt was imported from: https://www.scacr.org/news-events/calendar/1230/easte
 rn-district-practice-two-towers?tmpl=component (https://www.scacr.org/news-
 events/calendar/1230/eastern-district-practice-two-towers?tmpl=component)
X-ALT-DESC;FMTTYPE=text/html:<p><strong>Eastern District Monthly Practice</strong></p><p><strong>Join us
  for the April event as we ring at Dallington and Brightling.</strong></p><
 p><em>1:30pm - St Giles, Dallington, where ringing will take place on the 1
 0cwt ring of 6 bells.</em></p><p><em>3:00pm - Follow in the steps of John "
 Mad Jack" Fuller with ringing at Brightling, on the 12cwt ring of 8, a chur
 ch whose churchyard is dominated by "The Pyramid": Jack Fuller's&nbsp;mauso
 leum.&nbsp;&nbsp;</em></p><p>The walk element of this outing has been remov
 ed due ot the very wet underfoot conditions that are still plaguing us in m
 id-March, meaning it is too wet to trial the route beforehand at the moment
 .&nbsp; Although conditions may well have improved a lot by the end of Apri
 l (let's hope!), the need to put final times on the day's arrangements.&nbs
 p; If anyone fancies a walk on the day, there is the circular Jack Fuller w
 alk around the follies from Brightling Church, which can be done before or 
 after ringing.</p> <a href="https://www.scacr.org/news-events/calendar/1230
 /eastern-district-practice-two-towers?tmpl=component">This event was import
 ed from: https://www.scacr.org/news-events/calendar/1230/eastern-district-p
 ractice-two-towers?tmpl=component</a>CONTACT:This email address is being protected from spambots. You need JavaScript enabled to view it.
				document.getElementById('cloak4ec3db62afcd85bc1137b6e754f0df63').innerHTML = '';
				var prefix = '&#109;a' + 'i&#108;' + '&#116;o';
				var path = 'hr' + 'ef' + '=';
				var addy4ec3db62afcd85bc1137b6e754f0df63 = 's&#101;c-&#101;&#97;st' + '&#64;';
				addy4ec3db62afcd85bc1137b6e754f0df63 = addy4ec3db62afcd85bc1137b6e754f0df63 + 'sc&#97;cr' + '&#46;' + '&#111;rg';
				var addy_text4ec3db62afcd85bc1137b6e754f0df63 = 's&#101;c-&#101;&#97;st' + '&#64;' + 'sc&#97;cr' + '&#46;' + '&#111;rg';document.getElementById('cloak4ec3db62afcd85bc1137b6e754f0df63').innerHTML += '<a ' + path + '\'' + prefix + ':' + addy4ec3db62afcd85bc1137b6e754f0df63 + '\'>'+addy_text4ec3db62afcd85bc1137b6e754f0df63+'';
		
DTSTAMP:20260423T225344
DTSTART;TZID=Europe/London:20240427T013000
SEQUENCE:0
TRANSP:OPAQUE
END:VEVENT
END:VCALENDAR