BEGIN:VCALENDAR
VERSION:2.0
PRODID:-//jEvents 2.0 for Joomla//EN
CALSCALE:GREGORIAN
METHOD:PUBLISH
BEGIN:VTIMEZONE
TZID:Europe/London
BEGIN:STANDARD
DTSTART:20231029T010000
RDATE:20240331T020000
TZOFFSETFROM:+0100
TZOFFSETTO:+0000
TZNAME:Europe/London GMT
END:STANDARD
BEGIN:STANDARD
DTSTART:20241027T010000
RDATE:20250330T020000
TZOFFSETFROM:+0100
TZOFFSETTO:+0000
TZNAME:Europe/London GMT
END:STANDARD
BEGIN:STANDARD
DTSTART:20251026T010000
RDATE:20260329T020000
TZOFFSETFROM:+0100
TZOFFSETTO:+0000
TZNAME:Europe/London GMT
END:STANDARD
BEGIN:STANDARD
DTSTART:20261025T010000
RDATE:20270328T020000
TZOFFSETFROM:+0100
TZOFFSETTO:+0000
TZNAME:Europe/London GMT
END:STANDARD
BEGIN:STANDARD
DTSTART:20271031T010000
RDATE:20280326T020000
TZOFFSETFROM:+0100
TZOFFSETTO:+0000
TZNAME:Europe/London GMT
END:STANDARD
BEGIN:STANDARD
DTSTART:20281029T010000
RDATE:20290325T020000
TZOFFSETFROM:+0100
TZOFFSETTO:+0000
TZNAME:Europe/London GMT
END:STANDARD
BEGIN:STANDARD
DTSTART:20291028T010000
RDATE:20300331T020000
TZOFFSETFROM:+0100
TZOFFSETTO:+0000
TZNAME:Europe/London GMT
END:STANDARD
BEGIN:STANDARD
DTSTART:20301027T010000
RDATE:20310330T020000
TZOFFSETFROM:+0100
TZOFFSETTO:+0000
TZNAME:Europe/London GMT
END:STANDARD
BEGIN:DAYLIGHT
DTSTART:20230326T200000
RDATE:20231029T010000
TZOFFSETFROM:+0000
TZOFFSETTO:+0100
TZNAME:Europe/London BST
END:DAYLIGHT
BEGIN:DAYLIGHT
DTSTART:20240331T020000
RDATE:20241027T010000
TZOFFSETFROM:+0000
TZOFFSETTO:+0100
TZNAME:Europe/London BST
END:DAYLIGHT
BEGIN:DAYLIGHT
DTSTART:20250330T020000
RDATE:20251026T010000
TZOFFSETFROM:+0000
TZOFFSETTO:+0100
TZNAME:Europe/London BST
END:DAYLIGHT
BEGIN:DAYLIGHT
DTSTART:20260329T020000
RDATE:20261025T010000
TZOFFSETFROM:+0000
TZOFFSETTO:+0100
TZNAME:Europe/London BST
END:DAYLIGHT
BEGIN:DAYLIGHT
DTSTART:20270328T020000
RDATE:20271031T010000
TZOFFSETFROM:+0000
TZOFFSETTO:+0100
TZNAME:Europe/London BST
END:DAYLIGHT
BEGIN:DAYLIGHT
DTSTART:20280326T020000
RDATE:20281029T010000
TZOFFSETFROM:+0000
TZOFFSETTO:+0100
TZNAME:Europe/London BST
END:DAYLIGHT
BEGIN:DAYLIGHT
DTSTART:20290325T020000
RDATE:20291028T010000
TZOFFSETFROM:+0000
TZOFFSETTO:+0100
TZNAME:Europe/London BST
END:DAYLIGHT
BEGIN:DAYLIGHT
DTSTART:20300331T020000
RDATE:20301027T010000
TZOFFSETFROM:+0000
TZOFFSETTO:+0100
TZNAME:Europe/London BST
END:DAYLIGHT
END:VTIMEZONE
BEGIN:VEVENT
UID:4a13198715cf58c2c5cc9f62f508e156
CATEGORIES:East
CREATED:20240115T211015
SUMMARY:Eastern District Quiz and Supper
LOCATION:Hailsham Civic Hall
URL;VALUE=URI:https://www.scacr.org/news-events/calendar/1228/eastern-district-quiz-and-s
 upper?tmpl=component
DESCRIPTION:Quiz and supper at Hailsham Civic Hall (by the Leisure Centre). \nDoors ope
 n 7:00 for 7:30 start - application forms will be sent out shortly.\nAlthou
 gh most towers fall silent for Holy Week, this isn't an excuse to have a we
 ek off as once again the Eastern District Quiz will be taking place at Hail
 sham Civic Hall on Tuesday 26th March.\nAs usual the evening will feature q
 uestions set and hosted by last year's winners (the combined brains of the 
 Heathfield band) and will have a break midway for a fish and chip supper.\n
 Look out for application forms coming to your tower soon!\n This event was 
 imported from: https://www.scacr.org/news-events/calendar/1228/eastern-dist
 rict-quiz-and-supper?tmpl=component (https://www.scacr.org/news-events/cale
 ndar/1228/eastern-district-quiz-and-supper?tmpl=component)
X-ALT-DESC;FMTTYPE=text/html:<p><strong>Quiz and supper at Hailsham Civic Hall (by the Leisure Centre). 
 </strong></p><p>Doors open 7:00 for 7:30 start - application forms will be 
 sent out shortly.</p><p>Although most towers fall silent for Holy Week, thi
 s isn't an excuse to have a week off as once again the Eastern District Qui
 z will be taking place at Hailsham Civic Hall on Tuesday 26th March.</p><p>
 As usual the evening will feature questions set and hosted by last year's w
 inners (the combined brains of the Heathfield band) and will have a break m
 idway for a fish and chip supper.</p><p>Look out for application forms comi
 ng to your tower soon!</p> <a href="https://www.scacr.org/news-events/calen
 dar/1228/eastern-district-quiz-and-supper?tmpl=component">This event was im
 ported from: https://www.scacr.org/news-events/calendar/1228/eastern-distri
 ct-quiz-and-supper?tmpl=component</a>CONTACT:This email address is being protected from spambots. You need JavaScript enabled to view it.
				document.getElementById('cloakd1e3828090522647f7c09c4b5f654e58').innerHTML = '';
				var prefix = '&#109;a' + 'i&#108;' + '&#116;o';
				var path = 'hr' + 'ef' + '=';
				var addyd1e3828090522647f7c09c4b5f654e58 = 's&#101;c-&#101;&#97;st' + '&#64;';
				addyd1e3828090522647f7c09c4b5f654e58 = addyd1e3828090522647f7c09c4b5f654e58 + 'sc&#97;cr' + '&#46;' + '&#111;rg';
				var addy_textd1e3828090522647f7c09c4b5f654e58 = 's&#101;c-&#101;&#97;st' + '&#64;' + 'sc&#97;cr' + '&#46;' + '&#111;rg';document.getElementById('cloakd1e3828090522647f7c09c4b5f654e58').innerHTML += '<a ' + path + '\'' + prefix + ':' + addyd1e3828090522647f7c09c4b5f654e58 + '\'>'+addy_textd1e3828090522647f7c09c4b5f654e58+'';
		
DTSTAMP:20260421T132813
DTSTART;TZID=Europe/London:20240326T190000
SEQUENCE:0
TRANSP:OPAQUE
END:VEVENT
END:VCALENDAR