BEGIN:VCALENDAR
VERSION:2.0
PRODID:-//jEvents 2.0 for Joomla//EN
CALSCALE:GREGORIAN
METHOD:PUBLISH
BEGIN:VTIMEZONE
TZID:Europe/London
BEGIN:STANDARD
DTSTART:20230119T140000
RDATE:20230326T020000
TZOFFSETFROM:+0100
TZOFFSETTO:+0000
TZNAME:Europe/London GMT
END:STANDARD
BEGIN:STANDARD
DTSTART:20231029T010000
RDATE:20240331T020000
TZOFFSETFROM:+0100
TZOFFSETTO:+0000
TZNAME:Europe/London GMT
END:STANDARD
BEGIN:STANDARD
DTSTART:20241027T010000
RDATE:20250330T020000
TZOFFSETFROM:+0100
TZOFFSETTO:+0000
TZNAME:Europe/London GMT
END:STANDARD
BEGIN:STANDARD
DTSTART:20251026T010000
RDATE:20260329T020000
TZOFFSETFROM:+0100
TZOFFSETTO:+0000
TZNAME:Europe/London GMT
END:STANDARD
BEGIN:STANDARD
DTSTART:20261025T010000
RDATE:20270328T020000
TZOFFSETFROM:+0100
TZOFFSETTO:+0000
TZNAME:Europe/London GMT
END:STANDARD
BEGIN:STANDARD
DTSTART:20271031T010000
RDATE:20280326T020000
TZOFFSETFROM:+0100
TZOFFSETTO:+0000
TZNAME:Europe/London GMT
END:STANDARD
BEGIN:STANDARD
DTSTART:20281029T010000
RDATE:20290325T020000
TZOFFSETFROM:+0100
TZOFFSETTO:+0000
TZNAME:Europe/London GMT
END:STANDARD
BEGIN:STANDARD
DTSTART:20291028T010000
RDATE:20300331T020000
TZOFFSETFROM:+0100
TZOFFSETTO:+0000
TZNAME:Europe/London GMT
END:STANDARD
BEGIN:STANDARD
DTSTART:20301027T010000
RDATE:20310330T020000
TZOFFSETFROM:+0100
TZOFFSETTO:+0000
TZNAME:Europe/London GMT
END:STANDARD
BEGIN:DAYLIGHT
DTSTART:20230326T020000
RDATE:20231029T010000
TZOFFSETFROM:+0000
TZOFFSETTO:+0100
TZNAME:Europe/London BST
END:DAYLIGHT
BEGIN:DAYLIGHT
DTSTART:20240331T020000
RDATE:20241027T010000
TZOFFSETFROM:+0000
TZOFFSETTO:+0100
TZNAME:Europe/London BST
END:DAYLIGHT
BEGIN:DAYLIGHT
DTSTART:20250330T020000
RDATE:20251026T010000
TZOFFSETFROM:+0000
TZOFFSETTO:+0100
TZNAME:Europe/London BST
END:DAYLIGHT
BEGIN:DAYLIGHT
DTSTART:20260329T020000
RDATE:20261025T010000
TZOFFSETFROM:+0000
TZOFFSETTO:+0100
TZNAME:Europe/London BST
END:DAYLIGHT
BEGIN:DAYLIGHT
DTSTART:20270328T020000
RDATE:20271031T010000
TZOFFSETFROM:+0000
TZOFFSETTO:+0100
TZNAME:Europe/London BST
END:DAYLIGHT
BEGIN:DAYLIGHT
DTSTART:20280326T020000
RDATE:20281029T010000
TZOFFSETFROM:+0000
TZOFFSETTO:+0100
TZNAME:Europe/London BST
END:DAYLIGHT
BEGIN:DAYLIGHT
DTSTART:20290325T020000
RDATE:20291028T010000
TZOFFSETFROM:+0000
TZOFFSETTO:+0100
TZNAME:Europe/London BST
END:DAYLIGHT
BEGIN:DAYLIGHT
DTSTART:20300331T020000
RDATE:20301027T010000
TZOFFSETFROM:+0000
TZOFFSETTO:+0100
TZNAME:Europe/London BST
END:DAYLIGHT
END:VTIMEZONE
BEGIN:VEVENT
UID:4f7a3d7eab834502d27015ac4bd8c016
CATEGORIES:West
CREATED:20231216T174455
SUMMARY:ROPE SPLICING!
LOCATION:St. Botolph's Church\, Heene.
URL;VALUE=URI:https://www.scacr.org/news-events/calendar/1218/rope-splicing?tmpl=componen
 t
DESCRIPTION:A great opportunity to learn how to or refresh your skills on Splicing a Ro
 pe!!  This will be a practical session with a friendly bunch!  Be sure  to 
 bring along your own rope to practice on!!  To book - contact Janice Crawfo
 rd on This email address is being protected from spambots. You need JavaScr
 ipt enabled to view it.
				document.getElementById('cloakcbebaa1ffd32e03bd
 2db91183ae43dc9').innerHTML = '';
				var prefix = '&#109;a' + 'i&#108;' + 
 '&#116;o';
				var path = 'hr' + 'ef' + '=';
				var addycbebaa1ffd32e03bd2
 db91183ae43dc9 = 's&#101;c-w&#101;st' + '&#64;';
				addycbebaa1ffd32e03bd2
 db91183ae43dc9 = addycbebaa1ffd32e03bd2db91183ae43dc9 + 'sc&#97;cr' + '&#46
 ;' + '&#111;rg';
				var addy_textcbebaa1ffd32e03bd2db91183ae43dc9 = 's&#10
 1;c-w&#101;st' + '&#64;' + 'sc&#97;cr' + '&#46;' + '&#111;rg';document.getE
 lementById('cloakcbebaa1ffd32e03bd2db91183ae43dc9').innerHTML += '<a ' + pa
 th + '\'' + prefix + ':' + addycbebaa1ffd32e03bd2db91183ae43dc9 + '\'>'+add
 y_textcbebaa1ffd32e03bd2db91183ae43dc9+'';
		 or call on 07890804339\n This
  event was imported from: https://www.scacr.org/news-events/calendar/1218/r
 ope-splicing?tmpl=component (https://www.scacr.org/news-events/calendar/121
 8/rope-splicing?tmpl=component)
X-ALT-DESC;FMTTYPE=text/html:<p>A great opportunity to learn how to or refresh your skills on Splicing a
  Rope!!&nbsp; This will be a practical session with a friendly bunch!&nbsp;
  Be sure&nbsp; to bring along your own rope to practice on!!&nbsp; To book 
 - contact Janice Crawford on <span id="cloakcbebaa1ffd32e03bd2db91183ae43dc
 9">This email address is being protected from spambots. You need JavaScript
  enabled to view it.</span><script type='text/javascript'>
				document.get
 ElementById('cloakcbebaa1ffd32e03bd2db91183ae43dc9').innerHTML = '';
				va
 r prefix = '&#109;a' + 'i&#108;' + '&#116;o';
				var path = 'hr' + 'ef' + 
 '=';
				var addycbebaa1ffd32e03bd2db91183ae43dc9 = 's&#101;c-w&#101;st' + 
 '&#64;';
				addycbebaa1ffd32e03bd2db91183ae43dc9 = addycbebaa1ffd32e03bd2d
 b91183ae43dc9 + 'sc&#97;cr' + '&#46;' + '&#111;rg';
				var addy_textcbebaa
 1ffd32e03bd2db91183ae43dc9 = 's&#101;c-w&#101;st' + '&#64;' + 'sc&#97;cr' +
  '&#46;' + '&#111;rg';document.getElementById('cloakcbebaa1ffd32e03bd2db911
 83ae43dc9').innerHTML += '<a ' + path + '\'' + prefix + ':' + addycbebaa1ff
 d32e03bd2db91183ae43dc9 + '\'>'+addy_textcbebaa1ffd32e03bd2db91183ae43dc9+'
 <\/a>';
		</script>&nbsp;or call on 07890804339</p> <a href="https://www.sc
 acr.org/news-events/calendar/1218/rope-splicing?tmpl=component">This event 
 was imported from: https://www.scacr.org/news-events/calendar/1218/rope-spl
 icing?tmpl=component</a>CONTACT:This email address is being protected from spambots. You need JavaScript enabled to view it.
				document.getElementById('cloakc4d410fd06e33863860be2840e92ce31').innerHTML = '';
				var prefix = '&#109;a' + 'i&#108;' + '&#116;o';
				var path = 'hr' + 'ef' + '=';
				var addyc4d410fd06e33863860be2840e92ce31 = 's&#101;c-w&#101;st' + '&#64;';
				addyc4d410fd06e33863860be2840e92ce31 = addyc4d410fd06e33863860be2840e92ce31 + 'sc&#97;cr' + '&#46;' + '&#111;rg';
				var addy_textc4d410fd06e33863860be2840e92ce31 = 's&#101;c-w&#101;st' + '&#64;' + 'sc&#97;cr' + '&#46;' + '&#111;rg';document.getElementById('cloakc4d410fd06e33863860be2840e92ce31').innerHTML += '<a ' + path + '\'' + prefix + ':' + addyc4d410fd06e33863860be2840e92ce31 + '\'>'+addy_textc4d410fd06e33863860be2840e92ce31+'';
		
X-EXTRAINFO:Bring along your own rope to practice on!
DTSTAMP:20260425T225450
DTSTART;TZID=Europe/London:20240120T140000
DTEND;TZID=Europe/London:20240120T160000
SEQUENCE:0
TRANSP:OPAQUE
END:VEVENT
END:VCALENDAR