BEGIN:VCALENDAR
VERSION:2.0
PRODID:-//jEvents 2.0 for Joomla//EN
CALSCALE:GREGORIAN
METHOD:PUBLISH
BEGIN:VTIMEZONE
TZID:Europe/London
BEGIN:STANDARD
DTSTART:20230209T143000
RDATE:20230326T020000
TZOFFSETFROM:+0100
TZOFFSETTO:+0000
TZNAME:Europe/London GMT
END:STANDARD
BEGIN:STANDARD
DTSTART:20231029T010000
RDATE:20240331T020000
TZOFFSETFROM:+0100
TZOFFSETTO:+0000
TZNAME:Europe/London GMT
END:STANDARD
BEGIN:STANDARD
DTSTART:20241027T010000
RDATE:20250330T020000
TZOFFSETFROM:+0100
TZOFFSETTO:+0000
TZNAME:Europe/London GMT
END:STANDARD
BEGIN:STANDARD
DTSTART:20251026T010000
RDATE:20260329T020000
TZOFFSETFROM:+0100
TZOFFSETTO:+0000
TZNAME:Europe/London GMT
END:STANDARD
BEGIN:STANDARD
DTSTART:20261025T010000
RDATE:20270328T020000
TZOFFSETFROM:+0100
TZOFFSETTO:+0000
TZNAME:Europe/London GMT
END:STANDARD
BEGIN:STANDARD
DTSTART:20271031T010000
RDATE:20280326T020000
TZOFFSETFROM:+0100
TZOFFSETTO:+0000
TZNAME:Europe/London GMT
END:STANDARD
BEGIN:STANDARD
DTSTART:20281029T010000
RDATE:20290325T020000
TZOFFSETFROM:+0100
TZOFFSETTO:+0000
TZNAME:Europe/London GMT
END:STANDARD
BEGIN:STANDARD
DTSTART:20291028T010000
RDATE:20300331T020000
TZOFFSETFROM:+0100
TZOFFSETTO:+0000
TZNAME:Europe/London GMT
END:STANDARD
BEGIN:STANDARD
DTSTART:20301027T010000
RDATE:20310330T020000
TZOFFSETFROM:+0100
TZOFFSETTO:+0000
TZNAME:Europe/London GMT
END:STANDARD
BEGIN:DAYLIGHT
DTSTART:20230326T020000
RDATE:20231029T010000
TZOFFSETFROM:+0000
TZOFFSETTO:+0100
TZNAME:Europe/London BST
END:DAYLIGHT
BEGIN:DAYLIGHT
DTSTART:20240331T020000
RDATE:20241027T010000
TZOFFSETFROM:+0000
TZOFFSETTO:+0100
TZNAME:Europe/London BST
END:DAYLIGHT
BEGIN:DAYLIGHT
DTSTART:20250330T020000
RDATE:20251026T010000
TZOFFSETFROM:+0000
TZOFFSETTO:+0100
TZNAME:Europe/London BST
END:DAYLIGHT
BEGIN:DAYLIGHT
DTSTART:20260329T020000
RDATE:20261025T010000
TZOFFSETFROM:+0000
TZOFFSETTO:+0100
TZNAME:Europe/London BST
END:DAYLIGHT
BEGIN:DAYLIGHT
DTSTART:20270328T020000
RDATE:20271031T010000
TZOFFSETFROM:+0000
TZOFFSETTO:+0100
TZNAME:Europe/London BST
END:DAYLIGHT
BEGIN:DAYLIGHT
DTSTART:20280326T020000
RDATE:20281029T010000
TZOFFSETFROM:+0000
TZOFFSETTO:+0100
TZNAME:Europe/London BST
END:DAYLIGHT
BEGIN:DAYLIGHT
DTSTART:20290325T020000
RDATE:20291028T010000
TZOFFSETFROM:+0000
TZOFFSETTO:+0100
TZNAME:Europe/London BST
END:DAYLIGHT
BEGIN:DAYLIGHT
DTSTART:20300331T020000
RDATE:20301027T010000
TZOFFSETFROM:+0000
TZOFFSETTO:+0100
TZNAME:Europe/London BST
END:DAYLIGHT
END:VTIMEZONE
BEGIN:VEVENT
UID:6dde6a40218291a84fe98e007a558b9a
CATEGORIES:West
CREATED:20231207T163207
SUMMARY:Annual District Meeting  - Western District.
LOCATION:St Margaret's Church\, Angmering
URL;VALUE=URI:https://www.scacr.org/news-events/calendar/1217/annual-district-meeting-wes
 tern-district?tmpl=component
DESCRIPTION:<p>PLEASE NOTE THAT THIS IS A CHANGE OF VENUE!!</p><p>Come along to this im
 portant Annual District Meeting and have your say!&nbsp; The afternoon will
  commence with ringing from 2.30 - 4pm followed by tea and then followed by
  the meeting!&nbsp; Agenda is attached..&nbsp; Any apologies, or items for 
 the agenda, please contact <span id="cloak904dde70c6a3ee9d7aa5ed8121532d79"
 >This email address is being protected from spambots. You need JavaScript e
 nabled to view it.</span><script type='text/javascript'>
				document.getEl
 ementById('cloak904dde70c6a3ee9d7aa5ed8121532d79').innerHTML = '';
				var 
 prefix = '&#109;a' + 'i&#108;' + '&#116;o';
				var path = 'hr' + 'ef' + '=
 ';
				var addy904dde70c6a3ee9d7aa5ed8121532d79 = 's&#101;c-w&#101;st' + '&
 #64;';
				addy904dde70c6a3ee9d7aa5ed8121532d79 = addy904dde70c6a3ee9d7aa5e
 d8121532d79 + 'sc&#97;cr' + '&#46;' + '&#111;rg';
				var addy_text904dde70
 c6a3ee9d7aa5ed8121532d79 = 's&#101;c-w&#101;st' + '&#64;' + 'sc&#97;cr' + '
 &#46;' + '&#111;rg';document.getElementById('cloak904dde70c6a3ee9d7aa5ed812
 1532d79').innerHTML += '<a ' + path + '\'' + prefix + ':' + addy904dde70c6a
 3ee9d7aa5ed8121532d79 + '\'>'+addy_text904dde70c6a3ee9d7aa5ed8121532d79+'<\
 /a>';
		</script>.&nbsp; .&nbsp; Names for tea please to <span id="cloak30e
 c6ce4e8ce90bc932048360c21a4ea">This email address is being protected from s
 pambots. You need JavaScript enabled to view it.</span><script type='text/j
 avascript'>
				document.getElementById('cloak30ec6ce4e8ce90bc932048360c21a
 4ea').innerHTML = '';
				var prefix = '&#109;a' + 'i&#108;' + '&#116;o';
	
 			var path = 'hr' + 'ef' + '=';
				var addy30ec6ce4e8ce90bc932048360c21a4
 ea = 's&#101;c-w&#101;st' + '&#64;';
				addy30ec6ce4e8ce90bc932048360c21a4
 ea = addy30ec6ce4e8ce90bc932048360c21a4ea + 'sc&#97;cr' + '&#46;' + '&#111;
 rg';
				var addy_text30ec6ce4e8ce90bc932048360c21a4ea = 's&#101;c-w&#101;s
 t' + '&#64;' + 'sc&#97;cr' + '&#46;' + '&#111;rg';document.getElementById('
 cloak30ec6ce4e8ce90bc932048360c21a4ea').innerHTML += '<a ' + path + '\'' + 
 prefix + ':' + addy30ec6ce4e8ce90bc932048360c21a4ea + '\'>'+addy_text30ec6c
 e4e8ce90bc932048360c21a4ea+'<\/a>';
		</script>&nbsp;by the close of day - 
 wednesday 7th February 2024.</p><p>Item 11 on the agenda will be a 'brainst
 orming' session&nbsp; - 'Supporting ringing in 2030'.&nbsp; asking the ques
 tions:</p><p>How would we like it to be?</p><p>What do we need?</p><p>Pleas
 e give this some thought beforehand - your viewss count and are needed!!!</
 p><p>Look forward to seeing you there<br /><br /></p><p>&nbsp;</p><p>&nbsp;
 </p> <a href="https://www.scacr.org/news-events/calendar/1217/annual-distri
 ct-meeting-western-district?tmpl=component">This event was imported from: h
 ttps://www.scacr.org/news-events/calendar/1217/annual-district-meeting-west
 ern-district?tmpl=component</a>CONTACT:This email address is being protected from spambots. You need JavaScript enabled to view it.
				document.getElementById('cloak275a3309c98a59cd7cf5e62453ccf45d').innerHTML = '';
				var prefix = '&#109;a' + 'i&#108;' + '&#116;o';
				var path = 'hr' + 'ef' + '=';
				var addy275a3309c98a59cd7cf5e62453ccf45d = 's&#101;c-w&#101;st' + '&#64;';
				addy275a3309c98a59cd7cf5e62453ccf45d = addy275a3309c98a59cd7cf5e62453ccf45d + 'sc&#97;cr' + '&#46;' + '&#111;rg';
				var addy_text275a3309c98a59cd7cf5e62453ccf45d = 's&#101;c-w&#101;st' + '&#64;' + 'sc&#97;cr' + '&#46;' + '&#111;rg';document.getElementById('cloak275a3309c98a59cd7cf5e62453ccf45d').innerHTML += '<a ' + path + '\'' + prefix + ':' + addy275a3309c98a59cd7cf5e62453ccf45d + '\'>'+addy_text275a3309c98a59cd7cf5e62453ccf45d+'';
		
DTSTAMP:20260422T134256
DTSTART;TZID=Europe/London:20240210T143000
SEQUENCE:0
TRANSP:OPAQUE
END:VEVENT
END:VCALENDAR