BEGIN:VCALENDAR
VERSION:2.0
PRODID:-//jEvents 2.0 for Joomla//EN
CALSCALE:GREGORIAN
METHOD:PUBLISH
BEGIN:VTIMEZONE
TZID:Europe/London
BEGIN:STANDARD
DTSTART:20230223T140000
RDATE:20230326T020000
TZOFFSETFROM:+0100
TZOFFSETTO:+0000
TZNAME:Europe/London GMT
END:STANDARD
BEGIN:STANDARD
DTSTART:20231029T010000
RDATE:20240331T020000
TZOFFSETFROM:+0100
TZOFFSETTO:+0000
TZNAME:Europe/London GMT
END:STANDARD
BEGIN:STANDARD
DTSTART:20241027T010000
RDATE:20250330T020000
TZOFFSETFROM:+0100
TZOFFSETTO:+0000
TZNAME:Europe/London GMT
END:STANDARD
BEGIN:STANDARD
DTSTART:20251026T010000
RDATE:20260329T020000
TZOFFSETFROM:+0100
TZOFFSETTO:+0000
TZNAME:Europe/London GMT
END:STANDARD
BEGIN:STANDARD
DTSTART:20261025T010000
RDATE:20270328T020000
TZOFFSETFROM:+0100
TZOFFSETTO:+0000
TZNAME:Europe/London GMT
END:STANDARD
BEGIN:STANDARD
DTSTART:20271031T010000
RDATE:20280326T020000
TZOFFSETFROM:+0100
TZOFFSETTO:+0000
TZNAME:Europe/London GMT
END:STANDARD
BEGIN:STANDARD
DTSTART:20281029T010000
RDATE:20290325T020000
TZOFFSETFROM:+0100
TZOFFSETTO:+0000
TZNAME:Europe/London GMT
END:STANDARD
BEGIN:STANDARD
DTSTART:20291028T010000
RDATE:20300331T020000
TZOFFSETFROM:+0100
TZOFFSETTO:+0000
TZNAME:Europe/London GMT
END:STANDARD
BEGIN:STANDARD
DTSTART:20301027T010000
RDATE:20310330T020000
TZOFFSETFROM:+0100
TZOFFSETTO:+0000
TZNAME:Europe/London GMT
END:STANDARD
BEGIN:DAYLIGHT
DTSTART:20230326T020000
RDATE:20231029T010000
TZOFFSETFROM:+0000
TZOFFSETTO:+0100
TZNAME:Europe/London BST
END:DAYLIGHT
BEGIN:DAYLIGHT
DTSTART:20240331T020000
RDATE:20241027T010000
TZOFFSETFROM:+0000
TZOFFSETTO:+0100
TZNAME:Europe/London BST
END:DAYLIGHT
BEGIN:DAYLIGHT
DTSTART:20250330T020000
RDATE:20251026T010000
TZOFFSETFROM:+0000
TZOFFSETTO:+0100
TZNAME:Europe/London BST
END:DAYLIGHT
BEGIN:DAYLIGHT
DTSTART:20260329T020000
RDATE:20261025T010000
TZOFFSETFROM:+0000
TZOFFSETTO:+0100
TZNAME:Europe/London BST
END:DAYLIGHT
BEGIN:DAYLIGHT
DTSTART:20270328T020000
RDATE:20271031T010000
TZOFFSETFROM:+0000
TZOFFSETTO:+0100
TZNAME:Europe/London BST
END:DAYLIGHT
BEGIN:DAYLIGHT
DTSTART:20280326T020000
RDATE:20281029T010000
TZOFFSETFROM:+0000
TZOFFSETTO:+0100
TZNAME:Europe/London BST
END:DAYLIGHT
BEGIN:DAYLIGHT
DTSTART:20290325T020000
RDATE:20291028T010000
TZOFFSETFROM:+0000
TZOFFSETTO:+0100
TZNAME:Europe/London BST
END:DAYLIGHT
BEGIN:DAYLIGHT
DTSTART:20300331T020000
RDATE:20301027T010000
TZOFFSETFROM:+0000
TZOFFSETTO:+0100
TZNAME:Europe/London BST
END:DAYLIGHT
END:VTIMEZONE
BEGIN:VEVENT
UID:005f9540926afa3d94f1824f43834e04
CATEGORIES:West
CREATED:20231207T161558
SUMMARY:Ringing on 8 Bells - An Introduction!
LOCATION:St Mary's Church\, Billingshurst.
URL;VALUE=URI:https://www.scacr.org/news-events/calendar/1214/ringing-on-8-bells-an-intro
 duction?tmpl=component
DESCRIPTION:A great opportunity for ringers whow ould like to progress to ringing on 8 
 bells.  This is the third of this new practice which commenced in December.
   If there is enough interest, this will become regular every 4th Saturday 
 afternoon!  Tea and cake will be available!  It is important to contact Thi
 s email address is being protected from spambots. You need JavaScript enabl
 ed to view it.
				document.getElementById('cloakdc469cb51469eab78f17fc5423
 c9fb75').innerHTML = '';
				var prefix = '&#109;a' + 'i&#108;' + '&#116;o'
 ;
				var path = 'hr' + 'ef' + '=';
				var addydc469cb51469eab78f17fc5423c
 9fb75 = 's&#101;c-w&#101;st' + '&#64;';
				addydc469cb51469eab78f17fc5423c
 9fb75 = addydc469cb51469eab78f17fc5423c9fb75 + 'sc&#97;cr' + '&#46;' + '&#1
 11;rg';
				var addy_textdc469cb51469eab78f17fc5423c9fb75 = 's&#101;c-w&#10
 1;st' + '&#64;' + 'sc&#97;cr' + '&#46;' + '&#111;rg';document.getElementByI
 d('cloakdc469cb51469eab78f17fc5423c9fb75').innerHTML += '<a ' + path + '\''
  + prefix + ':' + addydc469cb51469eab78f17fc5423c9fb75 + '\'>'+addy_textdc4
 69cb51469eab78f17fc5423c9fb75+'';
		   or call Janice on 07890804339 to boo
 k your place.    Look forward to hearing from you!\n This event was importe
 d from: https://www.scacr.org/news-events/calendar/1214/ringing-on-8-bells-
 an-introduction?tmpl=component (https://www.scacr.org/news-events/calendar/
 1214/ringing-on-8-bells-an-introduction?tmpl=component)
X-ALT-DESC;FMTTYPE=text/html:<p>A great opportunity for ringers whow ould like to progress to ringing on
  8 bells.&nbsp; This is the third of this new practice which commenced in D
 ecember.&nbsp; If there is enough interest, this will become regular every 
 4th Saturday afternoon!&nbsp; Tea and cake will be available!&nbsp; It is i
 mportant to contact <span id="cloakdc469cb51469eab78f17fc5423c9fb75">This e
 mail address is being protected from spambots. You need JavaScript enabled 
 to view it.</span><script type='text/javascript'>
				document.getElementBy
 Id('cloakdc469cb51469eab78f17fc5423c9fb75').innerHTML = '';
				var prefix 
 = '&#109;a' + 'i&#108;' + '&#116;o';
				var path = 'hr' + 'ef' + '=';
				
 var addydc469cb51469eab78f17fc5423c9fb75 = 's&#101;c-w&#101;st' + '&#64;';

 				addydc469cb51469eab78f17fc5423c9fb75 = addydc469cb51469eab78f17fc5423c9
 fb75 + 'sc&#97;cr' + '&#46;' + '&#111;rg';
				var addy_textdc469cb51469eab
 78f17fc5423c9fb75 = 's&#101;c-w&#101;st' + '&#64;' + 'sc&#97;cr' + '&#46;' 
 + '&#111;rg';document.getElementById('cloakdc469cb51469eab78f17fc5423c9fb75
 ').innerHTML += '<a ' + path + '\'' + prefix + ':' + addydc469cb51469eab78f
 17fc5423c9fb75 + '\'>'+addy_textdc469cb51469eab78f17fc5423c9fb75+'<\/a>';
	
 	</script>&nbsp;&nbsp;&nbsp;or call Janice on 07890804339 to book your plac
 e.&nbsp; &nbsp; Look forward to hearing from you!</p> <a href="https://www.
 scacr.org/news-events/calendar/1214/ringing-on-8-bells-an-introduction?tmpl
 =component">This event was imported from: https://www.scacr.org/news-events
 /calendar/1214/ringing-on-8-bells-an-introduction?tmpl=component</a>CONTACT:This email address is being protected from spambots. You need JavaScript enabled to view it.
				document.getElementById('cloakf70dc3f358d68f1961b9751e02eb035f').innerHTML = '';
				var prefix = '&#109;a' + 'i&#108;' + '&#116;o';
				var path = 'hr' + 'ef' + '=';
				var addyf70dc3f358d68f1961b9751e02eb035f = 's&#101;c-w&#101;st' + '&#64;';
				addyf70dc3f358d68f1961b9751e02eb035f = addyf70dc3f358d68f1961b9751e02eb035f + 'sc&#97;cr' + '&#46;' + '&#111;rg';
				var addy_textf70dc3f358d68f1961b9751e02eb035f = 's&#101;c-w&#101;st' + '&#64;' + 'sc&#97;cr' + '&#46;' + '&#111;rg';document.getElementById('cloakf70dc3f358d68f1961b9751e02eb035f').innerHTML += '<a ' + path + '\'' + prefix + ':' + addyf70dc3f358d68f1961b9751e02eb035f + '\'>'+addy_textf70dc3f358d68f1961b9751e02eb035f+'';
		
DTSTAMP:20260421T014204
DTSTART;TZID=Europe/London:20240224T140000
DTEND;TZID=Europe/London:20240224T163000
SEQUENCE:0
TRANSP:OPAQUE
END:VEVENT
END:VCALENDAR