BEGIN:VCALENDAR
VERSION:2.0
PRODID:-//jEvents 2.0 for Joomla//EN
CALSCALE:GREGORIAN
METHOD:PUBLISH
BEGIN:VTIMEZONE
TZID:Europe/London
BEGIN:STANDARD
DTSTART:20230126T140000
RDATE:20230326T020000
TZOFFSETFROM:+0100
TZOFFSETTO:+0000
TZNAME:Europe/London GMT
END:STANDARD
BEGIN:STANDARD
DTSTART:20231029T010000
RDATE:20240331T020000
TZOFFSETFROM:+0100
TZOFFSETTO:+0000
TZNAME:Europe/London GMT
END:STANDARD
BEGIN:STANDARD
DTSTART:20241027T010000
RDATE:20250330T020000
TZOFFSETFROM:+0100
TZOFFSETTO:+0000
TZNAME:Europe/London GMT
END:STANDARD
BEGIN:STANDARD
DTSTART:20251026T010000
RDATE:20260329T020000
TZOFFSETFROM:+0100
TZOFFSETTO:+0000
TZNAME:Europe/London GMT
END:STANDARD
BEGIN:STANDARD
DTSTART:20261025T010000
RDATE:20270328T020000
TZOFFSETFROM:+0100
TZOFFSETTO:+0000
TZNAME:Europe/London GMT
END:STANDARD
BEGIN:STANDARD
DTSTART:20271031T010000
RDATE:20280326T020000
TZOFFSETFROM:+0100
TZOFFSETTO:+0000
TZNAME:Europe/London GMT
END:STANDARD
BEGIN:STANDARD
DTSTART:20281029T010000
RDATE:20290325T020000
TZOFFSETFROM:+0100
TZOFFSETTO:+0000
TZNAME:Europe/London GMT
END:STANDARD
BEGIN:STANDARD
DTSTART:20291028T010000
RDATE:20300331T020000
TZOFFSETFROM:+0100
TZOFFSETTO:+0000
TZNAME:Europe/London GMT
END:STANDARD
BEGIN:STANDARD
DTSTART:20301027T010000
RDATE:20310330T020000
TZOFFSETFROM:+0100
TZOFFSETTO:+0000
TZNAME:Europe/London GMT
END:STANDARD
BEGIN:DAYLIGHT
DTSTART:20230326T020000
RDATE:20231029T010000
TZOFFSETFROM:+0000
TZOFFSETTO:+0100
TZNAME:Europe/London BST
END:DAYLIGHT
BEGIN:DAYLIGHT
DTSTART:20240331T020000
RDATE:20241027T010000
TZOFFSETFROM:+0000
TZOFFSETTO:+0100
TZNAME:Europe/London BST
END:DAYLIGHT
BEGIN:DAYLIGHT
DTSTART:20250330T020000
RDATE:20251026T010000
TZOFFSETFROM:+0000
TZOFFSETTO:+0100
TZNAME:Europe/London BST
END:DAYLIGHT
BEGIN:DAYLIGHT
DTSTART:20260329T020000
RDATE:20261025T010000
TZOFFSETFROM:+0000
TZOFFSETTO:+0100
TZNAME:Europe/London BST
END:DAYLIGHT
BEGIN:DAYLIGHT
DTSTART:20270328T020000
RDATE:20271031T010000
TZOFFSETFROM:+0000
TZOFFSETTO:+0100
TZNAME:Europe/London BST
END:DAYLIGHT
BEGIN:DAYLIGHT
DTSTART:20280326T020000
RDATE:20281029T010000
TZOFFSETFROM:+0000
TZOFFSETTO:+0100
TZNAME:Europe/London BST
END:DAYLIGHT
BEGIN:DAYLIGHT
DTSTART:20290325T020000
RDATE:20291028T010000
TZOFFSETFROM:+0000
TZOFFSETTO:+0100
TZNAME:Europe/London BST
END:DAYLIGHT
BEGIN:DAYLIGHT
DTSTART:20300331T020000
RDATE:20301027T010000
TZOFFSETFROM:+0000
TZOFFSETTO:+0100
TZNAME:Europe/London BST
END:DAYLIGHT
END:VTIMEZONE
BEGIN:VEVENT
UID:3a3c545096534526f7533fd4e72fbf18
CATEGORIES:West
CREATED:20231207T161513
SUMMARY:Ringing on 8 Bells - An Introduction!
LOCATION:St Mary's Church\, Billingshurst.
URL;VALUE=URI:https://www.scacr.org/news-events/calendar/1213/ringing-on-8-bells-an-intro
 duction?tmpl=component
DESCRIPTION:A great opportunity for ringers whow ould like to progress to ringing on 8 
 bells.  This is the second of this new practice which commenced in December
 .  If there is enough interest, this will become regular every 4th Saturday
  afternoon!  Tea and cake will be available!  It is important to contact Th
 is email address is being protected from spambots. You need JavaScript enab
 led to view it.
				document.getElementById('cloak3eb133c3d9843fd9eacc8b7de
 7ca7bc9').innerHTML = '';
				var prefix = '&#109;a' + 'i&#108;' + '&#116;o
 ';
				var path = 'hr' + 'ef' + '=';
				var addy3eb133c3d9843fd9eacc8b7de7
 ca7bc9 = 's&#101;c-w&#101;st' + '&#64;';
				addy3eb133c3d9843fd9eacc8b7de7
 ca7bc9 = addy3eb133c3d9843fd9eacc8b7de7ca7bc9 + 'sc&#97;cr' + '&#46;' + '&#
 111;rg';
				var addy_text3eb133c3d9843fd9eacc8b7de7ca7bc9 = 's&#101;c-w&#1
 01;st' + '&#64;' + 'sc&#97;cr' + '&#46;' + '&#111;rg';document.getElementBy
 Id('cloak3eb133c3d9843fd9eacc8b7de7ca7bc9').innerHTML += '<a ' + path + '\'
 ' + prefix + ':' + addy3eb133c3d9843fd9eacc8b7de7ca7bc9 + '\'>'+addy_text3e
 b133c3d9843fd9eacc8b7de7ca7bc9+'';
		   or call Janice on 07890804339 to bo
 ok your place.    Look forward to hearing from you!\n This event was import
 ed from: https://www.scacr.org/news-events/calendar/1213/ringing-on-8-bells
 -an-introduction?tmpl=component (https://www.scacr.org/news-events/calendar
 /1213/ringing-on-8-bells-an-introduction?tmpl=component)
X-ALT-DESC;FMTTYPE=text/html:<p>A great opportunity for ringers whow ould like to progress to ringing on
  8 bells.&nbsp; This is the second of this new practice which commenced in 
 December.&nbsp; If there is enough interest, this will become regular every
  4th Saturday afternoon!&nbsp; Tea and cake will be available!&nbsp; It is 
 important to contact <span id="cloak3eb133c3d9843fd9eacc8b7de7ca7bc9">This 
 email address is being protected from spambots. You need JavaScript enabled
  to view it.</span><script type='text/javascript'>
				document.getElementB
 yId('cloak3eb133c3d9843fd9eacc8b7de7ca7bc9').innerHTML = '';
				var prefix
  = '&#109;a' + 'i&#108;' + '&#116;o';
				var path = 'hr' + 'ef' + '=';
			
 	var addy3eb133c3d9843fd9eacc8b7de7ca7bc9 = 's&#101;c-w&#101;st' + '&#64;';
 
				addy3eb133c3d9843fd9eacc8b7de7ca7bc9 = addy3eb133c3d9843fd9eacc8b7de7c
 a7bc9 + 'sc&#97;cr' + '&#46;' + '&#111;rg';
				var addy_text3eb133c3d9843f
 d9eacc8b7de7ca7bc9 = 's&#101;c-w&#101;st' + '&#64;' + 'sc&#97;cr' + '&#46;'
  + '&#111;rg';document.getElementById('cloak3eb133c3d9843fd9eacc8b7de7ca7bc
 9').innerHTML += '<a ' + path + '\'' + prefix + ':' + addy3eb133c3d9843fd9e
 acc8b7de7ca7bc9 + '\'>'+addy_text3eb133c3d9843fd9eacc8b7de7ca7bc9+'<\/a>';

 		</script>&nbsp;&nbsp;&nbsp;or call Janice on 07890804339 to book your pla
 ce.&nbsp; &nbsp; Look forward to hearing from you!</p> <a href="https://www
 .scacr.org/news-events/calendar/1213/ringing-on-8-bells-an-introduction?tmp
 l=component">This event was imported from: https://www.scacr.org/news-event
 s/calendar/1213/ringing-on-8-bells-an-introduction?tmpl=component</a>CONTACT:This email address is being protected from spambots. You need JavaScript enabled to view it.
				document.getElementById('cloak3a9add05e8242ffdb0bef77f6e36375b').innerHTML = '';
				var prefix = '&#109;a' + 'i&#108;' + '&#116;o';
				var path = 'hr' + 'ef' + '=';
				var addy3a9add05e8242ffdb0bef77f6e36375b = 's&#101;c-w&#101;st' + '&#64;';
				addy3a9add05e8242ffdb0bef77f6e36375b = addy3a9add05e8242ffdb0bef77f6e36375b + 'sc&#97;cr' + '&#46;' + '&#111;rg';
				var addy_text3a9add05e8242ffdb0bef77f6e36375b = 's&#101;c-w&#101;st' + '&#64;' + 'sc&#97;cr' + '&#46;' + '&#111;rg';document.getElementById('cloak3a9add05e8242ffdb0bef77f6e36375b').innerHTML += '<a ' + path + '\'' + prefix + ':' + addy3a9add05e8242ffdb0bef77f6e36375b + '\'>'+addy_text3a9add05e8242ffdb0bef77f6e36375b+'';
		
DTSTAMP:20260422T015345
DTSTART;TZID=Europe/London:20240127T140000
DTEND;TZID=Europe/London:20240127T163000
SEQUENCE:0
TRANSP:OPAQUE
END:VEVENT
END:VCALENDAR