BEGIN:VCALENDAR
VERSION:2.0
PRODID:-//jEvents 2.0 for Joomla//EN
CALSCALE:GREGORIAN
METHOD:PUBLISH
BEGIN:VTIMEZONE
TZID:Europe/London
BEGIN:STANDARD
DTSTART:20221215T100000
RDATE:20230326T020000
TZOFFSETFROM:+0100
TZOFFSETTO:+0000
TZNAME:Europe/London GMT
END:STANDARD
BEGIN:STANDARD
DTSTART:20231029T010000
RDATE:20240331T020000
TZOFFSETFROM:+0100
TZOFFSETTO:+0000
TZNAME:Europe/London GMT
END:STANDARD
BEGIN:STANDARD
DTSTART:20241027T010000
RDATE:20250330T020000
TZOFFSETFROM:+0100
TZOFFSETTO:+0000
TZNAME:Europe/London GMT
END:STANDARD
BEGIN:STANDARD
DTSTART:20251026T010000
RDATE:20260329T020000
TZOFFSETFROM:+0100
TZOFFSETTO:+0000
TZNAME:Europe/London GMT
END:STANDARD
BEGIN:STANDARD
DTSTART:20261025T010000
RDATE:20270328T020000
TZOFFSETFROM:+0100
TZOFFSETTO:+0000
TZNAME:Europe/London GMT
END:STANDARD
BEGIN:STANDARD
DTSTART:20271031T010000
RDATE:20280326T020000
TZOFFSETFROM:+0100
TZOFFSETTO:+0000
TZNAME:Europe/London GMT
END:STANDARD
BEGIN:STANDARD
DTSTART:20281029T010000
RDATE:20290325T020000
TZOFFSETFROM:+0100
TZOFFSETTO:+0000
TZNAME:Europe/London GMT
END:STANDARD
BEGIN:STANDARD
DTSTART:20291028T010000
RDATE:20300331T020000
TZOFFSETFROM:+0100
TZOFFSETTO:+0000
TZNAME:Europe/London GMT
END:STANDARD
BEGIN:STANDARD
DTSTART:20301027T010000
RDATE:20310330T020000
TZOFFSETFROM:+0100
TZOFFSETTO:+0000
TZNAME:Europe/London GMT
END:STANDARD
BEGIN:DAYLIGHT
DTSTART:20230326T020000
RDATE:20231029T010000
TZOFFSETFROM:+0000
TZOFFSETTO:+0100
TZNAME:Europe/London BST
END:DAYLIGHT
BEGIN:DAYLIGHT
DTSTART:20240331T020000
RDATE:20241027T010000
TZOFFSETFROM:+0000
TZOFFSETTO:+0100
TZNAME:Europe/London BST
END:DAYLIGHT
BEGIN:DAYLIGHT
DTSTART:20250330T020000
RDATE:20251026T010000
TZOFFSETFROM:+0000
TZOFFSETTO:+0100
TZNAME:Europe/London BST
END:DAYLIGHT
BEGIN:DAYLIGHT
DTSTART:20260329T020000
RDATE:20261025T010000
TZOFFSETFROM:+0000
TZOFFSETTO:+0100
TZNAME:Europe/London BST
END:DAYLIGHT
BEGIN:DAYLIGHT
DTSTART:20270328T020000
RDATE:20271031T010000
TZOFFSETFROM:+0000
TZOFFSETTO:+0100
TZNAME:Europe/London BST
END:DAYLIGHT
BEGIN:DAYLIGHT
DTSTART:20280326T020000
RDATE:20281029T010000
TZOFFSETFROM:+0000
TZOFFSETTO:+0100
TZNAME:Europe/London BST
END:DAYLIGHT
BEGIN:DAYLIGHT
DTSTART:20290325T020000
RDATE:20291028T010000
TZOFFSETFROM:+0000
TZOFFSETTO:+0100
TZNAME:Europe/London BST
END:DAYLIGHT
BEGIN:DAYLIGHT
DTSTART:20300331T020000
RDATE:20301027T010000
TZOFFSETFROM:+0000
TZOFFSETTO:+0100
TZNAME:Europe/London BST
END:DAYLIGHT
END:VTIMEZONE
BEGIN:VEVENT
UID:8e6d890c845d982d19c767c0ec381c14
CATEGORIES:West
CREATED:20231124T180202
SUMMARY:Rounds to Plain Hunt
LOCATION:St Mary's Church\, Storrington
URL;VALUE=URI:https://www.scacr.org/news-events/calendar/1203/rounds-to-plain-hunt?tmpl=c
 omponent
DESCRIPTION:This is a great opportunity for those who are able to handle a bell indepen
 dently and are ready to ring rounds, call changes and plain hunt!  You will
  handle the bell in the usual way and will be ringing with a supportive ban
 d  with the simulator up and running!  It is imperative that you book throu
 gh Christine Butterfield on 01903 872623  in order to monitor numbers to gi
 ve everyone the best experience.  Refreshments will be provided for a donat
 ion.  Look forward to seeing you there!!\n This event was imported from: ht
 tps://www.scacr.org/news-events/calendar/1203/rounds-to-plain-hunt?tmpl=com
 ponent (https://www.scacr.org/news-events/calendar/1203/rounds-to-plain-hun
 t?tmpl=component)
X-ALT-DESC;FMTTYPE=text/html:<p>This is a great opportunity for those who are able to handle a bell inde
 pendently and are ready to ring rounds, call changes and plain hunt!&nbsp; 
 You will handle the bell in the usual way and will be ringing with a suppor
 tive band&nbsp; with the simulator up and running!&nbsp; It is <strong>impe
 rative</strong> that you book through Christine Butterfield on 01903 872623
 &nbsp; in order to monitor numbers to give everyone the best experience.&nb
 sp; Refreshments will be provided for a donation.&nbsp; Look forward to see
 ing you there!!</p> <a href="https://www.scacr.org/news-events/calendar/120
 3/rounds-to-plain-hunt?tmpl=component">This event was imported from: https:
 //www.scacr.org/news-events/calendar/1203/rounds-to-plain-hunt?tmpl=compone
 nt</a>CONTACT:Christine Butterfield 01903 872623
DTSTAMP:20260423T225343
DTSTART;TZID=Europe/London:20231216T100000
DTEND;TZID=Europe/London:20231216T120000
SEQUENCE:0
TRANSP:OPAQUE
END:VEVENT
END:VCALENDAR