BEGIN:VCALENDAR
VERSION:2.0
PRODID:-//jEvents 2.0 for Joomla//EN
CALSCALE:GREGORIAN
METHOD:PUBLISH
BEGIN:VTIMEZONE
TZID:Europe/London
BEGIN:STANDARD
DTSTART:20221117T103000
RDATE:20230326T020000
TZOFFSETFROM:+0100
TZOFFSETTO:+0000
TZNAME:Europe/London GMT
END:STANDARD
BEGIN:STANDARD
DTSTART:20231029T010000
RDATE:20240331T020000
TZOFFSETFROM:+0100
TZOFFSETTO:+0000
TZNAME:Europe/London GMT
END:STANDARD
BEGIN:STANDARD
DTSTART:20241027T010000
RDATE:20250330T020000
TZOFFSETFROM:+0100
TZOFFSETTO:+0000
TZNAME:Europe/London GMT
END:STANDARD
BEGIN:STANDARD
DTSTART:20251026T010000
RDATE:20260329T020000
TZOFFSETFROM:+0100
TZOFFSETTO:+0000
TZNAME:Europe/London GMT
END:STANDARD
BEGIN:STANDARD
DTSTART:20261025T010000
RDATE:20270328T020000
TZOFFSETFROM:+0100
TZOFFSETTO:+0000
TZNAME:Europe/London GMT
END:STANDARD
BEGIN:STANDARD
DTSTART:20271031T010000
RDATE:20280326T020000
TZOFFSETFROM:+0100
TZOFFSETTO:+0000
TZNAME:Europe/London GMT
END:STANDARD
BEGIN:STANDARD
DTSTART:20281029T010000
RDATE:20290325T020000
TZOFFSETFROM:+0100
TZOFFSETTO:+0000
TZNAME:Europe/London GMT
END:STANDARD
BEGIN:STANDARD
DTSTART:20291028T010000
RDATE:20300331T020000
TZOFFSETFROM:+0100
TZOFFSETTO:+0000
TZNAME:Europe/London GMT
END:STANDARD
BEGIN:STANDARD
DTSTART:20301027T010000
RDATE:20310330T020000
TZOFFSETFROM:+0100
TZOFFSETTO:+0000
TZNAME:Europe/London GMT
END:STANDARD
BEGIN:DAYLIGHT
DTSTART:20230326T020000
RDATE:20231029T010000
TZOFFSETFROM:+0000
TZOFFSETTO:+0100
TZNAME:Europe/London BST
END:DAYLIGHT
BEGIN:DAYLIGHT
DTSTART:20240331T020000
RDATE:20241027T010000
TZOFFSETFROM:+0000
TZOFFSETTO:+0100
TZNAME:Europe/London BST
END:DAYLIGHT
BEGIN:DAYLIGHT
DTSTART:20250330T020000
RDATE:20251026T010000
TZOFFSETFROM:+0000
TZOFFSETTO:+0100
TZNAME:Europe/London BST
END:DAYLIGHT
BEGIN:DAYLIGHT
DTSTART:20260329T020000
RDATE:20261025T010000
TZOFFSETFROM:+0000
TZOFFSETTO:+0100
TZNAME:Europe/London BST
END:DAYLIGHT
BEGIN:DAYLIGHT
DTSTART:20270328T020000
RDATE:20271031T010000
TZOFFSETFROM:+0000
TZOFFSETTO:+0100
TZNAME:Europe/London BST
END:DAYLIGHT
BEGIN:DAYLIGHT
DTSTART:20280326T020000
RDATE:20281029T010000
TZOFFSETFROM:+0000
TZOFFSETTO:+0100
TZNAME:Europe/London BST
END:DAYLIGHT
BEGIN:DAYLIGHT
DTSTART:20290325T020000
RDATE:20291028T010000
TZOFFSETFROM:+0000
TZOFFSETTO:+0100
TZNAME:Europe/London BST
END:DAYLIGHT
BEGIN:DAYLIGHT
DTSTART:20300331T020000
RDATE:20301027T010000
TZOFFSETFROM:+0000
TZOFFSETTO:+0100
TZNAME:Europe/London BST
END:DAYLIGHT
END:VTIMEZONE
BEGIN:VEVENT
UID:ea48d70a1a008d6f4cb2e0184c81b4fb
CATEGORIES:South
CREATED:20231101T104834
SUMMARY:Southern District Practice
LOCATION:Laughton
URL;VALUE=URI:https://www.scacr.org/news-events/calendar/1196/southern-district-practice?
 tmpl=component
DESCRIPTION:<p>I wish to notify you of the ringing morning at Laughton 10.30-12.30 Satu
 rday 18th November 2023. Arrangements have only just been confirmed, hence 
 the late notice of this event (1 11 23).&nbsp; It is unusual for the Southe
 rn District to stray outside its borders for a practice but as Laughton is 
 within easy reach of many Southern District towers this was thought to be w
 orthwhile.<br />This is a general practice with emphasis on Rounds, Call Ch
 anges, Plain Hunt, Plain Bob and Grandsire Doubles. <br />Laughton is a bal
 cony ring of six bells. The church is set in the countryside with numerous 
 footpaths nearby. There is plenty of space in the church. Limited parking i
 s available outside the church. If this is full further parking is availabl
 e near the school and village hall. There will be a break for refreshments 
 half way through the morning. <br />All welcome. Please let Richard Neal So
 uthern District Secretary (mailto:<span id="cloak0470c7ec65ab8405bd71b9c2fc
 2fc7c1">This email address is being protected from spambots. You need JavaS
 cript enabled to view it.</span><script type='text/javascript'>
				documen
 t.getElementById('cloak0470c7ec65ab8405bd71b9c2fc2fc7c1').innerHTML = '';
	
 			var prefix = '&#109;a' + 'i&#108;' + '&#116;o';
				var path = 'hr' + 'e
 f' + '=';
				var addy0470c7ec65ab8405bd71b9c2fc2fc7c1 = 's&#101;c-s&#111;&
 #117;th' + '&#64;';
				addy0470c7ec65ab8405bd71b9c2fc2fc7c1 = addy0470c7ec
 65ab8405bd71b9c2fc2fc7c1 + 'sc&#97;cr' + '&#46;' + '&#111;rg';
				var addy
 _text0470c7ec65ab8405bd71b9c2fc2fc7c1 = 's&#101;c-s&#111;&#117;th' + '&#64;
 ' + 'sc&#97;cr' + '&#46;' + '&#111;rg';document.getElementById('cloak0470c7
 ec65ab8405bd71b9c2fc2fc7c1').innerHTML += '<a ' + path + '\'' + prefix + ':
 ' + addy0470c7ec65ab8405bd71b9c2fc2fc7c1 + '\'>'+addy_text0470c7ec65ab8405b
 d71b9c2fc2fc7c1+'<\/a>';
		</script>) know if you will be attending.</p> <a
  href="https://www.scacr.org/news-events/calendar/1196/southern-district-pr
 actice?tmpl=component">This event was imported from: https://www.scacr.org/
 news-events/calendar/1196/southern-district-practice?tmpl=component</a>CONTACT:Richard Neal (District Secretary)  This email address is being protected from spambots. You need JavaScript enabled to view it.
				document.getElementById('cloakbbffdb9ccb8909fbe50c591d2365d6f9').innerHTML = '';
				var prefix = '&#109;a' + 'i&#108;' + '&#116;o';
				var path = 'hr' + 'ef' + '=';
				var addybbffdb9ccb8909fbe50c591d2365d6f9 = 's&#101;c-s&#111;&#117;th' + '&#64;';
				addybbffdb9ccb8909fbe50c591d2365d6f9 = addybbffdb9ccb8909fbe50c591d2365d6f9 + 'sc&#97;cr' + '&#46;' + '&#111;rg';
				var addy_textbbffdb9ccb8909fbe50c591d2365d6f9 = 's&#101;c-s&#111;&#117;th' + '&#64;' + 'sc&#97;cr' + '&#46;' + '&#111;rg';document.getElementById('cloakbbffdb9ccb8909fbe50c591d2365d6f9').innerHTML += '<a ' + path + '\'' + prefix + ':' + addybbffdb9ccb8909fbe50c591d2365d6f9 + '\'>'+addy_textbbffdb9ccb8909fbe50c591d2365d6f9+'';
		
DTSTAMP:20260424T051706
DTSTART;TZID=Europe/London:20231118T103000
DTEND;TZID=Europe/London:20231101T123000
SEQUENCE:0
TRANSP:OPAQUE
END:VEVENT
END:VCALENDAR