BEGIN:VCALENDAR
VERSION:2.0
PRODID:-//jEvents 2.0 for Joomla//EN
CALSCALE:GREGORIAN
METHOD:PUBLISH
BEGIN:VTIMEZONE
TZID:Europe/London
BEGIN:STANDARD
DTSTART:20221117T190000
RDATE:20230326T020000
TZOFFSETFROM:+0100
TZOFFSETTO:+0000
TZNAME:Europe/London GMT
END:STANDARD
BEGIN:STANDARD
DTSTART:20231029T010000
RDATE:20240331T020000
TZOFFSETFROM:+0100
TZOFFSETTO:+0000
TZNAME:Europe/London GMT
END:STANDARD
BEGIN:STANDARD
DTSTART:20241027T010000
RDATE:20250330T020000
TZOFFSETFROM:+0100
TZOFFSETTO:+0000
TZNAME:Europe/London GMT
END:STANDARD
BEGIN:STANDARD
DTSTART:20251026T010000
RDATE:20260329T020000
TZOFFSETFROM:+0100
TZOFFSETTO:+0000
TZNAME:Europe/London GMT
END:STANDARD
BEGIN:STANDARD
DTSTART:20261025T010000
RDATE:20270328T020000
TZOFFSETFROM:+0100
TZOFFSETTO:+0000
TZNAME:Europe/London GMT
END:STANDARD
BEGIN:STANDARD
DTSTART:20271031T010000
RDATE:20280326T020000
TZOFFSETFROM:+0100
TZOFFSETTO:+0000
TZNAME:Europe/London GMT
END:STANDARD
BEGIN:STANDARD
DTSTART:20281029T010000
RDATE:20290325T020000
TZOFFSETFROM:+0100
TZOFFSETTO:+0000
TZNAME:Europe/London GMT
END:STANDARD
BEGIN:STANDARD
DTSTART:20291028T010000
RDATE:20300331T020000
TZOFFSETFROM:+0100
TZOFFSETTO:+0000
TZNAME:Europe/London GMT
END:STANDARD
BEGIN:STANDARD
DTSTART:20301027T010000
RDATE:20310330T020000
TZOFFSETFROM:+0100
TZOFFSETTO:+0000
TZNAME:Europe/London GMT
END:STANDARD
BEGIN:DAYLIGHT
DTSTART:20230326T020000
RDATE:20231029T010000
TZOFFSETFROM:+0000
TZOFFSETTO:+0100
TZNAME:Europe/London BST
END:DAYLIGHT
BEGIN:DAYLIGHT
DTSTART:20240331T020000
RDATE:20241027T010000
TZOFFSETFROM:+0000
TZOFFSETTO:+0100
TZNAME:Europe/London BST
END:DAYLIGHT
BEGIN:DAYLIGHT
DTSTART:20250330T020000
RDATE:20251026T010000
TZOFFSETFROM:+0000
TZOFFSETTO:+0100
TZNAME:Europe/London BST
END:DAYLIGHT
BEGIN:DAYLIGHT
DTSTART:20260329T020000
RDATE:20261025T010000
TZOFFSETFROM:+0000
TZOFFSETTO:+0100
TZNAME:Europe/London BST
END:DAYLIGHT
BEGIN:DAYLIGHT
DTSTART:20270328T020000
RDATE:20271031T010000
TZOFFSETFROM:+0000
TZOFFSETTO:+0100
TZNAME:Europe/London BST
END:DAYLIGHT
BEGIN:DAYLIGHT
DTSTART:20280326T020000
RDATE:20281029T010000
TZOFFSETFROM:+0000
TZOFFSETTO:+0100
TZNAME:Europe/London BST
END:DAYLIGHT
BEGIN:DAYLIGHT
DTSTART:20290325T020000
RDATE:20291028T010000
TZOFFSETFROM:+0000
TZOFFSETTO:+0100
TZNAME:Europe/London BST
END:DAYLIGHT
BEGIN:DAYLIGHT
DTSTART:20300331T020000
RDATE:20301027T010000
TZOFFSETFROM:+0000
TZOFFSETTO:+0100
TZNAME:Europe/London BST
END:DAYLIGHT
END:VTIMEZONE
BEGIN:VEVENT
UID:633fe766c24cdd35e89a3b9f591382b4
CATEGORIES:Association Event
CREATED:20231010T073114
SUMMARY:CANCELLED: Barn Dance
LOCATION:Hurstpierpoint Village Centre BN6 9UY
URL;VALUE=URI:https://www.scacr.org/news-events/calendar/1194/cancelled-barn-dance?tmpl=c
 omponent
DESCRIPTION:UPDATE: 19 Oct 2023: Event cancelled due to lack of interest.\nJoin us for 
 a traditional Barn Dance and raise funds for the Sussex Young Ringers with 
 fun for the whole family. Saturday 18 November 2023, The Village Centre, Hu
 rstpierpoint, BN6 9UY. Doors open 7pm; dancing until 10.30pm. Guests welcom
 e. \nBring your own drinks and refreshments (cutlery / crockery available) 
 or take advantage of the local takeaway establishments in Hurstpierpoint. T
 ea, coffee and squash provided.\nThe band and caller are excellent. They pl
 ayed to a sell-out crowd in Ringmer for the Coronation. It promises to be a
  fun evening!\n Bring your own drinks and refreshments (cutlery / crockery 
 available).\nTickets £8 in advance (book online via membermojo)  (https://m
 embermojo.co.uk/sussexbellringers/store)https://membermojo.co.uk/sussexbell
 ringers/store (https://membermojo.co.uk/sussexbellringers/store)\nor £10 on
  the door (CASH only)\nUnder 18s free (donation welcome) Raffle.  (Raffle p
 rizes welcome too!) Contact Marisa 07796 145464 for any questions. This eve
 nt was imported from: https://www.scacr.org/news-events/calendar/1194/cance
 lled-barn-dance?tmpl=component (https://www.scacr.org/news-events/calendar/
 1194/cancelled-barn-dance?tmpl=component)
X-ALT-DESC;FMTTYPE=text/html:<p>UPDATE: 19 Oct 2023: Event cancelled due to lack of interest.</p><p>Join
  us for a traditional&nbsp;<strong>Barn Dance</strong>&nbsp;and raise funds
  for the Sussex Young Ringers with fun for the whole family.&nbsp;<strong>S
 aturday 18 November 2023</strong>, The Village Centre,&nbsp;<strong>Hurstpi
 erpoint</strong>, BN6 9UY. Doors open&nbsp;<strong>7pm</strong>; dancing un
 til 10.30pm. Guests welcome.&nbsp;</p><p>Bring your own drinks and refreshm
 ents (cutlery / crockery available) or take advantage of the local takeaway
  establishments in Hurstpierpoint. Tea, coffee and squash provided.<br />Th
 e band and caller are excellent. They played to a sell-out crowd in Ringmer
  for the Coronation. It promises to be a fun evening!</p><div><div>&nbsp;</
 div><div>Bring your own drinks and refreshments (cutlery / crockery availab
 le).</div><div><br />Tickets&nbsp;<strong>£8 in advance</strong>&nbsp;(book
  online via membermojo)&nbsp;<a href="https://membermojo.co.uk/sussexbellri
 ngers/store" target="_blank" rel="noopener" data-saferedirecturl="https://w
 ww.google.com/url?q=https://membermojo.co.uk/sussexbellringers/store&amp;so
 urce=gmail&amp;ust=1697215298337000&amp;usg=AOvVaw2SM8QcOkQBEmUdm50itnb3"><
 /a><a href="https://membermojo.co.uk/sussexbellringers/store">https://membe
 rmojo.co.uk/sussexbellringers/store</a><br />or&nbsp;<strong>£10 on the doo
 r</strong>&nbsp;(CASH only)<br />Under 18s free (donation welcome)</div><di
 v>&nbsp;</div><div>Raffle.&nbsp; (Raffle prizes welcome too!)</div><div>&nb
 sp;</div><div>Contact Marisa 07796 145464 for any questions.</div></div> <a
  href="https://www.scacr.org/news-events/calendar/1194/cancelled-barn-dance
 ?tmpl=component">This event was imported from: https://www.scacr.org/news-e
 vents/calendar/1194/cancelled-barn-dance?tmpl=component</a>CONTACT:Marisa Hayes get in touch on 01273 812790 or text  07796 145464
DTSTAMP:20260424T010848
DTSTART;TZID=Europe/London:20231118T190000
DTEND;TZID=Europe/London:20231118T220000
SEQUENCE:0
TRANSP:OPAQUE
END:VEVENT
END:VCALENDAR