BEGIN:VCALENDAR
VERSION:2.0
PRODID:-//jEvents 2.0 for Joomla//EN
CALSCALE:GREGORIAN
METHOD:PUBLISH
BEGIN:VTIMEZONE
TZID:Europe/London
BEGIN:STANDARD
DTSTART:20221030T010000
RDATE:20230326T020000
TZOFFSETFROM:+0100
TZOFFSETTO:+0000
TZNAME:Europe/London GMT
END:STANDARD
BEGIN:STANDARD
DTSTART:20231029T010000
RDATE:20240331T020000
TZOFFSETFROM:+0100
TZOFFSETTO:+0000
TZNAME:Europe/London GMT
END:STANDARD
BEGIN:STANDARD
DTSTART:20241027T010000
RDATE:20250330T020000
TZOFFSETFROM:+0100
TZOFFSETTO:+0000
TZNAME:Europe/London GMT
END:STANDARD
BEGIN:STANDARD
DTSTART:20251026T010000
RDATE:20260329T020000
TZOFFSETFROM:+0100
TZOFFSETTO:+0000
TZNAME:Europe/London GMT
END:STANDARD
BEGIN:STANDARD
DTSTART:20261025T010000
RDATE:20270328T020000
TZOFFSETFROM:+0100
TZOFFSETTO:+0000
TZNAME:Europe/London GMT
END:STANDARD
BEGIN:STANDARD
DTSTART:20271031T010000
RDATE:20280326T020000
TZOFFSETFROM:+0100
TZOFFSETTO:+0000
TZNAME:Europe/London GMT
END:STANDARD
BEGIN:STANDARD
DTSTART:20281029T010000
RDATE:20290325T020000
TZOFFSETFROM:+0100
TZOFFSETTO:+0000
TZNAME:Europe/London GMT
END:STANDARD
BEGIN:STANDARD
DTSTART:20291028T010000
RDATE:20300331T020000
TZOFFSETFROM:+0100
TZOFFSETTO:+0000
TZNAME:Europe/London GMT
END:STANDARD
BEGIN:STANDARD
DTSTART:20301027T010000
RDATE:20310330T020000
TZOFFSETFROM:+0100
TZOFFSETTO:+0000
TZNAME:Europe/London GMT
END:STANDARD
BEGIN:DAYLIGHT
DTSTART:20221013T150000
RDATE:20221030T010000
TZOFFSETFROM:+0000
TZOFFSETTO:+0100
TZNAME:Europe/London BST
END:DAYLIGHT
BEGIN:DAYLIGHT
DTSTART:20230326T020000
RDATE:20231029T010000
TZOFFSETFROM:+0000
TZOFFSETTO:+0100
TZNAME:Europe/London BST
END:DAYLIGHT
BEGIN:DAYLIGHT
DTSTART:20240331T020000
RDATE:20241027T010000
TZOFFSETFROM:+0000
TZOFFSETTO:+0100
TZNAME:Europe/London BST
END:DAYLIGHT
BEGIN:DAYLIGHT
DTSTART:20250330T020000
RDATE:20251026T010000
TZOFFSETFROM:+0000
TZOFFSETTO:+0100
TZNAME:Europe/London BST
END:DAYLIGHT
BEGIN:DAYLIGHT
DTSTART:20260329T020000
RDATE:20261025T010000
TZOFFSETFROM:+0000
TZOFFSETTO:+0100
TZNAME:Europe/London BST
END:DAYLIGHT
BEGIN:DAYLIGHT
DTSTART:20270328T020000
RDATE:20271031T010000
TZOFFSETFROM:+0000
TZOFFSETTO:+0100
TZNAME:Europe/London BST
END:DAYLIGHT
BEGIN:DAYLIGHT
DTSTART:20280326T020000
RDATE:20281029T010000
TZOFFSETFROM:+0000
TZOFFSETTO:+0100
TZNAME:Europe/London BST
END:DAYLIGHT
BEGIN:DAYLIGHT
DTSTART:20290325T020000
RDATE:20291028T010000
TZOFFSETFROM:+0000
TZOFFSETTO:+0100
TZNAME:Europe/London BST
END:DAYLIGHT
BEGIN:DAYLIGHT
DTSTART:20300331T020000
RDATE:20301027T010000
TZOFFSETFROM:+0000
TZOFFSETTO:+0100
TZNAME:Europe/London BST
END:DAYLIGHT
END:VTIMEZONE
BEGIN:VEVENT
UID:4c1efee8b497e2bee3a973802f42682b
CATEGORIES:West
CREATED:20230815T081728
SUMMARY:Ringing, Fish and Chips then a Quiz!!
LOCATION:St Margaret's Church\, Angmering
URL;VALUE=URI:https://www.scacr.org/news-events/calendar/1178/ringing-fish-and-chips-then
 -a-quiz?tmpl=component
DESCRIPTION:Get the grey matter working in more ways than one but with some 'brain food
 ' to help!\nRinging will be from 3 - 5 pm followed by a fish and chip suppe
 r and then a fun but thought provoking quiz led by our own quiz masters!!\n
 This a popular event - come as a group or as an individual - teams will be 
 put together on the day!  (might be worth thinking of a few possible team n
 ames!)\n£10.00 for the Fish and chips and £3.00 for those who attend the qu
 iz only. Bring your own drink.(non alcoholic drinks will be available)\nThe
  plan is to also have a raffle in aid of BRF - any prize donations would be
  most welcome!\nChoices for the Fish and Chips MUST be made by the end of t
 he day on Tuesday 10th October along with any dietry requirements to This e
 mail address is being protected from spambots. You need JavaScript enabled 
 to view it.
				document.getElementById('cloakdb6ec05383c3969b5b16a05c40324
 a77').innerHTML = '';
				var prefix = '&#109;a' + 'i&#108;' + '&#116;o';
	
 			var path = 'hr' + 'ef' + '=';
				var addydb6ec05383c3969b5b16a05c40324a
 77 = 's&#101;c-w&#101;st' + '&#64;';
				addydb6ec05383c3969b5b16a05c40324a
 77 = addydb6ec05383c3969b5b16a05c40324a77 + 'sc&#97;cr' + '&#46;' + '&#111;
 rg';
				var addy_textdb6ec05383c3969b5b16a05c40324a77 = 's&#101;c-w&#101;s
 t' + '&#64;' + 'sc&#97;cr' + '&#46;' + '&#111;rg';document.getElementById('
 cloakdb6ec05383c3969b5b16a05c40324a77').innerHTML += '<a ' + path + '\'' + 
 prefix + ':' + addydb6ec05383c3969b5b16a05c40324a77 + '\'>'+addy_textdb6ec0
 5383c3969b5b16a05c40324a77+'';
		 or call Janice on 07890804339 to also arr
 ange payment.\n \n This event was imported from: https://www.scacr.org/news
 -events/calendar/1178/ringing-fish-and-chips-then-a-quiz?tmpl=component (ht
 tps://www.scacr.org/news-events/calendar/1178/ringing-fish-and-chips-then-a
 -quiz?tmpl=component)
X-ALT-DESC;FMTTYPE=text/html:<p>Get the grey matter working in more ways than one but with some 'brain f
 ood' to help!</p><p>Ringing will be from 3 - 5 pm followed by a fish and ch
 ip supper and then a fun but thought provoking quiz led by our own quiz mas
 ters!!</p><p>This a popular event - come as a group or as an individual - t
 eams will be put together on the day!&nbsp; (might be worth thinking of a f
 ew possible team names!)</p><p>£10.00 for the Fish and chips and £3.00 for 
 those who attend the quiz only. Bring your own drink.(non alcoholic drinks 
 will be available)</p><p>The plan is to also have a raffle in aid of BRF - 
 any prize donations would be most welcome!</p><p>Choices for the Fish and C
 hips MUST be made by the end of the day on Tuesday 10th October along with 
 any dietry requirements to <span id="cloakdb6ec05383c3969b5b16a05c40324a77"
 >This email address is being protected from spambots. You need JavaScript e
 nabled to view it.</span><script type='text/javascript'>
				document.getEl
 ementById('cloakdb6ec05383c3969b5b16a05c40324a77').innerHTML = '';
				var 
 prefix = '&#109;a' + 'i&#108;' + '&#116;o';
				var path = 'hr' + 'ef' + '=
 ';
				var addydb6ec05383c3969b5b16a05c40324a77 = 's&#101;c-w&#101;st' + '&
 #64;';
				addydb6ec05383c3969b5b16a05c40324a77 = addydb6ec05383c3969b5b16a
 05c40324a77 + 'sc&#97;cr' + '&#46;' + '&#111;rg';
				var addy_textdb6ec053
 83c3969b5b16a05c40324a77 = 's&#101;c-w&#101;st' + '&#64;' + 'sc&#97;cr' + '
 &#46;' + '&#111;rg';document.getElementById('cloakdb6ec05383c3969b5b16a05c4
 0324a77').innerHTML += '<a ' + path + '\'' + prefix + ':' + addydb6ec05383c
 3969b5b16a05c40324a77 + '\'>'+addy_textdb6ec05383c3969b5b16a05c40324a77+'<\
 /a>';
		</script>&nbsp;or call Janice on 07890804339 to also arrange paymen
 t.</p><p>&nbsp;</p> <a href="https://www.scacr.org/news-events/calendar/117
 8/ringing-fish-and-chips-then-a-quiz?tmpl=component">This event was importe
 d from: https://www.scacr.org/news-events/calendar/1178/ringing-fish-and-ch
 ips-then-a-quiz?tmpl=component</a>CONTACT:This email address is being protected from spambots. You need JavaScript enabled to view it.
				document.getElementById('cloak4457cba4b771da87ba717f7492ddf22a').innerHTML = '';
				var prefix = '&#109;a' + 'i&#108;' + '&#116;o';
				var path = 'hr' + 'ef' + '=';
				var addy4457cba4b771da87ba717f7492ddf22a = 's&#101;c-w&#101;st' + '&#64;';
				addy4457cba4b771da87ba717f7492ddf22a = addy4457cba4b771da87ba717f7492ddf22a + 'sc&#97;cr' + '&#46;' + '&#111;rg';
				var addy_text4457cba4b771da87ba717f7492ddf22a = 's&#101;c-w&#101;st' + '&#64;' + 'sc&#97;cr' + '&#46;' + '&#111;rg';document.getElementById('cloak4457cba4b771da87ba717f7492ddf22a').innerHTML += '<a ' + path + '\'' + prefix + ':' + addy4457cba4b771da87ba717f7492ddf22a + '\'>'+addy_text4457cba4b771da87ba717f7492ddf22a+'';
		
DTSTAMP:20260421T055525
DTSTART;TZID=Europe/London:20231014T150000
DTEND;TZID=Europe/London:20231014T200000
SEQUENCE:0
TRANSP:OPAQUE
END:VEVENT
END:VCALENDAR