BEGIN:VCALENDAR
VERSION:2.0
PRODID:-//jEvents 2.0 for Joomla//EN
CALSCALE:GREGORIAN
METHOD:PUBLISH
BEGIN:VTIMEZONE
TZID:Europe/London
BEGIN:STANDARD
DTSTART:20221030T010000
RDATE:20230326T020000
TZOFFSETFROM:+0100
TZOFFSETTO:+0000
TZNAME:Europe/London GMT
END:STANDARD
BEGIN:STANDARD
DTSTART:20231029T010000
RDATE:20240331T020000
TZOFFSETFROM:+0100
TZOFFSETTO:+0000
TZNAME:Europe/London GMT
END:STANDARD
BEGIN:STANDARD
DTSTART:20241027T010000
RDATE:20250330T020000
TZOFFSETFROM:+0100
TZOFFSETTO:+0000
TZNAME:Europe/London GMT
END:STANDARD
BEGIN:STANDARD
DTSTART:20251026T010000
RDATE:20260329T020000
TZOFFSETFROM:+0100
TZOFFSETTO:+0000
TZNAME:Europe/London GMT
END:STANDARD
BEGIN:STANDARD
DTSTART:20261025T010000
RDATE:20270328T020000
TZOFFSETFROM:+0100
TZOFFSETTO:+0000
TZNAME:Europe/London GMT
END:STANDARD
BEGIN:STANDARD
DTSTART:20271031T010000
RDATE:20280326T020000
TZOFFSETFROM:+0100
TZOFFSETTO:+0000
TZNAME:Europe/London GMT
END:STANDARD
BEGIN:STANDARD
DTSTART:20281029T010000
RDATE:20290325T020000
TZOFFSETFROM:+0100
TZOFFSETTO:+0000
TZNAME:Europe/London GMT
END:STANDARD
BEGIN:STANDARD
DTSTART:20291028T010000
RDATE:20300331T020000
TZOFFSETFROM:+0100
TZOFFSETTO:+0000
TZNAME:Europe/London GMT
END:STANDARD
BEGIN:STANDARD
DTSTART:20301027T010000
RDATE:20310330T020000
TZOFFSETFROM:+0100
TZOFFSETTO:+0000
TZNAME:Europe/London GMT
END:STANDARD
BEGIN:DAYLIGHT
DTSTART:20220902T140000
RDATE:20221030T010000
TZOFFSETFROM:+0000
TZOFFSETTO:+0100
TZNAME:Europe/London BST
END:DAYLIGHT
BEGIN:DAYLIGHT
DTSTART:20230326T020000
RDATE:20231029T010000
TZOFFSETFROM:+0000
TZOFFSETTO:+0100
TZNAME:Europe/London BST
END:DAYLIGHT
BEGIN:DAYLIGHT
DTSTART:20240331T020000
RDATE:20241027T010000
TZOFFSETFROM:+0000
TZOFFSETTO:+0100
TZNAME:Europe/London BST
END:DAYLIGHT
BEGIN:DAYLIGHT
DTSTART:20250330T020000
RDATE:20251026T010000
TZOFFSETFROM:+0000
TZOFFSETTO:+0100
TZNAME:Europe/London BST
END:DAYLIGHT
BEGIN:DAYLIGHT
DTSTART:20260329T020000
RDATE:20261025T010000
TZOFFSETFROM:+0000
TZOFFSETTO:+0100
TZNAME:Europe/London BST
END:DAYLIGHT
BEGIN:DAYLIGHT
DTSTART:20270328T020000
RDATE:20271031T010000
TZOFFSETFROM:+0000
TZOFFSETTO:+0100
TZNAME:Europe/London BST
END:DAYLIGHT
BEGIN:DAYLIGHT
DTSTART:20280326T020000
RDATE:20281029T010000
TZOFFSETFROM:+0000
TZOFFSETTO:+0100
TZNAME:Europe/London BST
END:DAYLIGHT
BEGIN:DAYLIGHT
DTSTART:20290325T020000
RDATE:20291028T010000
TZOFFSETFROM:+0000
TZOFFSETTO:+0100
TZNAME:Europe/London BST
END:DAYLIGHT
BEGIN:DAYLIGHT
DTSTART:20300331T020000
RDATE:20301027T010000
TZOFFSETFROM:+0000
TZOFFSETTO:+0100
TZNAME:Europe/London BST
END:DAYLIGHT
END:VTIMEZONE
BEGIN:VEVENT
UID:9574df6f50a1f531ad6321f18c30a3c1
CATEGORIES:Young Ringers Event
CREATED:20230806T080152
SUMMARY:Sussex Young Ringers at Lower Beeding
LOCATION:Lower Beeding
URL;VALUE=URI:https://www.scacr.org/news-events/calendar/1168/sussex-young-ringers-at-low
 er-beeding?tmpl=component
DESCRIPTION:A chance to get together with young ringers from across the county. We welc
 ome all abilities, from beginners to Surprise Major (and more).  \nThis is 
 part of our regular series of events, so do come along if you can and regis
 ter in advance with Marisa so that we can ensure there is plenty of cake to
  go 'round....\nDates for October and beyond tbc - sign up to be the first 
 to know,\n This event was imported from: https://www.scacr.org/news-events/
 calendar/1168/sussex-young-ringers-at-lower-beeding?tmpl=component (https:/
 /www.scacr.org/news-events/calendar/1168/sussex-young-ringers-at-lower-beed
 ing?tmpl=component)
X-ALT-DESC;FMTTYPE=text/html:<p>A chance to get together with young ringers from across the county. We w
 elcome all abilities, from beginners to Surprise Major (and more).&nbsp;&nb
 sp;</p><p>This is part of our regular series of events, so do come along if
  you can and register in advance with Marisa so that we can ensure there is
  plenty of cake to go 'round....</p><p>Dates for October and beyond tbc - s
 ign up to be the first to know,</p> <a href="https://www.scacr.org/news-eve
 nts/calendar/1168/sussex-young-ringers-at-lower-beeding?tmpl=component">Thi
 s event was imported from: https://www.scacr.org/news-events/calendar/1168/
 sussex-young-ringers-at-lower-beeding?tmpl=component</a>CONTACT:Marisa Hayes
DTSTAMP:20260421T004116
DTSTART;TZID=Europe/London:20230903T140000
DTEND;TZID=Europe/London:20230903T160000
SEQUENCE:0
TRANSP:OPAQUE
END:VEVENT
END:VCALENDAR