BEGIN:VCALENDAR
VERSION:2.0
PRODID:-//jEvents 2.0 for Joomla//EN
CALSCALE:GREGORIAN
METHOD:PUBLISH
BEGIN:VTIMEZONE
TZID:Europe/London
BEGIN:STANDARD
DTSTART:20221030T010000
RDATE:20230326T020000
TZOFFSETFROM:+0100
TZOFFSETTO:+0000
TZNAME:Europe/London GMT
END:STANDARD
BEGIN:STANDARD
DTSTART:20231029T010000
RDATE:20240331T020000
TZOFFSETFROM:+0100
TZOFFSETTO:+0000
TZNAME:Europe/London GMT
END:STANDARD
BEGIN:STANDARD
DTSTART:20241027T010000
RDATE:20250330T020000
TZOFFSETFROM:+0100
TZOFFSETTO:+0000
TZNAME:Europe/London GMT
END:STANDARD
BEGIN:STANDARD
DTSTART:20251026T010000
RDATE:20260329T020000
TZOFFSETFROM:+0100
TZOFFSETTO:+0000
TZNAME:Europe/London GMT
END:STANDARD
BEGIN:STANDARD
DTSTART:20261025T010000
RDATE:20270328T020000
TZOFFSETFROM:+0100
TZOFFSETTO:+0000
TZNAME:Europe/London GMT
END:STANDARD
BEGIN:STANDARD
DTSTART:20271031T010000
RDATE:20280326T020000
TZOFFSETFROM:+0100
TZOFFSETTO:+0000
TZNAME:Europe/London GMT
END:STANDARD
BEGIN:STANDARD
DTSTART:20281029T010000
RDATE:20290325T020000
TZOFFSETFROM:+0100
TZOFFSETTO:+0000
TZNAME:Europe/London GMT
END:STANDARD
BEGIN:STANDARD
DTSTART:20291028T010000
RDATE:20300331T020000
TZOFFSETFROM:+0100
TZOFFSETTO:+0000
TZNAME:Europe/London GMT
END:STANDARD
BEGIN:STANDARD
DTSTART:20301027T010000
RDATE:20310330T020000
TZOFFSETFROM:+0100
TZOFFSETTO:+0000
TZNAME:Europe/London GMT
END:STANDARD
BEGIN:DAYLIGHT
DTSTART:20220922T101500
RDATE:20221030T010000
TZOFFSETFROM:+0000
TZOFFSETTO:+0100
TZNAME:Europe/London BST
END:DAYLIGHT
BEGIN:DAYLIGHT
DTSTART:20230326T020000
RDATE:20231029T010000
TZOFFSETFROM:+0000
TZOFFSETTO:+0100
TZNAME:Europe/London BST
END:DAYLIGHT
BEGIN:DAYLIGHT
DTSTART:20240331T020000
RDATE:20241027T010000
TZOFFSETFROM:+0000
TZOFFSETTO:+0100
TZNAME:Europe/London BST
END:DAYLIGHT
BEGIN:DAYLIGHT
DTSTART:20250330T020000
RDATE:20251026T010000
TZOFFSETFROM:+0000
TZOFFSETTO:+0100
TZNAME:Europe/London BST
END:DAYLIGHT
BEGIN:DAYLIGHT
DTSTART:20260329T020000
RDATE:20261025T010000
TZOFFSETFROM:+0000
TZOFFSETTO:+0100
TZNAME:Europe/London BST
END:DAYLIGHT
BEGIN:DAYLIGHT
DTSTART:20270328T020000
RDATE:20271031T010000
TZOFFSETFROM:+0000
TZOFFSETTO:+0100
TZNAME:Europe/London BST
END:DAYLIGHT
BEGIN:DAYLIGHT
DTSTART:20280326T020000
RDATE:20281029T010000
TZOFFSETFROM:+0000
TZOFFSETTO:+0100
TZNAME:Europe/London BST
END:DAYLIGHT
BEGIN:DAYLIGHT
DTSTART:20290325T020000
RDATE:20291028T010000
TZOFFSETFROM:+0000
TZOFFSETTO:+0100
TZNAME:Europe/London BST
END:DAYLIGHT
BEGIN:DAYLIGHT
DTSTART:20300331T020000
RDATE:20301027T010000
TZOFFSETFROM:+0000
TZOFFSETTO:+0100
TZNAME:Europe/London BST
END:DAYLIGHT
END:VTIMEZONE
BEGIN:VEVENT
UID:17e411575023a8f1b6561b3fd72f81bb
CATEGORIES:West
CREATED:20230728T183258
SUMMARY:Surprise Minor Practice
LOCATION:St Mary's Church\, Walberton
URL;VALUE=URI:https://www.scacr.org/news-events/calendar/1166/surprise-minor-practice?tmp
 l=component
DESCRIPTION:This is a regular monthly event giving ringers the opportunity to ring  met
 hods such as Plain courses and touches of Cambridge and Norwich and Plain c
 ourses of Beverley, London, Carlisle and Pure Treble Bob Hunt!!   Refreshme
 nts are provided.  Please contact This email address is being protected fro
 m spambots. You need JavaScript enabled to view it.
				document.getElement
 ById('cloak5907eee16282d02758b2eee077141c5d').innerHTML = '';
				var prefi
 x = '&#109;a' + 'i&#108;' + '&#116;o';
				var path = 'hr' + 'ef' + '=';
		
 		var addy5907eee16282d02758b2eee077141c5d = 's&#101;c-w&#101;st' + '&#64;'
 ;
				addy5907eee16282d02758b2eee077141c5d = addy5907eee16282d02758b2eee077
 141c5d + 'sc&#97;cr' + '&#46;' + '&#111;rg';
				var addy_text5907eee16282d
 02758b2eee077141c5d = 's&#101;c-w&#101;st' + '&#64;' + 'sc&#97;cr' + '&#46;
 ' + '&#111;rg';document.getElementById('cloak5907eee16282d02758b2eee077141c
 5d').innerHTML += '<a ' + path + '\'' + prefix + ':' + addy5907eee16282d027
 58b2eee077141c5d + '\'>'+addy_text5907eee16282d02758b2eee077141c5d+'';
		 i
 f you would like refreshments.\nThe 'method of the month'  is yet to be ann
 ounced - watch this space!!\n This event was imported from: https://www.sca
 cr.org/news-events/calendar/1166/surprise-minor-practice?tmpl=component (ht
 tps://www.scacr.org/news-events/calendar/1166/surprise-minor-practice?tmpl=
 component)
X-ALT-DESC;FMTTYPE=text/html:<p>This is a regular monthly event giving ringers the opportunity to ring&n
 bsp; methods such as Plain courses and touches of Cambridge and Norwich and
  Plain courses of Beverley, London, Carlisle and Pure Treble Bob Hunt!!&nbs
 p; &nbsp;Refreshments are provided.&nbsp; Please contact <span id="cloak590
 7eee16282d02758b2eee077141c5d">This email address is being protected from s
 pambots. You need JavaScript enabled to view it.</span><script type='text/j
 avascript'>
				document.getElementById('cloak5907eee16282d02758b2eee077141
 c5d').innerHTML = '';
				var prefix = '&#109;a' + 'i&#108;' + '&#116;o';
	
 			var path = 'hr' + 'ef' + '=';
				var addy5907eee16282d02758b2eee077141c
 5d = 's&#101;c-w&#101;st' + '&#64;';
				addy5907eee16282d02758b2eee077141c
 5d = addy5907eee16282d02758b2eee077141c5d + 'sc&#97;cr' + '&#46;' + '&#111;
 rg';
				var addy_text5907eee16282d02758b2eee077141c5d = 's&#101;c-w&#101;s
 t' + '&#64;' + 'sc&#97;cr' + '&#46;' + '&#111;rg';document.getElementById('
 cloak5907eee16282d02758b2eee077141c5d').innerHTML += '<a ' + path + '\'' + 
 prefix + ':' + addy5907eee16282d02758b2eee077141c5d + '\'>'+addy_text5907ee
 e16282d02758b2eee077141c5d+'<\/a>';
		</script>&nbsp;if you would like refr
 eshments.</p><p>The 'method of the month'&nbsp; is yet to be announced - wa
 tch this space!!</p> <a href="https://www.scacr.org/news-events/calendar/11
 66/surprise-minor-practice?tmpl=component">This event was imported from: ht
 tps://www.scacr.org/news-events/calendar/1166/surprise-minor-practice?tmpl=
 component</a>CONTACT:This email address is being protected from spambots. You need JavaScript enabled to view it.
				document.getElementById('cloak7c9ffbd0df0ea5fadd1dde932084859f').innerHTML = '';
				var prefix = '&#109;a' + 'i&#108;' + '&#116;o';
				var path = 'hr' + 'ef' + '=';
				var addy7c9ffbd0df0ea5fadd1dde932084859f = 's&#101;c-w&#101;st' + '&#64;';
				addy7c9ffbd0df0ea5fadd1dde932084859f = addy7c9ffbd0df0ea5fadd1dde932084859f + 'sc&#97;cr' + '&#46;' + '&#111;rg';
				var addy_text7c9ffbd0df0ea5fadd1dde932084859f = 's&#101;c-w&#101;st' + '&#64;' + 'sc&#97;cr' + '&#46;' + '&#111;rg';document.getElementById('cloak7c9ffbd0df0ea5fadd1dde932084859f').innerHTML += '<a ' + path + '\'' + prefix + ':' + addy7c9ffbd0df0ea5fadd1dde932084859f + '\'>'+addy_text7c9ffbd0df0ea5fadd1dde932084859f+'';
		
DTSTAMP:20260421T055524
DTSTART;TZID=Europe/London:20230923T101500
DTEND;TZID=Europe/London:20230923T120000
SEQUENCE:0
TRANSP:OPAQUE
END:VEVENT
END:VCALENDAR