BEGIN:VCALENDAR
VERSION:2.0
PRODID:-//jEvents 2.0 for Joomla//EN
CALSCALE:GREGORIAN
METHOD:PUBLISH
BEGIN:VTIMEZONE
TZID:Europe/London
BEGIN:STANDARD
DTSTART:20221030T010000
RDATE:20230326T020000
TZOFFSETFROM:+0100
TZOFFSETTO:+0000
TZNAME:Europe/London GMT
END:STANDARD
BEGIN:STANDARD
DTSTART:20231029T010000
RDATE:20240331T020000
TZOFFSETFROM:+0100
TZOFFSETTO:+0000
TZNAME:Europe/London GMT
END:STANDARD
BEGIN:STANDARD
DTSTART:20241027T010000
RDATE:20250330T020000
TZOFFSETFROM:+0100
TZOFFSETTO:+0000
TZNAME:Europe/London GMT
END:STANDARD
BEGIN:STANDARD
DTSTART:20251026T010000
RDATE:20260329T020000
TZOFFSETFROM:+0100
TZOFFSETTO:+0000
TZNAME:Europe/London GMT
END:STANDARD
BEGIN:STANDARD
DTSTART:20261025T010000
RDATE:20270328T020000
TZOFFSETFROM:+0100
TZOFFSETTO:+0000
TZNAME:Europe/London GMT
END:STANDARD
BEGIN:STANDARD
DTSTART:20271031T010000
RDATE:20280326T020000
TZOFFSETFROM:+0100
TZOFFSETTO:+0000
TZNAME:Europe/London GMT
END:STANDARD
BEGIN:STANDARD
DTSTART:20281029T010000
RDATE:20290325T020000
TZOFFSETFROM:+0100
TZOFFSETTO:+0000
TZNAME:Europe/London GMT
END:STANDARD
BEGIN:STANDARD
DTSTART:20291028T010000
RDATE:20300331T020000
TZOFFSETFROM:+0100
TZOFFSETTO:+0000
TZNAME:Europe/London GMT
END:STANDARD
BEGIN:STANDARD
DTSTART:20301027T010000
RDATE:20310330T020000
TZOFFSETFROM:+0100
TZOFFSETTO:+0000
TZNAME:Europe/London GMT
END:STANDARD
BEGIN:DAYLIGHT
DTSTART:20220609T150000
RDATE:20221030T010000
TZOFFSETFROM:+0000
TZOFFSETTO:+0100
TZNAME:Europe/London BST
END:DAYLIGHT
BEGIN:DAYLIGHT
DTSTART:20230326T020000
RDATE:20231029T010000
TZOFFSETFROM:+0000
TZOFFSETTO:+0100
TZNAME:Europe/London BST
END:DAYLIGHT
BEGIN:DAYLIGHT
DTSTART:20240331T020000
RDATE:20241027T010000
TZOFFSETFROM:+0000
TZOFFSETTO:+0100
TZNAME:Europe/London BST
END:DAYLIGHT
BEGIN:DAYLIGHT
DTSTART:20250330T020000
RDATE:20251026T010000
TZOFFSETFROM:+0000
TZOFFSETTO:+0100
TZNAME:Europe/London BST
END:DAYLIGHT
BEGIN:DAYLIGHT
DTSTART:20260329T020000
RDATE:20261025T010000
TZOFFSETFROM:+0000
TZOFFSETTO:+0100
TZNAME:Europe/London BST
END:DAYLIGHT
BEGIN:DAYLIGHT
DTSTART:20270328T020000
RDATE:20271031T010000
TZOFFSETFROM:+0000
TZOFFSETTO:+0100
TZNAME:Europe/London BST
END:DAYLIGHT
BEGIN:DAYLIGHT
DTSTART:20280326T020000
RDATE:20281029T010000
TZOFFSETFROM:+0000
TZOFFSETTO:+0100
TZNAME:Europe/London BST
END:DAYLIGHT
BEGIN:DAYLIGHT
DTSTART:20290325T020000
RDATE:20291028T010000
TZOFFSETFROM:+0000
TZOFFSETTO:+0100
TZNAME:Europe/London BST
END:DAYLIGHT
BEGIN:DAYLIGHT
DTSTART:20300331T020000
RDATE:20301027T010000
TZOFFSETFROM:+0000
TZOFFSETTO:+0100
TZNAME:Europe/London BST
END:DAYLIGHT
END:VTIMEZONE
BEGIN:VEVENT
UID:2a3b62a52b2341270a56acc587737581
CATEGORIES:West
CREATED:20230412T215914
SUMMARY:Monthly 'Get Together'
LOCATION:St Mary's Church\, Funtington.
URL;VALUE=URI:https://www.scacr.org/news-events/calendar/1128/monthly-get-together?tmpl=c
 omponent
DESCRIPTION:<p>For a number of reasons the plan to have a Striking Competition on this 
 afternnoon has had to be changed unfortunately.&nbsp; However, there will s
 till be some general ringing and everyone is invited to come along!&nbsp;&n
 bsp;</p><p>&nbsp;Tea Will be available - please let <span id="cloak77e4c7a9
 7d0874f41480c6785799c367">This email address is being protected from spambo
 ts. You need JavaScript enabled to view it.</span><script type='text/javasc
 ript'>
				document.getElementById('cloak77e4c7a97d0874f41480c6785799c367')
 .innerHTML = '';
				var prefix = '&#109;a' + 'i&#108;' + '&#116;o';
				va
 r path = 'hr' + 'ef' + '=';
				var addy77e4c7a97d0874f41480c6785799c367 = 
 's&#101;c-w&#101;st' + '&#64;';
				addy77e4c7a97d0874f41480c6785799c367 = 
 addy77e4c7a97d0874f41480c6785799c367 + 'sc&#97;cr' + '&#46;' + '&#111;rg';

 				var addy_text77e4c7a97d0874f41480c6785799c367 = 's&#101;c-w&#101;st' + 
 '&#64;' + 'sc&#97;cr' + '&#46;' + '&#111;rg';document.getElementById('cloak
 77e4c7a97d0874f41480c6785799c367').innerHTML += '<a ' + path + '\'' + prefi
 x + ':' + addy77e4c7a97d0874f41480c6785799c367 + '\'>'+addy_text77e4c7a97d0
 874f41480c6785799c367+'<\/a>';
		</script>&nbsp;know by the end of day on t
 he 7th June if you would like tea! or call Janice on 07890804339</p><p>The 
 plan is to have a raffle in aid of BRF so any donations of prizes would be 
 very welcome!!</p><p>&nbsp;Look forward to seeing you there!</p><p>&nbsp;</
 p> <a href="https://www.scacr.org/news-events/calendar/1128/monthly-get-tog
 ether?tmpl=component">This event was imported from: https://www.scacr.org/n
 ews-events/calendar/1128/monthly-get-together?tmpl=component</a>CONTACT:This email address is being protected from spambots. You need JavaScript enabled to view it.
				document.getElementById('cloake1b873c8cd1d3a284470c406a79460e4').innerHTML = '';
				var prefix = '&#109;a' + 'i&#108;' + '&#116;o';
				var path = 'hr' + 'ef' + '=';
				var addye1b873c8cd1d3a284470c406a79460e4 = 's&#101;c-w&#101;st' + '&#64;';
				addye1b873c8cd1d3a284470c406a79460e4 = addye1b873c8cd1d3a284470c406a79460e4 + 'sc&#97;cr' + '&#46;' + '&#111;rg';
				var addy_texte1b873c8cd1d3a284470c406a79460e4 = 's&#101;c-w&#101;st' + '&#64;' + 'sc&#97;cr' + '&#46;' + '&#111;rg';document.getElementById('cloake1b873c8cd1d3a284470c406a79460e4').innerHTML += '<a ' + path + '\'' + prefix + ':' + addye1b873c8cd1d3a284470c406a79460e4 + '\'>'+addy_texte1b873c8cd1d3a284470c406a79460e4+'';
		
DTSTAMP:20260424T123256
DTSTART;TZID=Europe/London:20230610T150000
DTEND;TZID=Europe/London:20230610T170000
SEQUENCE:0
TRANSP:OPAQUE
END:VEVENT
END:VCALENDAR