BEGIN:VCALENDAR
VERSION:2.0
PRODID:-//jEvents 2.0 for Joomla//EN
CALSCALE:GREGORIAN
METHOD:PUBLISH
BEGIN:VTIMEZONE
TZID:Europe/London
BEGIN:STANDARD
DTSTART:20230202T140000
RDATE:20230326T020000
TZOFFSETFROM:+0100
TZOFFSETTO:+0000
TZNAME:Europe/London GMT
END:STANDARD
BEGIN:STANDARD
DTSTART:20231029T010000
RDATE:20240331T020000
TZOFFSETFROM:+0100
TZOFFSETTO:+0000
TZNAME:Europe/London GMT
END:STANDARD
BEGIN:STANDARD
DTSTART:20241027T010000
RDATE:20250330T020000
TZOFFSETFROM:+0100
TZOFFSETTO:+0000
TZNAME:Europe/London GMT
END:STANDARD
BEGIN:STANDARD
DTSTART:20251026T010000
RDATE:20260329T020000
TZOFFSETFROM:+0100
TZOFFSETTO:+0000
TZNAME:Europe/London GMT
END:STANDARD
BEGIN:STANDARD
DTSTART:20261025T010000
RDATE:20270328T020000
TZOFFSETFROM:+0100
TZOFFSETTO:+0000
TZNAME:Europe/London GMT
END:STANDARD
BEGIN:STANDARD
DTSTART:20271031T010000
RDATE:20280326T020000
TZOFFSETFROM:+0100
TZOFFSETTO:+0000
TZNAME:Europe/London GMT
END:STANDARD
BEGIN:STANDARD
DTSTART:20281029T010000
RDATE:20290325T020000
TZOFFSETFROM:+0100
TZOFFSETTO:+0000
TZNAME:Europe/London GMT
END:STANDARD
BEGIN:STANDARD
DTSTART:20291028T010000
RDATE:20300331T020000
TZOFFSETFROM:+0100
TZOFFSETTO:+0000
TZNAME:Europe/London GMT
END:STANDARD
BEGIN:STANDARD
DTSTART:20301027T010000
RDATE:20310330T020000
TZOFFSETFROM:+0100
TZOFFSETTO:+0000
TZNAME:Europe/London GMT
END:STANDARD
BEGIN:DAYLIGHT
DTSTART:20230326T020000
RDATE:20231029T010000
TZOFFSETFROM:+0000
TZOFFSETTO:+0100
TZNAME:Europe/London BST
END:DAYLIGHT
BEGIN:DAYLIGHT
DTSTART:20240331T020000
RDATE:20241027T010000
TZOFFSETFROM:+0000
TZOFFSETTO:+0100
TZNAME:Europe/London BST
END:DAYLIGHT
BEGIN:DAYLIGHT
DTSTART:20250330T020000
RDATE:20251026T010000
TZOFFSETFROM:+0000
TZOFFSETTO:+0100
TZNAME:Europe/London BST
END:DAYLIGHT
BEGIN:DAYLIGHT
DTSTART:20260329T020000
RDATE:20261025T010000
TZOFFSETFROM:+0000
TZOFFSETTO:+0100
TZNAME:Europe/London BST
END:DAYLIGHT
BEGIN:DAYLIGHT
DTSTART:20270328T020000
RDATE:20271031T010000
TZOFFSETFROM:+0000
TZOFFSETTO:+0100
TZNAME:Europe/London BST
END:DAYLIGHT
BEGIN:DAYLIGHT
DTSTART:20280326T020000
RDATE:20281029T010000
TZOFFSETFROM:+0000
TZOFFSETTO:+0100
TZNAME:Europe/London BST
END:DAYLIGHT
BEGIN:DAYLIGHT
DTSTART:20290325T020000
RDATE:20291028T010000
TZOFFSETFROM:+0000
TZOFFSETTO:+0100
TZNAME:Europe/London BST
END:DAYLIGHT
BEGIN:DAYLIGHT
DTSTART:20300331T020000
RDATE:20301027T010000
TZOFFSETFROM:+0000
TZOFFSETTO:+0100
TZNAME:Europe/London BST
END:DAYLIGHT
END:VTIMEZONE
BEGIN:VEVENT
UID:0db0936a19458bc77263ed6c0eac686e
CATEGORIES:North
CREATED:20230326T185514
SUMMARY:Ringing, New Members Welcome Event, ADM, ringers' tea
LOCATION:Horsham (confirmed)
URL;VALUE=URI:https://www.scacr.org/news-events/calendar/1121/ringing-new-members-welcome
 -event-adm-ringers-tea?tmpl=component
DESCRIPTION:Join us for a new members' welcome event, ringing, and the Northern Distric
 t's Annual District Meeting with ringers' tea.  Ringing will be rounds-onwa
 rds, all welcome!  If you're a novice ringer who hasn't had much experience
  of ringing at other towers, why not come with your teacher/helper?\nThe me
 eting will include a discussion about what you feel the strategic prioritie
 s of the Association should be over the next 5-10 years.  If you think you 
 might be interested in volunteering to help on the (very friendly!) Distric
 t committee, please contact Steph (This email address is being protected fr
 om spambots. You need JavaScript enabled to view it.
				document.getElemen
 tById('cloakcaea72b7dbff521b72a628f35af83933').innerHTML = '';
				var pref
 ix = '&#109;a' + 'i&#108;' + '&#116;o';
				var path = 'hr' + 'ef' + '=';
	
 			var addycaea72b7dbff521b72a628f35af83933 = 's&#101;c-n&#111;rth' + '&#64
 ;';
				addycaea72b7dbff521b72a628f35af83933 = addycaea72b7dbff521b72a628f3
 5af83933 + 'sc&#97;cr' + '&#46;' + '&#111;rg';
				var addy_textcaea72b7dbf
 f521b72a628f35af83933 = 's&#101;c-n&#111;rth' + '&#64;' + 'sc&#97;cr' + '&#
 46;' + '&#111;rg';document.getElementById('cloakcaea72b7dbff521b72a628f35af
 83933').innerHTML += '<a ' + path + '\'' + prefix + ':' + addycaea72b7dbff5
 21b72a628f35af83933 + '\'>'+addy_textcaea72b7dbff521b72a628f35af83933+'';
	
 	) to discuss.  \nNames for tea via this form (https://forms.gle/zBncXWzhur
 o96xXm6) by Wednesday 31st January, please.\nProgramme:\n14.00-15.15 Open r
 inging (rounds onwards, all welcome)\n15.00-15.30 Tea/coffee and informatio
 n for new members\n15.30-16.30 New members' welcome and meeting\n16.30-17.0
 0 ringers' tea - names for tea via this form (https://forms.gle/zBncXWzhuro
 96xXm6)\nRemember to bring some cash for the tower donation and for the ref
 reshments (tea/coffee, sandwiches, cake etc). \nThe papers for the meeting 
 are available online here (https://drive.google.com/drive/folders/1REviZYPX
 oBBTu6-GnVQYPA4BrWmR7Y0a?usp=drive_link) (printed copies will not be provid
 ed).  Please send apologies for absence to This email address is being prot
 ected from spambots. You need JavaScript enabled to view it.
				document.g
 etElementById('cloakf66bea5e7d806d109a1fd51704d565cf').innerHTML = '';
				
 var prefix = '&#109;a' + 'i&#108;' + '&#116;o';
				var path = 'hr' + 'ef' 
 + '=';
				var addyf66bea5e7d806d109a1fd51704d565cf = 's&#101;c-n&#111;rth'
  + '&#64;';
				addyf66bea5e7d806d109a1fd51704d565cf = addyf66bea5e7d806d10
 9a1fd51704d565cf + 'sc&#97;cr' + '&#46;' + '&#111;rg';
				var addy_textf66
 bea5e7d806d109a1fd51704d565cf = 's&#101;c-n&#111;rth' + '&#64;' + 'sc&#97;c
 r' + '&#46;' + '&#111;rg';document.getElementById('cloakf66bea5e7d806d109a1
 fd51704d565cf').innerHTML += '<a ' + path + '\'' + prefix + ':' + addyf66be
 a5e7d806d109a1fd51704d565cf + '\'>'+addy_textf66bea5e7d806d109a1fd51704d565
 cf+'';
		 in advance.\nAgenda (https://drive.google.com/file/d/17r2fJQ8D-fw
 biq__V2huf15PPb0MhXxu/view?usp=drive_link)\nMinutes of 2023 ADM (https://dr
 ive.google.com/file/d/1tdres-EeAwPt6r-8r7F7H854gm_wmqj_/view?usp=drive_link
 )\nSecretary's report (https://drive.google.com/file/d/1s8ZwztkOFqV1-ElKhkt
 w5Wf4gtGL8Vee/view?usp=drive_link)\nDistrict Bell Restoration report (https
 ://drive.google.com/file/d/1o3mhnji0U5JGHLtWEb7hBJMkz37k4dZd/view?usp=drive
 _link)\nCentral Council Rep's report (https://drive.google.com/file/d/1n6Z9
 3gQ3AFfHnxZFeOwVka3JsAz8nMqA/view?usp=sharing)\nThere are accessible toilet
 s in the church.  The meeting will be held in the Leslie Room in the church
 , which is fully accessible (via a stairlift).  \nParking in Horsham is pay
  &amp; display (information here (https://www.horsham.gov.uk/parking/horsha
 m-town-centre-parking) - Denne Road car park is closest, Piries Place and S
 wan Walk are also just a short walk away); or you can use the park &amp; ri
 de (https://www.metrobus.co.uk/horsham-park-ride). \n This event was import
 ed from: https://www.scacr.org/news-events/calendar/1121/ringing-new-member
 s-welcome-event-adm-ringers-tea?tmpl=component (https://www.scacr.org/news-
 events/calendar/1121/ringing-new-members-welcome-event-adm-ringers-tea?tmpl
 =component)
X-ALT-DESC;FMTTYPE=text/html:<p>Join us for a new members' welcome event, ringing, and the Northern Dist
 rict's Annual District Meeting with ringers' tea.&nbsp; Ringing will be rou
 nds-onwards, all welcome!&nbsp; If you're a novice ringer who hasn't had mu
 ch experience of ringing at other towers, why not come with your teacher/he
 lper?</p><p>The meeting will include a discussion about what you feel the s
 trategic priorities of the Association should be over the next 5-10 years.&
 nbsp; If you think you might be interested in volunteering to help on the (
 very friendly!) District committee, please contact Steph (<span id="cloakca
 ea72b7dbff521b72a628f35af83933">This email address is being protected from 
 spambots. You need JavaScript enabled to view it.</span><script type='text/
 javascript'>
				document.getElementById('cloakcaea72b7dbff521b72a628f35af8
 3933').innerHTML = '';
				var prefix = '&#109;a' + 'i&#108;' + '&#116;o';

 				var path = 'hr' + 'ef' + '=';
				var addycaea72b7dbff521b72a628f35af83
 933 = 's&#101;c-n&#111;rth' + '&#64;';
				addycaea72b7dbff521b72a628f35af8
 3933 = addycaea72b7dbff521b72a628f35af83933 + 'sc&#97;cr' + '&#46;' + '&#11
 1;rg';
				var addy_textcaea72b7dbff521b72a628f35af83933 = 's&#101;c-n&#111
 ;rth' + '&#64;' + 'sc&#97;cr' + '&#46;' + '&#111;rg';document.getElementByI
 d('cloakcaea72b7dbff521b72a628f35af83933').innerHTML += '<a ' + path + '\''
  + prefix + ':' + addycaea72b7dbff521b72a628f35af83933 + '\'>'+addy_textcae
 a72b7dbff521b72a628f35af83933+'<\/a>';
		</script>) to discuss.&nbsp;&nbsp;
 </p><p><strong>Names for tea via <a href="https://forms.gle/zBncXWzhuro96xX
 m6">this form</a> by Wednesday 31st January, please.</strong></p><p>Program
 me:<br />14.00-15.15 Open ringing (rounds onwards, all welcome)<br />15.00-
 15.30 Tea/coffee and information for new members<br />15.30-16.30 New membe
 rs' welcome and meeting<br />16.30-17.00 ringers' tea - names for tea via <
 a href="https://forms.gle/zBncXWzhuro96xXm6">this form</a></p><p>Remember t
 o bring some cash for the tower donation and for the refreshments (tea/coff
 ee, sandwiches, cake etc).&nbsp;</p><p>The papers for the meeting are avail
 able online&nbsp;<a href="https://drive.google.com/drive/folders/1REviZYPXo
 BBTu6-GnVQYPA4BrWmR7Y0a?usp=drive_link">here</a> (printed copies will not b
 e provided).&nbsp; Please send apologies for absence to <span id="cloakf66b
 ea5e7d806d109a1fd51704d565cf">This email address is being protected from sp
 ambots. You need JavaScript enabled to view it.</span><script type='text/ja
 vascript'>
				document.getElementById('cloakf66bea5e7d806d109a1fd51704d565
 cf').innerHTML = '';
				var prefix = '&#109;a' + 'i&#108;' + '&#116;o';
		
 		var path = 'hr' + 'ef' + '=';
				var addyf66bea5e7d806d109a1fd51704d565c
 f = 's&#101;c-n&#111;rth' + '&#64;';
				addyf66bea5e7d806d109a1fd51704d565
 cf = addyf66bea5e7d806d109a1fd51704d565cf + 'sc&#97;cr' + '&#46;' + '&#111;
 rg';
				var addy_textf66bea5e7d806d109a1fd51704d565cf = 's&#101;c-n&#111;r
 th' + '&#64;' + 'sc&#97;cr' + '&#46;' + '&#111;rg';document.getElementById(
 'cloakf66bea5e7d806d109a1fd51704d565cf').innerHTML += '<a ' + path + '\'' +
  prefix + ':' + addyf66bea5e7d806d109a1fd51704d565cf + '\'>'+addy_textf66be
 a5e7d806d109a1fd51704d565cf+'<\/a>';
		</script>&nbsp;in advance.<br /><a h
 ref="https://drive.google.com/file/d/17r2fJQ8D-fwbiq__V2huf15PPb0MhXxu/view
 ?usp=drive_link">Agenda</a><br /><a href="https://drive.google.com/file/d/1
 tdres-EeAwPt6r-8r7F7H854gm_wmqj_/view?usp=drive_link">Minutes of 2023 ADM</
 a><br /><a href="https://drive.google.com/file/d/1s8ZwztkOFqV1-ElKhktw5Wf4g
 tGL8Vee/view?usp=drive_link">Secretary's report</a><br /><a href="https://d
 rive.google.com/file/d/1o3mhnji0U5JGHLtWEb7hBJMkz37k4dZd/view?usp=drive_lin
 k">District Bell Restoration report</a><br /><a href="https://drive.google.
 com/file/d/1n6Z93gQ3AFfHnxZFeOwVka3JsAz8nMqA/view?usp=sharing">Central Coun
 cil Rep's report</a></p><p>There are accessible toilets in the church.&nbsp
 ;&nbsp;The meeting will be held in the Leslie Room in the church, which is 
 fully accessible (via a stairlift).&nbsp;&nbsp;</p><p>Parking in Horsham is
  pay &amp; display (information <a href="https://www.horsham.gov.uk/parking
 /horsham-town-centre-parking">here</a>&nbsp;- Denne Road car park is closes
 t, Piries Place and Swan Walk are also just a short walk away); or you can 
 use the <a href="https://www.metrobus.co.uk/horsham-park-ride">park &amp; r
 ide</a>.&nbsp;</p> <a href="https://www.scacr.org/news-events/calendar/1121
 /ringing-new-members-welcome-event-adm-ringers-tea?tmpl=component">This eve
 nt was imported from: https://www.scacr.org/news-events/calendar/1121/ringi
 ng-new-members-welcome-event-adm-ringers-tea?tmpl=component</a>CONTACT:This email address is being protected from spambots. You need JavaScript enabled to view it.
				document.getElementById('cloak6a7650e556e3615975361f3e4f47ea3e').innerHTML = '';
				var prefix = '&#109;a' + 'i&#108;' + '&#116;o';
				var path = 'hr' + 'ef' + '=';
				var addy6a7650e556e3615975361f3e4f47ea3e = 's&#101;c-n&#111;rth' + '&#64;';
				addy6a7650e556e3615975361f3e4f47ea3e = addy6a7650e556e3615975361f3e4f47ea3e + 'sc&#97;cr' + '&#46;' + '&#111;rg';
				var addy_text6a7650e556e3615975361f3e4f47ea3e = 's&#101;c-n&#111;rth' + '&#64;' + 'sc&#97;cr' + '&#46;' + '&#111;rg';document.getElementById('cloak6a7650e556e3615975361f3e4f47ea3e').innerHTML += '<a ' + path + '\'' + prefix + ':' + addy6a7650e556e3615975361f3e4f47ea3e + '\'>'+addy_text6a7650e556e3615975361f3e4f47ea3e+'';
		
DTSTAMP:20260422T015346
DTSTART;TZID=Europe/London:20240203T140000
DTEND;TZID=Europe/London:20240203T163000
SEQUENCE:0
TRANSP:OPAQUE
END:VEVENT
END:VCALENDAR