BEGIN:VCALENDAR
VERSION:2.0
PRODID:-//jEvents 2.0 for Joomla//EN
CALSCALE:GREGORIAN
METHOD:PUBLISH
BEGIN:VTIMEZONE
TZID:Europe/London
BEGIN:STANDARD
DTSTART:20230105T103000
RDATE:20230326T020000
TZOFFSETFROM:+0100
TZOFFSETTO:+0000
TZNAME:Europe/London GMT
END:STANDARD
BEGIN:STANDARD
DTSTART:20231029T010000
RDATE:20240331T020000
TZOFFSETFROM:+0100
TZOFFSETTO:+0000
TZNAME:Europe/London GMT
END:STANDARD
BEGIN:STANDARD
DTSTART:20241027T010000
RDATE:20250330T020000
TZOFFSETFROM:+0100
TZOFFSETTO:+0000
TZNAME:Europe/London GMT
END:STANDARD
BEGIN:STANDARD
DTSTART:20251026T010000
RDATE:20260329T020000
TZOFFSETFROM:+0100
TZOFFSETTO:+0000
TZNAME:Europe/London GMT
END:STANDARD
BEGIN:STANDARD
DTSTART:20261025T010000
RDATE:20270328T020000
TZOFFSETFROM:+0100
TZOFFSETTO:+0000
TZNAME:Europe/London GMT
END:STANDARD
BEGIN:STANDARD
DTSTART:20271031T010000
RDATE:20280326T020000
TZOFFSETFROM:+0100
TZOFFSETTO:+0000
TZNAME:Europe/London GMT
END:STANDARD
BEGIN:STANDARD
DTSTART:20281029T010000
RDATE:20290325T020000
TZOFFSETFROM:+0100
TZOFFSETTO:+0000
TZNAME:Europe/London GMT
END:STANDARD
BEGIN:STANDARD
DTSTART:20291028T010000
RDATE:20300331T020000
TZOFFSETFROM:+0100
TZOFFSETTO:+0000
TZNAME:Europe/London GMT
END:STANDARD
BEGIN:STANDARD
DTSTART:20301027T010000
RDATE:20310330T020000
TZOFFSETFROM:+0100
TZOFFSETTO:+0000
TZNAME:Europe/London GMT
END:STANDARD
BEGIN:DAYLIGHT
DTSTART:20230326T020000
RDATE:20231029T010000
TZOFFSETFROM:+0000
TZOFFSETTO:+0100
TZNAME:Europe/London BST
END:DAYLIGHT
BEGIN:DAYLIGHT
DTSTART:20240331T020000
RDATE:20241027T010000
TZOFFSETFROM:+0000
TZOFFSETTO:+0100
TZNAME:Europe/London BST
END:DAYLIGHT
BEGIN:DAYLIGHT
DTSTART:20250330T020000
RDATE:20251026T010000
TZOFFSETFROM:+0000
TZOFFSETTO:+0100
TZNAME:Europe/London BST
END:DAYLIGHT
BEGIN:DAYLIGHT
DTSTART:20260329T020000
RDATE:20261025T010000
TZOFFSETFROM:+0000
TZOFFSETTO:+0100
TZNAME:Europe/London BST
END:DAYLIGHT
BEGIN:DAYLIGHT
DTSTART:20270328T020000
RDATE:20271031T010000
TZOFFSETFROM:+0000
TZOFFSETTO:+0100
TZNAME:Europe/London BST
END:DAYLIGHT
BEGIN:DAYLIGHT
DTSTART:20280326T020000
RDATE:20281029T010000
TZOFFSETFROM:+0000
TZOFFSETTO:+0100
TZNAME:Europe/London BST
END:DAYLIGHT
BEGIN:DAYLIGHT
DTSTART:20290325T020000
RDATE:20291028T010000
TZOFFSETFROM:+0000
TZOFFSETTO:+0100
TZNAME:Europe/London BST
END:DAYLIGHT
BEGIN:DAYLIGHT
DTSTART:20300331T020000
RDATE:20301027T010000
TZOFFSETFROM:+0000
TZOFFSETTO:+0100
TZNAME:Europe/London BST
END:DAYLIGHT
END:VTIMEZONE
BEGIN:VEVENT
UID:6f30d8ba3b57c15b3f03af7cd905a1ff
CATEGORIES:North
CREATED:20230326T185249
SUMMARY:Ringing with pub lunch
LOCATION:Rusper (confirmed)
URL;VALUE=URI:https://www.scacr.org/news-events/calendar/1120/ringing-with-pub-lunch?tmpl
 =component
DESCRIPTION:Join us for a relaxed and friendly morning of ringing, followed by pub lunc
 h at the Plough across the road from the church. Ringing will be rounds-onw
 ards, all welcome!  Come along to try something new, ring something you wou
 ldn't get to ring at your own tower, or just get some extra practise in.  T
 here are usually plenty of people to stand behind.  \nIf you're a novice ri
 nger who hasn't had much experience of ringing at other towers, why not com
 e with your teacher/helper?\nPlease book your own table for lunch (the Plou
 gh (https://www.horshampub.co.uk/plough.php) pub is across the road from th
 e church; tell them you're with the bellringers!) - but if you don't know o
 f anyone else going, get in touch and we'll add you to a table (This email 
 address is being protected from spambots. You need JavaScript enabled to vi
 ew it.
				document.getElementById('cloak7d148f6d0a187a522d4c271fb0351a0c')
 .innerHTML = '';
				var prefix = '&#109;a' + 'i&#108;' + '&#116;o';
				va
 r path = 'hr' + 'ef' + '=';
				var addy7d148f6d0a187a522d4c271fb0351a0c = 
 's&#101;c-n&#111;rth' + '&#64;';
				addy7d148f6d0a187a522d4c271fb0351a0c =
  addy7d148f6d0a187a522d4c271fb0351a0c + 'sc&#97;cr' + '&#46;' + '&#111;rg';
 
				var addy_text7d148f6d0a187a522d4c271fb0351a0c = 's&#101;c-n&#111;rth' 
 + '&#64;' + 'sc&#97;cr' + '&#46;' + '&#111;rg';document.getElementById('clo
 ak7d148f6d0a187a522d4c271fb0351a0c').innerHTML += '<a ' + path + '\'' + pre
 fix + ':' + addy7d148f6d0a187a522d4c271fb0351a0c + '\'>'+addy_text7d148f6d0
 a187a522d4c271fb0351a0c+'';
		) :-)\nDon't forget to bring some cash for th
 e tower donation.\nParking in the church car park (entrance to the right of
  the church), or free on-street in the village.  Note no toilet in the chur
 ch. \n This event was imported from: https://www.scacr.org/news-events/cale
 ndar/1120/ringing-with-pub-lunch?tmpl=component (https://www.scacr.org/news
 -events/calendar/1120/ringing-with-pub-lunch?tmpl=component)
X-ALT-DESC;FMTTYPE=text/html:<p>Join us for a relaxed and friendly morning of ringing, followed by pub l
 unch at the Plough across the road from the church. Ringing will be rounds-
 onwards, all welcome!&nbsp; Come along to try something new, ring something
  you wouldn't get to ring at your own tower, or just get some extra practis
 e in.&nbsp; There are usually plenty of people to stand behind.&nbsp;&nbsp;
 </p><p>If you're a novice ringer who hasn't had much experience of ringing 
 at other towers, why not come with your teacher/helper?</p><p>Please book y
 our own table for lunch (<a href="https://www.horshampub.co.uk/plough.php">
 the Plough</a>&nbsp;pub is across the road from the church; tell them you'r
 e with the bellringers!) - but if you don't know of anyone else going, get 
 in touch and we'll add you to a table (<span id="cloak7d148f6d0a187a522d4c2
 71fb0351a0c">This email address is being protected from spambots. You need 
 JavaScript enabled to view it.</span><script type='text/javascript'>
				do
 cument.getElementById('cloak7d148f6d0a187a522d4c271fb0351a0c').innerHTML = 
 '';
				var prefix = '&#109;a' + 'i&#108;' + '&#116;o';
				var path = 'hr'
  + 'ef' + '=';
				var addy7d148f6d0a187a522d4c271fb0351a0c = 's&#101;c-n&#
 111;rth' + '&#64;';
				addy7d148f6d0a187a522d4c271fb0351a0c = addy7d148f6d
 0a187a522d4c271fb0351a0c + 'sc&#97;cr' + '&#46;' + '&#111;rg';
				var addy
 _text7d148f6d0a187a522d4c271fb0351a0c = 's&#101;c-n&#111;rth' + '&#64;' + '
 sc&#97;cr' + '&#46;' + '&#111;rg';document.getElementById('cloak7d148f6d0a1
 87a522d4c271fb0351a0c').innerHTML += '<a ' + path + '\'' + prefix + ':' + a
 ddy7d148f6d0a187a522d4c271fb0351a0c + '\'>'+addy_text7d148f6d0a187a522d4c27
 1fb0351a0c+'<\/a>';
		</script>) :-)</p><p>Don't forget to bring some cash 
 for the tower donation.</p><p>Parking in the church car park (entrance to t
 he right of the church), or free on-street in the village.&nbsp; Note no to
 ilet in the church.&nbsp;</p> <a href="https://www.scacr.org/news-events/ca
 lendar/1120/ringing-with-pub-lunch?tmpl=component">This event was imported 
 from: https://www.scacr.org/news-events/calendar/1120/ringing-with-pub-lunc
 h?tmpl=component</a>CONTACT:This email address is being protected from spambots. You need JavaScript enabled to view it.
				document.getElementById('cloakdc1dffec45f28e76d8ab00309fd5c1b0').innerHTML = '';
				var prefix = '&#109;a' + 'i&#108;' + '&#116;o';
				var path = 'hr' + 'ef' + '=';
				var addydc1dffec45f28e76d8ab00309fd5c1b0 = 's&#101;c-n&#111;rth' + '&#64;';
				addydc1dffec45f28e76d8ab00309fd5c1b0 = addydc1dffec45f28e76d8ab00309fd5c1b0 + 'sc&#97;cr' + '&#46;' + '&#111;rg';
				var addy_textdc1dffec45f28e76d8ab00309fd5c1b0 = 's&#101;c-n&#111;rth' + '&#64;' + 'sc&#97;cr' + '&#46;' + '&#111;rg';document.getElementById('cloakdc1dffec45f28e76d8ab00309fd5c1b0').innerHTML += '<a ' + path + '\'' + prefix + ':' + addydc1dffec45f28e76d8ab00309fd5c1b0 + '\'>'+addy_textdc1dffec45f28e76d8ab00309fd5c1b0+'';
		
DTSTAMP:20260421T132810
DTSTART;TZID=Europe/London:20240106T103000
DTEND;TZID=Europe/London:20240106T120000
SEQUENCE:0
TRANSP:OPAQUE
END:VEVENT
END:VCALENDAR