BEGIN:VCALENDAR
VERSION:2.0
PRODID:-//jEvents 2.0 for Joomla//EN
CALSCALE:GREGORIAN
METHOD:PUBLISH
BEGIN:VTIMEZONE
TZID:Europe/London
BEGIN:STANDARD
DTSTART:20221030T010000
RDATE:20230326T020000
TZOFFSETFROM:+0100
TZOFFSETTO:+0000
TZNAME:Europe/London GMT
END:STANDARD
BEGIN:STANDARD
DTSTART:20231029T010000
RDATE:20240331T020000
TZOFFSETFROM:+0100
TZOFFSETTO:+0000
TZNAME:Europe/London GMT
END:STANDARD
BEGIN:STANDARD
DTSTART:20241027T010000
RDATE:20250330T020000
TZOFFSETFROM:+0100
TZOFFSETTO:+0000
TZNAME:Europe/London GMT
END:STANDARD
BEGIN:STANDARD
DTSTART:20251026T010000
RDATE:20260329T020000
TZOFFSETFROM:+0100
TZOFFSETTO:+0000
TZNAME:Europe/London GMT
END:STANDARD
BEGIN:STANDARD
DTSTART:20261025T010000
RDATE:20270328T020000
TZOFFSETFROM:+0100
TZOFFSETTO:+0000
TZNAME:Europe/London GMT
END:STANDARD
BEGIN:STANDARD
DTSTART:20271031T010000
RDATE:20280326T020000
TZOFFSETFROM:+0100
TZOFFSETTO:+0000
TZNAME:Europe/London GMT
END:STANDARD
BEGIN:STANDARD
DTSTART:20281029T010000
RDATE:20290325T020000
TZOFFSETFROM:+0100
TZOFFSETTO:+0000
TZNAME:Europe/London GMT
END:STANDARD
BEGIN:STANDARD
DTSTART:20291028T010000
RDATE:20300331T020000
TZOFFSETFROM:+0100
TZOFFSETTO:+0000
TZNAME:Europe/London GMT
END:STANDARD
BEGIN:STANDARD
DTSTART:20301027T010000
RDATE:20310330T020000
TZOFFSETFROM:+0100
TZOFFSETTO:+0000
TZNAME:Europe/London GMT
END:STANDARD
BEGIN:DAYLIGHT
DTSTART:20220414T140000
RDATE:20221030T010000
TZOFFSETFROM:+0000
TZOFFSETTO:+0100
TZNAME:Europe/London BST
END:DAYLIGHT
BEGIN:DAYLIGHT
DTSTART:20230326T020000
RDATE:20231029T010000
TZOFFSETFROM:+0000
TZOFFSETTO:+0100
TZNAME:Europe/London BST
END:DAYLIGHT
BEGIN:DAYLIGHT
DTSTART:20240331T020000
RDATE:20241027T010000
TZOFFSETFROM:+0000
TZOFFSETTO:+0100
TZNAME:Europe/London BST
END:DAYLIGHT
BEGIN:DAYLIGHT
DTSTART:20250330T020000
RDATE:20251026T010000
TZOFFSETFROM:+0000
TZOFFSETTO:+0100
TZNAME:Europe/London BST
END:DAYLIGHT
BEGIN:DAYLIGHT
DTSTART:20260329T020000
RDATE:20261025T010000
TZOFFSETFROM:+0000
TZOFFSETTO:+0100
TZNAME:Europe/London BST
END:DAYLIGHT
BEGIN:DAYLIGHT
DTSTART:20270328T020000
RDATE:20271031T010000
TZOFFSETFROM:+0000
TZOFFSETTO:+0100
TZNAME:Europe/London BST
END:DAYLIGHT
BEGIN:DAYLIGHT
DTSTART:20280326T020000
RDATE:20281029T010000
TZOFFSETFROM:+0000
TZOFFSETTO:+0100
TZNAME:Europe/London BST
END:DAYLIGHT
BEGIN:DAYLIGHT
DTSTART:20290325T020000
RDATE:20291028T010000
TZOFFSETFROM:+0000
TZOFFSETTO:+0100
TZNAME:Europe/London BST
END:DAYLIGHT
BEGIN:DAYLIGHT
DTSTART:20300331T020000
RDATE:20301027T010000
TZOFFSETFROM:+0000
TZOFFSETTO:+0100
TZNAME:Europe/London BST
END:DAYLIGHT
END:VTIMEZONE
BEGIN:VEVENT
UID:ed5efe42143b96833f54af61e030a1c0
CATEGORIES:West
CREATED:20230309T151004
SUMMARY:NEW MEMBERS!!
LOCATION:St Mary's Church\, Storrington
URL;VALUE=URI:https://www.scacr.org/news-events/calendar/1102/new-members?tmpl=component
DESCRIPTION:This monthly 'Get Together' is to welcome any 'New Members' within the last
  year or so! Some may be new to ringing and others returners.  Regardless -
  everyone is welcome!  Come and meet other new members and some established
  ones!!!  An opportunity to ring on some lovely bells, exchange and share i
 deas!!  If there is anything that you would particularly like to be covered
  - ie:  How to read a blue line or bell ringing termminology or anything be
 ll ringing - come with some thoughts and even your mentor/teacher who would
  also be very welcome,  or contact This email address is being protected fr
 om spambots. You need JavaScript enabled to view it.
				document.getElemen
 tById('cloake6629d451356212cdb4ed88ba45a68f8').innerHTML = '';
				var pref
 ix = '&#109;a' + 'i&#108;' + '&#116;o';
				var path = 'hr' + 'ef' + '=';
	
 			var addye6629d451356212cdb4ed88ba45a68f8 = 's&#101;c-w&#101;st' + '&#64;
 ';
				addye6629d451356212cdb4ed88ba45a68f8 = addye6629d451356212cdb4ed88ba
 45a68f8 + 'sc&#97;cr' + '&#46;' + '&#111;rg';
				var addy_texte6629d451356
 212cdb4ed88ba45a68f8 = 's&#101;c-w&#101;st' + '&#64;' + 'sc&#97;cr' + '&#46
 ;' + '&#111;rg';document.getElementById('cloake6629d451356212cdb4ed88ba45a6
 8f8').innerHTML += '<a ' + path + '\'' + prefix + ':' + addye6629d451356212
 cdb4ed88ba45a68f8 + '\'>'+addy_texte6629d451356212cdb4ed88ba45a68f8+'';
		 
  prior to the day with any ideas.  We can make sure that your questions/ide
 as can be answered!!!!  The plan is also to have some helpful publications 
 which can be purchased.\nTea and cake will be available - let This email ad
 dress is being protected from spambots. You need JavaScript enabled to view
  it.
				document.getElementById('cloak644eb32515b7623bc4c9e9332a416c4f').i
 nnerHTML = '';
				var prefix = '&#109;a' + 'i&#108;' + '&#116;o';
				var 
 path = 'hr' + 'ef' + '=';
				var addy644eb32515b7623bc4c9e9332a416c4f = 's
 &#101;c-w&#101;st' + '&#64;';
				addy644eb32515b7623bc4c9e9332a416c4f = ad
 dy644eb32515b7623bc4c9e9332a416c4f + 'sc&#97;cr' + '&#46;' + '&#111;rg';
		
 		var addy_text644eb32515b7623bc4c9e9332a416c4f = 's&#101;c-w&#101;st' + '&
 #64;' + 'sc&#97;cr' + '&#46;' + '&#111;rg';document.getElementById('cloak64
 4eb32515b7623bc4c9e9332a416c4f').innerHTML += '<a ' + path + '\'' + prefix 
 + ':' + addy644eb32515b7623bc4c9e9332a416c4f + '\'>'+addy_text644eb32515b76
 23bc4c9e9332a416c4f+'';
		 by the end of day on the day 12th April to book 
 tea or call Janice on 07890804339.\nThe plan is to also hold a raffle in ai
 d of BRF so any donations of prizes would be most welcome! \nLook forward t
 o seeing you there!!!\n \n \n \n This event was imported from: https://www.
 scacr.org/news-events/calendar/1102/new-members?tmpl=component (https://www
 .scacr.org/news-events/calendar/1102/new-members?tmpl=component)
X-ALT-DESC;FMTTYPE=text/html:<p>This monthly 'Get Together' is to welcome any 'New Members' within the l
 ast year or so! Some may be new to ringing and others returners.&nbsp; Rega
 rdless - everyone is welcome!&nbsp; Come and meet other new members and som
 e established ones!!!&nbsp; An opportunity to ring on some lovely bells, ex
 change and share ideas!!&nbsp; If there is anything that you would particul
 arly like to be covered - ie:&nbsp; How to read a blue line or bell ringing
  termminology or anything bell ringing - come with some thoughts and even y
 our mentor/teacher who would also be very welcome,&nbsp; or contact <span i
 d="cloake6629d451356212cdb4ed88ba45a68f8">This email address is being prote
 cted from spambots. You need JavaScript enabled to view it.</span><script t
 ype='text/javascript'>
				document.getElementById('cloake6629d451356212cdb
 4ed88ba45a68f8').innerHTML = '';
				var prefix = '&#109;a' + 'i&#108;' + '
 &#116;o';
				var path = 'hr' + 'ef' + '=';
				var addye6629d451356212cdb4
 ed88ba45a68f8 = 's&#101;c-w&#101;st' + '&#64;';
				addye6629d451356212cdb4
 ed88ba45a68f8 = addye6629d451356212cdb4ed88ba45a68f8 + 'sc&#97;cr' + '&#46;
 ' + '&#111;rg';
				var addy_texte6629d451356212cdb4ed88ba45a68f8 = 's&#101
 ;c-w&#101;st' + '&#64;' + 'sc&#97;cr' + '&#46;' + '&#111;rg';document.getEl
 ementById('cloake6629d451356212cdb4ed88ba45a68f8').innerHTML += '<a ' + pat
 h + '\'' + prefix + ':' + addye6629d451356212cdb4ed88ba45a68f8 + '\'>'+addy
 _texte6629d451356212cdb4ed88ba45a68f8+'<\/a>';
		</script>&nbsp; prior to t
 he day with any ideas.&nbsp; We can make sure that your questions/ideas can
  be answered!!!!&nbsp; The plan is also to have some helpful publications w
 hich can be purchased.</p><p>Tea and cake will be available - let <span id=
 "cloak644eb32515b7623bc4c9e9332a416c4f">This email address is being protect
 ed from spambots. You need JavaScript enabled to view it.</span><script typ
 e='text/javascript'>
				document.getElementById('cloak644eb32515b7623bc4c9
 e9332a416c4f').innerHTML = '';
				var prefix = '&#109;a' + 'i&#108;' + '&#
 116;o';
				var path = 'hr' + 'ef' + '=';
				var addy644eb32515b7623bc4c9e
 9332a416c4f = 's&#101;c-w&#101;st' + '&#64;';
				addy644eb32515b7623bc4c9e
 9332a416c4f = addy644eb32515b7623bc4c9e9332a416c4f + 'sc&#97;cr' + '&#46;' 
 + '&#111;rg';
				var addy_text644eb32515b7623bc4c9e9332a416c4f = 's&#101;c
 -w&#101;st' + '&#64;' + 'sc&#97;cr' + '&#46;' + '&#111;rg';document.getElem
 entById('cloak644eb32515b7623bc4c9e9332a416c4f').innerHTML += '<a ' + path 
 + '\'' + prefix + ':' + addy644eb32515b7623bc4c9e9332a416c4f + '\'>'+addy_t
 ext644eb32515b7623bc4c9e9332a416c4f+'<\/a>';
		</script> by the end of day 
 on the day 12th April to book tea or call Janice on 07890804339.</p><p>The 
 plan is to also hold a raffle in aid of BRF so any donations of prizes woul
 d be most welcome!&nbsp;</p><p>Look forward to seeing you there!!!</p><p>&n
 bsp;</p><p>&nbsp;</p><p>&nbsp;</p> <a href="https://www.scacr.org/news-even
 ts/calendar/1102/new-members?tmpl=component">This event was imported from: 
 https://www.scacr.org/news-events/calendar/1102/new-members?tmpl=component<
 /a>CONTACT:This email address is being protected from spambots. You need JavaScript enabled to view it.
				document.getElementById('cloakf0c92b5571bd8a69ec2b0ff158070bc8').innerHTML = '';
				var prefix = '&#109;a' + 'i&#108;' + '&#116;o';
				var path = 'hr' + 'ef' + '=';
				var addyf0c92b5571bd8a69ec2b0ff158070bc8 = 's&#101;c-w&#101;st' + '&#64;';
				addyf0c92b5571bd8a69ec2b0ff158070bc8 = addyf0c92b5571bd8a69ec2b0ff158070bc8 + 'sc&#97;cr' + '&#46;' + '&#111;rg';
				var addy_textf0c92b5571bd8a69ec2b0ff158070bc8 = 's&#101;c-w&#101;st' + '&#64;' + 'sc&#97;cr' + '&#46;' + '&#111;rg';document.getElementById('cloakf0c92b5571bd8a69ec2b0ff158070bc8').innerHTML += '<a ' + path + '\'' + prefix + ':' + addyf0c92b5571bd8a69ec2b0ff158070bc8 + '\'>'+addy_textf0c92b5571bd8a69ec2b0ff158070bc8+'';
		
X-EXTRAINFO:Feel free to bring your teacher/mentor along too!!!
DTSTAMP:20260420T133335
DTSTART;TZID=Europe/London:20230415T140000
DTEND;TZID=Europe/London:20230415T160000
SEQUENCE:0
TRANSP:OPAQUE
END:VEVENT
END:VCALENDAR