BEGIN:VCALENDAR
VERSION:2.0
PRODID:-//jEvents 2.0 for Joomla//EN
CALSCALE:GREGORIAN
METHOD:PUBLISH
BEGIN:VTIMEZONE
TZID:Europe/London
BEGIN:STANDARD
DTSTART:20220310T140000
RDATE:20220327T020000
TZOFFSETFROM:+0100
TZOFFSETTO:+0000
TZNAME:Europe/London GMT
END:STANDARD
BEGIN:STANDARD
DTSTART:20221030T010000
RDATE:20230326T020000
TZOFFSETFROM:+0100
TZOFFSETTO:+0000
TZNAME:Europe/London GMT
END:STANDARD
BEGIN:STANDARD
DTSTART:20231029T010000
RDATE:20240331T020000
TZOFFSETFROM:+0100
TZOFFSETTO:+0000
TZNAME:Europe/London GMT
END:STANDARD
BEGIN:STANDARD
DTSTART:20241027T010000
RDATE:20250330T020000
TZOFFSETFROM:+0100
TZOFFSETTO:+0000
TZNAME:Europe/London GMT
END:STANDARD
BEGIN:STANDARD
DTSTART:20251026T010000
RDATE:20260329T020000
TZOFFSETFROM:+0100
TZOFFSETTO:+0000
TZNAME:Europe/London GMT
END:STANDARD
BEGIN:STANDARD
DTSTART:20261025T010000
RDATE:20270328T020000
TZOFFSETFROM:+0100
TZOFFSETTO:+0000
TZNAME:Europe/London GMT
END:STANDARD
BEGIN:STANDARD
DTSTART:20271031T010000
RDATE:20280326T020000
TZOFFSETFROM:+0100
TZOFFSETTO:+0000
TZNAME:Europe/London GMT
END:STANDARD
BEGIN:STANDARD
DTSTART:20281029T010000
RDATE:20290325T020000
TZOFFSETFROM:+0100
TZOFFSETTO:+0000
TZNAME:Europe/London GMT
END:STANDARD
BEGIN:STANDARD
DTSTART:20291028T010000
RDATE:20300331T020000
TZOFFSETFROM:+0100
TZOFFSETTO:+0000
TZNAME:Europe/London GMT
END:STANDARD
BEGIN:STANDARD
DTSTART:20301027T010000
RDATE:20310330T020000
TZOFFSETFROM:+0100
TZOFFSETTO:+0000
TZNAME:Europe/London GMT
END:STANDARD
BEGIN:DAYLIGHT
DTSTART:20220327T020000
RDATE:20221030T010000
TZOFFSETFROM:+0000
TZOFFSETTO:+0100
TZNAME:Europe/London BST
END:DAYLIGHT
BEGIN:DAYLIGHT
DTSTART:20230326T020000
RDATE:20231029T010000
TZOFFSETFROM:+0000
TZOFFSETTO:+0100
TZNAME:Europe/London BST
END:DAYLIGHT
BEGIN:DAYLIGHT
DTSTART:20240331T020000
RDATE:20241027T010000
TZOFFSETFROM:+0000
TZOFFSETTO:+0100
TZNAME:Europe/London BST
END:DAYLIGHT
BEGIN:DAYLIGHT
DTSTART:20250330T020000
RDATE:20251026T010000
TZOFFSETFROM:+0000
TZOFFSETTO:+0100
TZNAME:Europe/London BST
END:DAYLIGHT
BEGIN:DAYLIGHT
DTSTART:20260329T020000
RDATE:20261025T010000
TZOFFSETFROM:+0000
TZOFFSETTO:+0100
TZNAME:Europe/London BST
END:DAYLIGHT
BEGIN:DAYLIGHT
DTSTART:20270328T020000
RDATE:20271031T010000
TZOFFSETFROM:+0000
TZOFFSETTO:+0100
TZNAME:Europe/London BST
END:DAYLIGHT
BEGIN:DAYLIGHT
DTSTART:20280326T020000
RDATE:20281029T010000
TZOFFSETFROM:+0000
TZOFFSETTO:+0100
TZNAME:Europe/London BST
END:DAYLIGHT
BEGIN:DAYLIGHT
DTSTART:20290325T020000
RDATE:20291028T010000
TZOFFSETFROM:+0000
TZOFFSETTO:+0100
TZNAME:Europe/London BST
END:DAYLIGHT
BEGIN:DAYLIGHT
DTSTART:20300331T020000
RDATE:20301027T010000
TZOFFSETFROM:+0000
TZOFFSETTO:+0100
TZNAME:Europe/London BST
END:DAYLIGHT
END:VTIMEZONE
BEGIN:VEVENT
UID:fceb27037c2fa44e15c9ba1aaaac081b
CATEGORIES:West
CREATED:20230219T133505
SUMMARY:Monthly 'Get Together'
LOCATION:St John's the Baptist  Church  Kirdford
URL;VALUE=URI:https://www.scacr.org/news-events/calendar/1097/monthly-get-together?tmpl=c
 omponent
DESCRIPTION:Come alog to our monthly Get Together at Kirdford!  This will be in the aft
 ernoon and tea and cake will also be available.  Look forward to seeing you
  there.  To book tea contact This email address is being protected from spa
 mbots. You need JavaScript enabled to view it.
				document.getElementById(
 'cloak16a0243ba4554fc63422c1d42ad98956').innerHTML = '';
				var prefix = '
 &#109;a' + 'i&#108;' + '&#116;o';
				var path = 'hr' + 'ef' + '=';
				var
  addy16a0243ba4554fc63422c1d42ad98956 = 's&#101;c-w&#101;st' + '&#64;';
			
 	addy16a0243ba4554fc63422c1d42ad98956 = addy16a0243ba4554fc63422c1d42ad9895
 6 + 'sc&#97;cr' + '&#46;' + '&#111;rg';
				var addy_text16a0243ba4554fc634
 22c1d42ad98956 = 's&#101;c-w&#101;st' + '&#64;' + 'sc&#97;cr' + '&#46;' + '
 &#111;rg';document.getElementById('cloak16a0243ba4554fc63422c1d42ad98956').
 innerHTML += '<a ' + path + '\'' + prefix + ':' + addy16a0243ba4554fc63422c
 1d42ad98956 + '\'>'+addy_text16a0243ba4554fc63422c1d42ad98956+'';
		   The 
 plan is to have a raffle in aid of BRF - any donations of prizes would be g
 reatly appreciated!\n This event was imported from: https://www.scacr.org/n
 ews-events/calendar/1097/monthly-get-together?tmpl=component (https://www.s
 cacr.org/news-events/calendar/1097/monthly-get-together?tmpl=component)
X-ALT-DESC;FMTTYPE=text/html:<p>Come alog to our monthly Get Together at Kirdford!&nbsp; This will be in
  the afternoon and tea and cake will also be available.&nbsp; Look forward 
 to seeing you there.&nbsp; To book tea contact <span id="cloak16a0243ba4554
 fc63422c1d42ad98956">This email address is being protected from spambots. Y
 ou need JavaScript enabled to view it.</span><script type='text/javascript'
 >
				document.getElementById('cloak16a0243ba4554fc63422c1d42ad98956').inne
 rHTML = '';
				var prefix = '&#109;a' + 'i&#108;' + '&#116;o';
				var pat
 h = 'hr' + 'ef' + '=';
				var addy16a0243ba4554fc63422c1d42ad98956 = 's&#1
 01;c-w&#101;st' + '&#64;';
				addy16a0243ba4554fc63422c1d42ad98956 = addy1
 6a0243ba4554fc63422c1d42ad98956 + 'sc&#97;cr' + '&#46;' + '&#111;rg';
				v
 ar addy_text16a0243ba4554fc63422c1d42ad98956 = 's&#101;c-w&#101;st' + '&#64
 ;' + 'sc&#97;cr' + '&#46;' + '&#111;rg';document.getElementById('cloak16a02
 43ba4554fc63422c1d42ad98956').innerHTML += '<a ' + path + '\'' + prefix + '
 :' + addy16a0243ba4554fc63422c1d42ad98956 + '\'>'+addy_text16a0243ba4554fc6
 3422c1d42ad98956+'<\/a>';
		</script>&nbsp; &nbsp;The plan is to have a raf
 fle in aid of BRF - any donations of prizes would be greatly appreciated!</
 p> <a href="https://www.scacr.org/news-events/calendar/1097/monthly-get-tog
 ether?tmpl=component">This event was imported from: https://www.scacr.org/n
 ews-events/calendar/1097/monthly-get-together?tmpl=component</a>CONTACT:This email address is being protected from spambots. You need JavaScript enabled to view it.
				document.getElementById('cloak36f6005dd6efda6f5fb6145f7f261ced').innerHTML = '';
				var prefix = '&#109;a' + 'i&#108;' + '&#116;o';
				var path = 'hr' + 'ef' + '=';
				var addy36f6005dd6efda6f5fb6145f7f261ced = 's&#101;c-w&#101;st' + '&#64;';
				addy36f6005dd6efda6f5fb6145f7f261ced = addy36f6005dd6efda6f5fb6145f7f261ced + 'sc&#97;cr' + '&#46;' + '&#111;rg';
				var addy_text36f6005dd6efda6f5fb6145f7f261ced = 's&#101;c-w&#101;st' + '&#64;' + 'sc&#97;cr' + '&#46;' + '&#111;rg';document.getElementById('cloak36f6005dd6efda6f5fb6145f7f261ced').innerHTML += '<a ' + path + '\'' + prefix + ':' + addy36f6005dd6efda6f5fb6145f7f261ced + '\'>'+addy_text36f6005dd6efda6f5fb6145f7f261ced+'';
		
DTSTAMP:20260419T205415
DTSTART;TZID=Europe/London:20230311T140000
DTEND;TZID=Europe/London:20230311T160000
SEQUENCE:0
TRANSP:OPAQUE
END:VEVENT
END:VCALENDAR