BEGIN:VCALENDAR
VERSION:2.0
PRODID:-//jEvents 2.0 for Joomla//EN
CALSCALE:GREGORIAN
METHOD:PUBLISH
BEGIN:VTIMEZONE
TZID:Europe/London
BEGIN:STANDARD
DTSTART:20221030T010000
RDATE:20230326T020000
TZOFFSETFROM:+0100
TZOFFSETTO:+0000
TZNAME:Europe/London GMT
END:STANDARD
BEGIN:STANDARD
DTSTART:20231029T010000
RDATE:20240331T020000
TZOFFSETFROM:+0100
TZOFFSETTO:+0000
TZNAME:Europe/London GMT
END:STANDARD
BEGIN:STANDARD
DTSTART:20241027T010000
RDATE:20250330T020000
TZOFFSETFROM:+0100
TZOFFSETTO:+0000
TZNAME:Europe/London GMT
END:STANDARD
BEGIN:STANDARD
DTSTART:20251026T010000
RDATE:20260329T020000
TZOFFSETFROM:+0100
TZOFFSETTO:+0000
TZNAME:Europe/London GMT
END:STANDARD
BEGIN:STANDARD
DTSTART:20261025T010000
RDATE:20270328T020000
TZOFFSETFROM:+0100
TZOFFSETTO:+0000
TZNAME:Europe/London GMT
END:STANDARD
BEGIN:STANDARD
DTSTART:20271031T010000
RDATE:20280326T020000
TZOFFSETFROM:+0100
TZOFFSETTO:+0000
TZNAME:Europe/London GMT
END:STANDARD
BEGIN:STANDARD
DTSTART:20281029T010000
RDATE:20290325T020000
TZOFFSETFROM:+0100
TZOFFSETTO:+0000
TZNAME:Europe/London GMT
END:STANDARD
BEGIN:STANDARD
DTSTART:20291028T010000
RDATE:20300331T020000
TZOFFSETFROM:+0100
TZOFFSETTO:+0000
TZNAME:Europe/London GMT
END:STANDARD
BEGIN:STANDARD
DTSTART:20301027T010000
RDATE:20310330T020000
TZOFFSETFROM:+0100
TZOFFSETTO:+0000
TZNAME:Europe/London GMT
END:STANDARD
BEGIN:DAYLIGHT
DTSTART:20220910T193000
RDATE:20221030T010000
TZOFFSETFROM:+0000
TZOFFSETTO:+0100
TZNAME:Europe/London BST
END:DAYLIGHT
BEGIN:DAYLIGHT
DTSTART:20230326T020000
RDATE:20231029T010000
TZOFFSETFROM:+0000
TZOFFSETTO:+0100
TZNAME:Europe/London BST
END:DAYLIGHT
BEGIN:DAYLIGHT
DTSTART:20240331T020000
RDATE:20241027T010000
TZOFFSETFROM:+0000
TZOFFSETTO:+0100
TZNAME:Europe/London BST
END:DAYLIGHT
BEGIN:DAYLIGHT
DTSTART:20250330T020000
RDATE:20251026T010000
TZOFFSETFROM:+0000
TZOFFSETTO:+0100
TZNAME:Europe/London BST
END:DAYLIGHT
BEGIN:DAYLIGHT
DTSTART:20260329T020000
RDATE:20261025T010000
TZOFFSETFROM:+0000
TZOFFSETTO:+0100
TZNAME:Europe/London BST
END:DAYLIGHT
BEGIN:DAYLIGHT
DTSTART:20270328T020000
RDATE:20271031T010000
TZOFFSETFROM:+0000
TZOFFSETTO:+0100
TZNAME:Europe/London BST
END:DAYLIGHT
BEGIN:DAYLIGHT
DTSTART:20280326T020000
RDATE:20281029T010000
TZOFFSETFROM:+0000
TZOFFSETTO:+0100
TZNAME:Europe/London BST
END:DAYLIGHT
BEGIN:DAYLIGHT
DTSTART:20290325T020000
RDATE:20291028T010000
TZOFFSETFROM:+0000
TZOFFSETTO:+0100
TZNAME:Europe/London BST
END:DAYLIGHT
BEGIN:DAYLIGHT
DTSTART:20300331T020000
RDATE:20301027T010000
TZOFFSETFROM:+0000
TZOFFSETTO:+0100
TZNAME:Europe/London BST
END:DAYLIGHT
END:VTIMEZONE
BEGIN:VEVENT
UID:4406cf04036018e2e9193b0683ba3321
CATEGORIES:North
CREATED:20230217T193442
SUMMARY:Surprise Major Practice
LOCATION:Rusper
URL;VALUE=URI:https://www.scacr.org/news-events/calendar/1086/surprise-major-practice?tmp
 l=component
DESCRIPTION:<p>Reflecting on the recent experience at these practices, the focus will c
 ontinue to be on three core methods: Yorkshire, Cambridge and Cornwall.</p>
 <p>The idea is to try and improve the success rate and striking accuracy in
  these three methods and it would be very much appreciated if where possibl
 e attendees do a little extra homework in advance, to help ensure we peform
  our best on the night. There will also be an enhanced effort to ensure mor
 e optimal band placement.</p><p>I hope there will continue to be an opportu
 nity for the more experienced ringers to ring a touch of spliced at the end
  of the practice subject to attendance.</p><p>Simon Alford has kindly agree
 d to run the practice this month since I am away, however please still let 
 me know via <span id="cloak77059c3f724402ce825f2ab0c563ef2a">This email add
 ress is being protected from spambots. You need JavaScript enabled to view 
 it.</span><script type='text/javascript'>
				document.getElementById('cloa
 k77059c3f724402ce825f2ab0c563ef2a').innerHTML = '';
				var prefix = '&#109
 ;a' + 'i&#108;' + '&#116;o';
				var path = 'hr' + 'ef' + '=';
				var addy
 77059c3f724402ce825f2ab0c563ef2a = 'n&#101;ssr&#105;ng&#105;ng' + '&#64;';

 				addy77059c3f724402ce825f2ab0c563ef2a = addy77059c3f724402ce825f2ab0c563
 ef2a + '&#105;cl&#111;&#117;d' + '&#46;' + 'c&#111;m';
				var addy_text770
 59c3f724402ce825f2ab0c563ef2a = 'n&#101;ssr&#105;ng&#105;ng' + '&#64;' + '&
 #105;cl&#111;&#117;d' + '&#46;' + 'c&#111;m';document.getElementById('cloak
 77059c3f724402ce825f2ab0c563ef2a').innerHTML += '<a ' + path + '\'' + prefi
 x + ':' + addy77059c3f724402ce825f2ab0c563ef2a + '\'>'+addy_text77059c3f724
 402ce825f2ab0c563ef2a+'<\/a>';
		</script>&nbsp;if you plan to attend.</p><
 p>SCACR members from other Districts are very welcome to attend!</p><p><a h
 ref="towers/directory/108-rusper-st-mary-magdalene">https://www.scacr.org/t
 owers/directory/108-rusper-st-mary-magdalene</a></p> <a href="https://www.s
 cacr.org/news-events/calendar/1086/surprise-major-practice?tmpl=component">
 This event was imported from: https://www.scacr.org/news-events/calendar/10
 86/surprise-major-practice?tmpl=component</a>
X-ALT-DESC;FMTTYPE=text/html:<p>Reflecting on the recent experience at these practices, the focus will c
 ontinue to be on three core methods: Yorkshire, Cambridge and Cornwall.</p>
 <p>The idea is to try and improve the success rate and striking accuracy in
  these three methods and it would be very much appreciated if where possibl
 e attendees do a little extra homework in advance, to help ensure we peform
  our best on the night. There will also be an enhanced effort to ensure mor
 e optimal band placement.</p><p>I hope there will continue to be an opportu
 nity for the more experienced ringers to ring a touch of spliced at the end
  of the practice subject to attendance.</p><p>Simon Alford has kindly agree
 d to run the practice this month since I am away, however please still let 
 me know via <span id="cloak77059c3f724402ce825f2ab0c563ef2a">This email add
 ress is being protected from spambots. You need JavaScript enabled to view 
 it.</span><script type='text/javascript'>
				document.getElementById('cloa
 k77059c3f724402ce825f2ab0c563ef2a').innerHTML = '';
				var prefix = '&#109
 ;a' + 'i&#108;' + '&#116;o';
				var path = 'hr' + 'ef' + '=';
				var addy
 77059c3f724402ce825f2ab0c563ef2a = 'n&#101;ssr&#105;ng&#105;ng' + '&#64;';

 				addy77059c3f724402ce825f2ab0c563ef2a = addy77059c3f724402ce825f2ab0c563
 ef2a + '&#105;cl&#111;&#117;d' + '&#46;' + 'c&#111;m';
				var addy_text770
 59c3f724402ce825f2ab0c563ef2a = 'n&#101;ssr&#105;ng&#105;ng' + '&#64;' + '&
 #105;cl&#111;&#117;d' + '&#46;' + 'c&#111;m';document.getElementById('cloak
 77059c3f724402ce825f2ab0c563ef2a').innerHTML += '<a ' + path + '\'' + prefi
 x + ':' + addy77059c3f724402ce825f2ab0c563ef2a + '\'>'+addy_text77059c3f724
 402ce825f2ab0c563ef2a+'<\/a>';
		</script>&nbsp;if you plan to attend.</p><
 p>SCACR members from other Districts are very welcome to attend!</p><p><a h
 ref="https://www.scacr.org/towers/directory/108-rusper-st-mary-magdalene">h
 ttps://www.scacr.org/towers/directory/108-rusper-st-mary-magdalene</a></p> 
 <a href="https://www.scacr.org/news-events/calendar/1086/surprise-major-pra
 ctice?tmpl=component">This event was imported from: https://www.scacr.org/n
 ews-events/calendar/1086/surprise-major-practice?tmpl=component</a>CONTACT:This email address is being protected from spambots. You need JavaScript enabled to view it.
				document.getElementById('cloakfb19827479946a9f7c9c6d4fcee1d2c1').innerHTML = '';
				var prefix = '&#109;a' + 'i&#108;' + '&#116;o';
				var path = 'hr' + 'ef' + '=';
				var addyfb19827479946a9f7c9c6d4fcee1d2c1 = 'n&#101;ssr&#105;ng&#105;ng' + '&#64;';
				addyfb19827479946a9f7c9c6d4fcee1d2c1 = addyfb19827479946a9f7c9c6d4fcee1d2c1 + '&#105;cl&#111;&#117;d' + '&#46;' + 'c&#111;m';
				var addy_textfb19827479946a9f7c9c6d4fcee1d2c1 = 'n&#101;ssr&#105;ng&#105;ng' + '&#64;' + '&#105;cl&#111;&#117;d' + '&#46;' + 'c&#111;m';document.getElementById('cloakfb19827479946a9f7c9c6d4fcee1d2c1').innerHTML += '<a ' + path + '\'' + prefix + ':' + addyfb19827479946a9f7c9c6d4fcee1d2c1 + '\'>'+addy_textfb19827479946a9f7c9c6d4fcee1d2c1+'';
		
X-EXTRAINFO:https://www.scacr.org/towers/directory/108-rusper-st-mary-magdalene
DTSTAMP:20260421T042307
DTSTART;TZID=Europe/London:20230911T193000
DTEND;TZID=Europe/London:20230911T210000
SEQUENCE:0
TRANSP:OPAQUE
END:VEVENT
END:VCALENDAR