BEGIN:VCALENDAR
VERSION:2.0
PRODID:-//jEvents 2.0 for Joomla//EN
CALSCALE:GREGORIAN
METHOD:PUBLISH
BEGIN:VTIMEZONE
TZID:Europe/London
BEGIN:STANDARD
DTSTART:20221030T010000
RDATE:20230326T020000
TZOFFSETFROM:+0100
TZOFFSETTO:+0000
TZNAME:Europe/London GMT
END:STANDARD
BEGIN:STANDARD
DTSTART:20231029T010000
RDATE:20240331T020000
TZOFFSETFROM:+0100
TZOFFSETTO:+0000
TZNAME:Europe/London GMT
END:STANDARD
BEGIN:STANDARD
DTSTART:20241027T010000
RDATE:20250330T020000
TZOFFSETFROM:+0100
TZOFFSETTO:+0000
TZNAME:Europe/London GMT
END:STANDARD
BEGIN:STANDARD
DTSTART:20251026T010000
RDATE:20260329T020000
TZOFFSETFROM:+0100
TZOFFSETTO:+0000
TZNAME:Europe/London GMT
END:STANDARD
BEGIN:STANDARD
DTSTART:20261025T010000
RDATE:20270328T020000
TZOFFSETFROM:+0100
TZOFFSETTO:+0000
TZNAME:Europe/London GMT
END:STANDARD
BEGIN:STANDARD
DTSTART:20271031T010000
RDATE:20280326T020000
TZOFFSETFROM:+0100
TZOFFSETTO:+0000
TZNAME:Europe/London GMT
END:STANDARD
BEGIN:STANDARD
DTSTART:20281029T010000
RDATE:20290325T020000
TZOFFSETFROM:+0100
TZOFFSETTO:+0000
TZNAME:Europe/London GMT
END:STANDARD
BEGIN:STANDARD
DTSTART:20291028T010000
RDATE:20300331T020000
TZOFFSETFROM:+0100
TZOFFSETTO:+0000
TZNAME:Europe/London GMT
END:STANDARD
BEGIN:STANDARD
DTSTART:20301027T010000
RDATE:20310330T020000
TZOFFSETFROM:+0100
TZOFFSETTO:+0000
TZNAME:Europe/London GMT
END:STANDARD
BEGIN:DAYLIGHT
DTSTART:20220922T103000
RDATE:20221030T010000
TZOFFSETFROM:+0000
TZOFFSETTO:+0100
TZNAME:Europe/London BST
END:DAYLIGHT
BEGIN:DAYLIGHT
DTSTART:20230326T020000
RDATE:20231029T010000
TZOFFSETFROM:+0000
TZOFFSETTO:+0100
TZNAME:Europe/London BST
END:DAYLIGHT
BEGIN:DAYLIGHT
DTSTART:20240331T020000
RDATE:20241027T010000
TZOFFSETFROM:+0000
TZOFFSETTO:+0100
TZNAME:Europe/London BST
END:DAYLIGHT
BEGIN:DAYLIGHT
DTSTART:20250330T020000
RDATE:20251026T010000
TZOFFSETFROM:+0000
TZOFFSETTO:+0100
TZNAME:Europe/London BST
END:DAYLIGHT
BEGIN:DAYLIGHT
DTSTART:20260329T020000
RDATE:20261025T010000
TZOFFSETFROM:+0000
TZOFFSETTO:+0100
TZNAME:Europe/London BST
END:DAYLIGHT
BEGIN:DAYLIGHT
DTSTART:20270328T020000
RDATE:20271031T010000
TZOFFSETFROM:+0000
TZOFFSETTO:+0100
TZNAME:Europe/London BST
END:DAYLIGHT
BEGIN:DAYLIGHT
DTSTART:20280326T020000
RDATE:20281029T010000
TZOFFSETFROM:+0000
TZOFFSETTO:+0100
TZNAME:Europe/London BST
END:DAYLIGHT
BEGIN:DAYLIGHT
DTSTART:20290325T020000
RDATE:20291028T010000
TZOFFSETFROM:+0000
TZOFFSETTO:+0100
TZNAME:Europe/London BST
END:DAYLIGHT
BEGIN:DAYLIGHT
DTSTART:20300331T020000
RDATE:20301027T010000
TZOFFSETFROM:+0000
TZOFFSETTO:+0100
TZNAME:Europe/London BST
END:DAYLIGHT
END:VTIMEZONE
BEGIN:VEVENT
UID:8637a63f8833d82f2f538bb90827925b
CATEGORIES:Joint Event
CREATED:20230111T122120
SUMMARY:Joint Eastern and Southern Surprise Practice
LOCATION:Chiddingly
URL;VALUE=URI:https://www.scacr.org/news-events/calendar/1070/joint-eastern-and-southern-
 surprise-practice?tmpl=component
DESCRIPTION:There will be a Joint Eastern and Southern District Surprise Major at Chidd
 ingly Saturday 23 Sept 2023 from 10:30 - 12:30pm.\nIt is hoped the morning 
 will be of benefit for those taking steps in learning and ringing surprise 
 major. Emphasis is likely to be on Cambridge and Yorkshire but if there is 
 demand the repertoire could include anything from the standard eight and co
 re seven (Cambridge, Yorkshire, Superlative, London, Bristol, Lessness and 
 Cornwall).\nChiddingly is an easy to ring set of eight bells near the villa
 ge pub the Six Bells. This could be visited later in the day. Parking is av
 ailable in the car park just outside the tower.\nPlease contact Marion Holl
 ands ( (mailto:sec-east@scacr.org) (mailto:sec-east@scacr.org)This email ad
 dress is being protected from spambots. You need JavaScript enabled to view
  it.
				document.getElementById('cloak15ea23d1a66e9720745c1e4fdf802ec6').i
 nnerHTML = '';
				var prefix = '&#109;a' + 'i&#108;' + '&#116;o';
				var 
 path = 'hr' + 'ef' + '=';
				var addy15ea23d1a66e9720745c1e4fdf802ec6 = 's
 &#101;c-&#101;&#97;st' + '&#64;';
				addy15ea23d1a66e9720745c1e4fdf802ec6 
 = addy15ea23d1a66e9720745c1e4fdf802ec6 + 'sc&#97;cr' + '&#46;' + '&#111;rg'
 ;
				var addy_text15ea23d1a66e9720745c1e4fdf802ec6 = 's&#101;c-&#101;&#97;
 st' + '&#64;' + 'sc&#97;cr' + '&#46;' + '&#111;rg';document.getElementById(
 'cloak15ea23d1a66e9720745c1e4fdf802ec6').innerHTML += '<a ' + path + '\'' +
  prefix + ':' + addy15ea23d1a66e9720745c1e4fdf802ec6 + '\'>'+addy_text15ea2
 3d1a66e9720745c1e4fdf802ec6+'';
		) Eastern District Secretary or Richard N
 eal ( (mailto:sec-south@scacr.org) (mailto:sec-south@scacr.org)This email a
 ddress is being protected from spambots. You need JavaScript enabled to vie
 w it.
				document.getElementById('cloakc74555027bbfad3c7e8943efcc6b6c20').
 innerHTML = '';
				var prefix = '&#109;a' + 'i&#108;' + '&#116;o';
				var
  path = 'hr' + 'ef' + '=';
				var addyc74555027bbfad3c7e8943efcc6b6c20 = '
 s&#101;c-s&#111;&#117;th' + '&#64;';
				addyc74555027bbfad3c7e8943efcc6b6c
 20 = addyc74555027bbfad3c7e8943efcc6b6c20 + 'sc&#97;cr' + '&#46;' + '&#111;
 rg';
				var addy_textc74555027bbfad3c7e8943efcc6b6c20 = 's&#101;c-s&#111;&
 #117;th' + '&#64;' + 'sc&#97;cr' + '&#46;' + '&#111;rg';document.getElement
 ById('cloakc74555027bbfad3c7e8943efcc6b6c20').innerHTML += '<a ' + path + '
 \'' + prefix + ':' + addyc74555027bbfad3c7e8943efcc6b6c20 + '\'>'+addy_text
 c74555027bbfad3c7e8943efcc6b6c20+'';
		 ) Southern District Secretary, if y
 ou wish to attend.\n This event was imported from: https://www.scacr.org/ne
 ws-events/calendar/1070/joint-eastern-and-southern-surprise-practice?tmpl=c
 omponent (https://www.scacr.org/news-events/calendar/1070/joint-eastern-and
 -southern-surprise-practice?tmpl=component)
X-ALT-DESC;FMTTYPE=text/html:<p><strong>There will be a Joint Eastern and Southern District Surprise Maj
 or at Chiddingly Saturday 23 Sept 2023 from 10:30 - 12:30pm.</strong></p><p
 >It is hoped the morning will be of benefit for those taking steps in learn
 ing and ringing surprise major. Emphasis is likely to be on Cambridge and Y
 orkshire but if there is demand the repertoire could include anything from 
 the standard eight and core seven (Cambridge, Yorkshire, Superlative, Londo
 n, Bristol, Lessness and Cornwall).</p><p>Chiddingly is an easy to ring set
  of eight bells near the village pub the Six Bells. This could be visited l
 ater in the day. Parking is available in the car park just outside the towe
 r.</p><p>Please contact Marion Hollands (<a href="mailto:sec-east@scacr.org
 " target="_blank"></a><a href="mailto:sec-east@scacr.org" target="_blank"><
 /a><span id="cloak15ea23d1a66e9720745c1e4fdf802ec6">This email address is b
 eing protected from spambots. You need JavaScript enabled to view it.</span
 ><script type='text/javascript'>
				document.getElementById('cloak15ea23d1
 a66e9720745c1e4fdf802ec6').innerHTML = '';
				var prefix = '&#109;a' + 'i&
 #108;' + '&#116;o';
				var path = 'hr' + 'ef' + '=';
				var addy15ea23d1a
 66e9720745c1e4fdf802ec6 = 's&#101;c-&#101;&#97;st' + '&#64;';
				addy15ea2
 3d1a66e9720745c1e4fdf802ec6 = addy15ea23d1a66e9720745c1e4fdf802ec6 + 'sc&#9
 7;cr' + '&#46;' + '&#111;rg';
				var addy_text15ea23d1a66e9720745c1e4fdf80
 2ec6 = 's&#101;c-&#101;&#97;st' + '&#64;' + 'sc&#97;cr' + '&#46;' + '&#111;
 rg';document.getElementById('cloak15ea23d1a66e9720745c1e4fdf802ec6').innerH
 TML += '<a ' + path + '\'' + prefix + ':' + addy15ea23d1a66e9720745c1e4fdf8
 02ec6 + '\'>'+addy_text15ea23d1a66e9720745c1e4fdf802ec6+'<\/a>';
		</script
 >) Eastern District Secretary or Richard Neal (<a href="mailto:sec-south@sc
 acr.org" target="_blank"></a><a href="mailto:sec-south@scacr.org" target="_
 blank"></a><span id="cloakc74555027bbfad3c7e8943efcc6b6c20">This email addr
 ess is being protected from spambots. You need JavaScript enabled to view i
 t.</span><script type='text/javascript'>
				document.getElementById('cloak
 c74555027bbfad3c7e8943efcc6b6c20').innerHTML = '';
				var prefix = '&#109;
 a' + 'i&#108;' + '&#116;o';
				var path = 'hr' + 'ef' + '=';
				var addyc
 74555027bbfad3c7e8943efcc6b6c20 = 's&#101;c-s&#111;&#117;th' + '&#64;';
			
 	addyc74555027bbfad3c7e8943efcc6b6c20 = addyc74555027bbfad3c7e8943efcc6b6c2
 0 + 'sc&#97;cr' + '&#46;' + '&#111;rg';
				var addy_textc74555027bbfad3c7e
 8943efcc6b6c20 = 's&#101;c-s&#111;&#117;th' + '&#64;' + 'sc&#97;cr' + '&#46
 ;' + '&#111;rg';document.getElementById('cloakc74555027bbfad3c7e8943efcc6b6
 c20').innerHTML += '<a ' + path + '\'' + prefix + ':' + addyc74555027bbfad3
 c7e8943efcc6b6c20 + '\'>'+addy_textc74555027bbfad3c7e8943efcc6b6c20+'<\/a>'
 ;
		</script>&nbsp;) Southern District Secretary, if you wish to attend.</p
 > <a href="https://www.scacr.org/news-events/calendar/1070/joint-eastern-an
 d-southern-surprise-practice?tmpl=component">This event was imported from: 
 https://www.scacr.org/news-events/calendar/1070/joint-eastern-and-southern-
 surprise-practice?tmpl=component</a>CONTACT:This email address is being protected from spambots. You need JavaScript enabled to view it.
				document.getElementById('cloak286cb4f964fe4b657761928aedfcbf2e').innerHTML = '';
				var prefix = '&#109;a' + 'i&#108;' + '&#116;o';
				var path = 'hr' + 'ef' + '=';
				var addy286cb4f964fe4b657761928aedfcbf2e = 's&#101;c-&#101;&#97;st' + '&#64;';
				addy286cb4f964fe4b657761928aedfcbf2e = addy286cb4f964fe4b657761928aedfcbf2e + 'sc&#97;cr' + '&#46;' + '&#111;rg';
				var addy_text286cb4f964fe4b657761928aedfcbf2e = 's&#101;c-&#101;&#97;st' + '&#64;' + 'sc&#97;cr' + '&#46;' + '&#111;rg';document.getElementById('cloak286cb4f964fe4b657761928aedfcbf2e').innerHTML += '<a ' + path + '\'' + prefix + ':' + addy286cb4f964fe4b657761928aedfcbf2e + '\'>'+addy_text286cb4f964fe4b657761928aedfcbf2e+'';
		
DTSTAMP:20260421T055525
DTSTART;TZID=Europe/London:20230923T103000
DTEND;TZID=Europe/London:20230923T123000
SEQUENCE:0
TRANSP:OPAQUE
END:VEVENT
END:VCALENDAR