BEGIN:VCALENDAR
VERSION:2.0
PRODID:-//jEvents 2.0 for Joomla//EN
CALSCALE:GREGORIAN
METHOD:PUBLISH
BEGIN:VTIMEZONE
TZID:Europe/London
BEGIN:STANDARD
DTSTART:20230223T104500
RDATE:20230326T020000
TZOFFSETFROM:+0100
TZOFFSETTO:+0000
TZNAME:Europe/London GMT
END:STANDARD
BEGIN:STANDARD
DTSTART:20231029T010000
RDATE:20240331T020000
TZOFFSETFROM:+0100
TZOFFSETTO:+0000
TZNAME:Europe/London GMT
END:STANDARD
BEGIN:STANDARD
DTSTART:20241027T010000
RDATE:20250330T020000
TZOFFSETFROM:+0100
TZOFFSETTO:+0000
TZNAME:Europe/London GMT
END:STANDARD
BEGIN:STANDARD
DTSTART:20251026T010000
RDATE:20260329T020000
TZOFFSETFROM:+0100
TZOFFSETTO:+0000
TZNAME:Europe/London GMT
END:STANDARD
BEGIN:STANDARD
DTSTART:20261025T010000
RDATE:20270328T020000
TZOFFSETFROM:+0100
TZOFFSETTO:+0000
TZNAME:Europe/London GMT
END:STANDARD
BEGIN:STANDARD
DTSTART:20271031T010000
RDATE:20280326T020000
TZOFFSETFROM:+0100
TZOFFSETTO:+0000
TZNAME:Europe/London GMT
END:STANDARD
BEGIN:STANDARD
DTSTART:20281029T010000
RDATE:20290325T020000
TZOFFSETFROM:+0100
TZOFFSETTO:+0000
TZNAME:Europe/London GMT
END:STANDARD
BEGIN:STANDARD
DTSTART:20291028T010000
RDATE:20300331T020000
TZOFFSETFROM:+0100
TZOFFSETTO:+0000
TZNAME:Europe/London GMT
END:STANDARD
BEGIN:STANDARD
DTSTART:20301027T010000
RDATE:20310330T020000
TZOFFSETFROM:+0100
TZOFFSETTO:+0000
TZNAME:Europe/London GMT
END:STANDARD
BEGIN:DAYLIGHT
DTSTART:20230326T020000
RDATE:20231029T010000
TZOFFSETFROM:+0000
TZOFFSETTO:+0100
TZNAME:Europe/London BST
END:DAYLIGHT
BEGIN:DAYLIGHT
DTSTART:20240331T020000
RDATE:20241027T010000
TZOFFSETFROM:+0000
TZOFFSETTO:+0100
TZNAME:Europe/London BST
END:DAYLIGHT
BEGIN:DAYLIGHT
DTSTART:20250330T020000
RDATE:20251026T010000
TZOFFSETFROM:+0000
TZOFFSETTO:+0100
TZNAME:Europe/London BST
END:DAYLIGHT
BEGIN:DAYLIGHT
DTSTART:20260329T020000
RDATE:20261025T010000
TZOFFSETFROM:+0000
TZOFFSETTO:+0100
TZNAME:Europe/London BST
END:DAYLIGHT
BEGIN:DAYLIGHT
DTSTART:20270328T020000
RDATE:20271031T010000
TZOFFSETFROM:+0000
TZOFFSETTO:+0100
TZNAME:Europe/London BST
END:DAYLIGHT
BEGIN:DAYLIGHT
DTSTART:20280326T020000
RDATE:20281029T010000
TZOFFSETFROM:+0000
TZOFFSETTO:+0100
TZNAME:Europe/London BST
END:DAYLIGHT
BEGIN:DAYLIGHT
DTSTART:20290325T020000
RDATE:20291028T010000
TZOFFSETFROM:+0000
TZOFFSETTO:+0100
TZNAME:Europe/London BST
END:DAYLIGHT
BEGIN:DAYLIGHT
DTSTART:20300331T020000
RDATE:20301027T010000
TZOFFSETFROM:+0000
TZOFFSETTO:+0100
TZNAME:Europe/London BST
END:DAYLIGHT
END:VTIMEZONE
BEGIN:VEVENT
UID:716ec336d61bfaf3320d7fe3b62564e7
CATEGORIES:East
CREATED:20230111T121637
SUMMARY:Eastern District Ringing and ADM
LOCATION:Bexhill St Peters
URL;VALUE=URI:https://www.scacr.org/news-events/calendar/1068/eastern-district-ringing-an
 d-adm?tmpl=component
DESCRIPTION:<p><strong>The February Eastern District meeting includes ringing, lunch an
 d the ADM.</strong></p><p>There will be ringing in the Grade II* listed St 
 Peter's church in the Old Town of Bexhill, followed by lunch and then the A
 nnual District Meeting.</p><ul><li>10:45 General Ringing</li><li>12:30 Lunc
 h</li><li>14:00 Meeting Starts</li></ul><p>The bells at Bexhill consist of&
 nbsp;a real mix of founders and ages, forming a lovely 17cwt ring of 10, wi
 th a semi-tone allowing 11cwt and 6cwt rings of 6.&nbsp; They are an access
 ible ground floor ring, open to the church, with plenty of room for all.&nb
 sp; Despite the number of churches in the town, they are the only full circ
 le ring.</p><p>Names for lunch to Marion Hollands (<span id="cloak851f8497e
 be740c9bf7e03a3de9e8a8f">This email address is being protected from spambot
 s. You need JavaScript enabled to view it.</span><script type='text/javascr
 ipt'>
				document.getElementById('cloak851f8497ebe740c9bf7e03a3de9e8a8f').
 innerHTML = '';
				var prefix = '&#109;a' + 'i&#108;' + '&#116;o';
				var
  path = 'hr' + 'ef' + '=';
				var addy851f8497ebe740c9bf7e03a3de9e8a8f = '
 s&#101;c-&#101;&#97;st' + '&#64;';
				addy851f8497ebe740c9bf7e03a3de9e8a8f
  = addy851f8497ebe740c9bf7e03a3de9e8a8f + 'sc&#97;cr' + '&#46;' + '&#111;rg
 ';
				var addy_text851f8497ebe740c9bf7e03a3de9e8a8f = 's&#101;c-&#101;&#97
 ;st' + '&#64;' + 'sc&#97;cr' + '&#46;' + '&#111;rg';document.getElementById
 ('cloak851f8497ebe740c9bf7e03a3de9e8a8f').innerHTML += '<a ' + path + '\'' 
 + prefix + ':' + addy851f8497ebe740c9bf7e03a3de9e8a8f + '\'>'+addy_text851f
 8497ebe740c9bf7e03a3de9e8a8f+'<\/a>';
		</script>) in advance please.</p><p
 >The February meeting is a social event and as well as the formal business 
 of the ADM it is a good opportunity for new and improving ringers to meet f
 ellow ringers from across the District and also for Tower Captains, Ringing
  Masters and ringing trainers to meet each other and share experience, tips
  and knowledge.</p><p>If you are interested in standing for any of the role
 s on the committee, or just to help out with organising events, training et
 c in 2024-25 please speak to Marion for more information.</p><p>There is li
 mited parking next to the church but parking is available on De La Warr Roa
 d or in the pay and display car park at Bexhill Manor, the station is a 10 
 minute walk away.</p> <a href="https://www.scacr.org/news-events/calendar/1
 068/eastern-district-ringing-and-adm?tmpl=component">This event was importe
 d from: https://www.scacr.org/news-events/calendar/1068/eastern-district-ri
 nging-and-adm?tmpl=component</a>CONTACT:This email address is being protected from spambots. You need JavaScript enabled to view it.
				document.getElementById('cloakf202e996b07eafc669632661adfcb4be').innerHTML = '';
				var prefix = '&#109;a' + 'i&#108;' + '&#116;o';
				var path = 'hr' + 'ef' + '=';
				var addyf202e996b07eafc669632661adfcb4be = 's&#101;c-&#101;&#97;st' + '&#64;';
				addyf202e996b07eafc669632661adfcb4be = addyf202e996b07eafc669632661adfcb4be + 'sc&#97;cr' + '&#46;' + '&#111;rg';
				var addy_textf202e996b07eafc669632661adfcb4be = 's&#101;c-&#101;&#97;st' + '&#64;' + 'sc&#97;cr' + '&#46;' + '&#111;rg';document.getElementById('cloakf202e996b07eafc669632661adfcb4be').innerHTML += '<a ' + path + '\'' + prefix + ':' + addyf202e996b07eafc669632661adfcb4be + '\'>'+addy_textf202e996b07eafc669632661adfcb4be+'';
		
DTSTAMP:20260424T123257
DTSTART;TZID=Europe/London:20240224T104500
SEQUENCE:0
TRANSP:OPAQUE
END:VEVENT
END:VCALENDAR