BEGIN:VCALENDAR
VERSION:2.0
PRODID:-//jEvents 2.0 for Joomla//EN
CALSCALE:GREGORIAN
METHOD:PUBLISH
BEGIN:VTIMEZONE
TZID:Europe/London
BEGIN:STANDARD
DTSTART:20221124T000000
RDATE:20230326T020000
TZOFFSETFROM:+0100
TZOFFSETTO:+0000
TZNAME:Europe/London GMT
END:STANDARD
BEGIN:STANDARD
DTSTART:20231029T010000
RDATE:20240331T020000
TZOFFSETFROM:+0100
TZOFFSETTO:+0000
TZNAME:Europe/London GMT
END:STANDARD
BEGIN:STANDARD
DTSTART:20241027T010000
RDATE:20250330T020000
TZOFFSETFROM:+0100
TZOFFSETTO:+0000
TZNAME:Europe/London GMT
END:STANDARD
BEGIN:STANDARD
DTSTART:20251026T010000
RDATE:20260329T020000
TZOFFSETFROM:+0100
TZOFFSETTO:+0000
TZNAME:Europe/London GMT
END:STANDARD
BEGIN:STANDARD
DTSTART:20261025T010000
RDATE:20270328T020000
TZOFFSETFROM:+0100
TZOFFSETTO:+0000
TZNAME:Europe/London GMT
END:STANDARD
BEGIN:STANDARD
DTSTART:20271031T010000
RDATE:20280326T020000
TZOFFSETFROM:+0100
TZOFFSETTO:+0000
TZNAME:Europe/London GMT
END:STANDARD
BEGIN:STANDARD
DTSTART:20281029T010000
RDATE:20290325T020000
TZOFFSETFROM:+0100
TZOFFSETTO:+0000
TZNAME:Europe/London GMT
END:STANDARD
BEGIN:STANDARD
DTSTART:20291028T010000
RDATE:20300331T020000
TZOFFSETFROM:+0100
TZOFFSETTO:+0000
TZNAME:Europe/London GMT
END:STANDARD
BEGIN:STANDARD
DTSTART:20301027T010000
RDATE:20310330T020000
TZOFFSETFROM:+0100
TZOFFSETTO:+0000
TZNAME:Europe/London GMT
END:STANDARD
BEGIN:DAYLIGHT
DTSTART:20230326T020000
RDATE:20231029T010000
TZOFFSETFROM:+0000
TZOFFSETTO:+0100
TZNAME:Europe/London BST
END:DAYLIGHT
BEGIN:DAYLIGHT
DTSTART:20240331T020000
RDATE:20241027T010000
TZOFFSETFROM:+0000
TZOFFSETTO:+0100
TZNAME:Europe/London BST
END:DAYLIGHT
BEGIN:DAYLIGHT
DTSTART:20250330T020000
RDATE:20251026T010000
TZOFFSETFROM:+0000
TZOFFSETTO:+0100
TZNAME:Europe/London BST
END:DAYLIGHT
BEGIN:DAYLIGHT
DTSTART:20260329T020000
RDATE:20261025T010000
TZOFFSETFROM:+0000
TZOFFSETTO:+0100
TZNAME:Europe/London BST
END:DAYLIGHT
BEGIN:DAYLIGHT
DTSTART:20270328T020000
RDATE:20271031T010000
TZOFFSETFROM:+0000
TZOFFSETTO:+0100
TZNAME:Europe/London BST
END:DAYLIGHT
BEGIN:DAYLIGHT
DTSTART:20280326T020000
RDATE:20281029T010000
TZOFFSETFROM:+0000
TZOFFSETTO:+0100
TZNAME:Europe/London BST
END:DAYLIGHT
BEGIN:DAYLIGHT
DTSTART:20290325T020000
RDATE:20291028T010000
TZOFFSETFROM:+0000
TZOFFSETTO:+0100
TZNAME:Europe/London BST
END:DAYLIGHT
BEGIN:DAYLIGHT
DTSTART:20300331T020000
RDATE:20301027T010000
TZOFFSETFROM:+0000
TZOFFSETTO:+0100
TZNAME:Europe/London BST
END:DAYLIGHT
END:VTIMEZONE
BEGIN:VEVENT
UID:2d1a2754fde9de9996cd98c3bdc1351a
CATEGORIES:East
CREATED:20230111T115616
SUMMARY:CANCELLED: Eastern District Outing to Surrey
LOCATION:Surrey
URL;VALUE=URI:https://www.scacr.org/news-events/calendar/1062/cancelled-eastern-district-
 outing-to-surrey?tmpl=component
DESCRIPTION:If you are intending on coming on this trip, please can you let Sam Canning
  know to help us plan likely numbers (This email address is being protected
  from spambots. You need JavaScript enabled to view it.
				document.getEle
 mentById('cloak1e5381a7998841a527575eaf1ff4afcc').innerHTML = '';
				var p
 refix = '&#109;a' + 'i&#108;' + '&#116;o';
				var path = 'hr' + 'ef' + '='
 ;
				var addy1e5381a7998841a527575eaf1ff4afcc = 'n&#101;ws-&#101;&#97;st' 
 + '&#64;';
				addy1e5381a7998841a527575eaf1ff4afcc = addy1e5381a7998841a52
 7575eaf1ff4afcc + 'sc&#97;cr' + '&#46;' + '&#111;rg';
				var addy_text1e53
 81a7998841a527575eaf1ff4afcc = 'n&#101;ws-&#101;&#97;st' + '&#64;' + 'sc&#9
 7;cr' + '&#46;' + '&#111;rg';document.getElementById('cloak1e5381a7998841a5
 27575eaf1ff4afcc').innerHTML += '<a ' + path + '\'' + prefix + ':' + addy1e
 5381a7998841a527575eaf1ff4afcc + '\'>'+addy_text1e5381a7998841a527575eaf1ff
 4afcc+'';
		)\nThis year's Eastern District outing takes us to the Surrey s
 ection of the Greensand Ridge with three lovely towers to ring at already c
 onfirmed (watch this space for a possible fourth):\nNutfield (St Peter and 
 St Paul): 6 bells dating from the 17th through to the 20th centuries with a
 n 11cwt tenor in G\nBletchingley (St Mary the Virgin): 10 bells of varying 
 ages (the newest being the two trebles, cast in 1921) with a 16cwt tenor in
  E (and a 7cwt front 6 in B)\nReigate (St Mary Magdalene): 10 bells, mostly
  from the 18th century, with an 18cwt tenor in D (and an 8cwt front 6 in A)
 \nDetails such as timings and tower donations will be available nearer the 
 time..\n This event was imported from: https://www.scacr.org/news-events/ca
 lendar/1062/cancelled-eastern-district-outing-to-surrey?tmpl=component (htt
 ps://www.scacr.org/news-events/calendar/1062/cancelled-eastern-district-out
 ing-to-surrey?tmpl=component)
X-ALT-DESC;FMTTYPE=text/html:<p><strong>If you are intending on coming on this trip, please can you let 
 Sam Canning know to help us plan likely numbers (<span id="cloak1e5381a7998
 841a527575eaf1ff4afcc">This email address is being protected from spambots.
  You need JavaScript enabled to view it.</span><script type='text/javascrip
 t'>
				document.getElementById('cloak1e5381a7998841a527575eaf1ff4afcc').in
 nerHTML = '';
				var prefix = '&#109;a' + 'i&#108;' + '&#116;o';
				var p
 ath = 'hr' + 'ef' + '=';
				var addy1e5381a7998841a527575eaf1ff4afcc = 'n&
 #101;ws-&#101;&#97;st' + '&#64;';
				addy1e5381a7998841a527575eaf1ff4afcc 
 = addy1e5381a7998841a527575eaf1ff4afcc + 'sc&#97;cr' + '&#46;' + '&#111;rg'
 ;
				var addy_text1e5381a7998841a527575eaf1ff4afcc = 'n&#101;ws-&#101;&#97
 ;st' + '&#64;' + 'sc&#97;cr' + '&#46;' + '&#111;rg';document.getElementById
 ('cloak1e5381a7998841a527575eaf1ff4afcc').innerHTML += '<a ' + path + '\'' 
 + prefix + ':' + addy1e5381a7998841a527575eaf1ff4afcc + '\'>'+addy_text1e53
 81a7998841a527575eaf1ff4afcc+'<\/a>';
		</script>)</strong></p><p>This year
 's Eastern District outing takes us to the Surrey section of the Greensand 
 Ridge with three lovely towers to ring at already confirmed (watch this spa
 ce for a possible fourth):</p><p><strong>Nutfield (St Peter and St Paul):</
 strong> <strong>6 bells</strong> dating from the 17th through to the 20th c
 enturies with an <strong>11cwt tenor in G</strong></p><p><strong>Bletchingl
 ey (St Mary the Virgin):</strong> <strong>10 bells</strong> of varying ages
  (the newest being the two trebles, cast in 1921) with a <strong>16cwt teno
 r in E (and a 7cwt front 6 in B)</strong></p><p><strong>Reigate (St Mary Ma
 gdalene):</strong> <strong>10 bells</strong>,&nbsp;mostly from the 18th cen
 tury,<strong>&nbsp;</strong>with an <strong>18cwt tenor in D (and an 8cwt f
 ront 6 in A)</strong></p><p>Details such as timings and tower donations wil
 l be available nearer the time..</p> <a href="https://www.scacr.org/news-ev
 ents/calendar/1062/cancelled-eastern-district-outing-to-surrey?tmpl=compone
 nt">This event was imported from: https://www.scacr.org/news-events/calenda
 r/1062/cancelled-eastern-district-outing-to-surrey?tmpl=component</a>CONTACT:This email address is being protected from spambots. You need JavaScript enabled to view it.
				document.getElementById('cloaka353509ff0e6999f8b0da55e59f8729d').innerHTML = '';
				var prefix = '&#109;a' + 'i&#108;' + '&#116;o';
				var path = 'hr' + 'ef' + '=';
				var addya353509ff0e6999f8b0da55e59f8729d = 's&#101;c-&#101;&#97;st' + '&#64;';
				addya353509ff0e6999f8b0da55e59f8729d = addya353509ff0e6999f8b0da55e59f8729d + 'sc&#97;cr' + '&#46;' + '&#111;rg';
				var addy_texta353509ff0e6999f8b0da55e59f8729d = 's&#101;c-&#101;&#97;st' + '&#64;' + 'sc&#97;cr' + '&#46;' + '&#111;rg';document.getElementById('cloaka353509ff0e6999f8b0da55e59f8729d').innerHTML += '<a ' + path + '\'' + prefix + ':' + addya353509ff0e6999f8b0da55e59f8729d + '\'>'+addy_texta353509ff0e6999f8b0da55e59f8729d+'';
		
DTSTAMP:20260420T133323
DTSTART;TZID=Europe/London;VALUE=DATE:20231125
DTEND;TZID=Europe/London;VALUE=DATE:20231126
SEQUENCE:0
TRANSP:OPAQUE
END:VEVENT
END:VCALENDAR