BEGIN:VCALENDAR
VERSION:2.0
PRODID:-//jEvents 2.0 for Joomla//EN
CALSCALE:GREGORIAN
METHOD:PUBLISH
BEGIN:VTIMEZONE
TZID:Europe/London
BEGIN:STANDARD
DTSTART:20220127T140000
RDATE:20220327T020000
TZOFFSETFROM:+0100
TZOFFSETTO:+0000
TZNAME:Europe/London GMT
END:STANDARD
BEGIN:STANDARD
DTSTART:20221030T010000
RDATE:20230326T020000
TZOFFSETFROM:+0100
TZOFFSETTO:+0000
TZNAME:Europe/London GMT
END:STANDARD
BEGIN:STANDARD
DTSTART:20231029T010000
RDATE:20240331T020000
TZOFFSETFROM:+0100
TZOFFSETTO:+0000
TZNAME:Europe/London GMT
END:STANDARD
BEGIN:STANDARD
DTSTART:20241027T010000
RDATE:20250330T020000
TZOFFSETFROM:+0100
TZOFFSETTO:+0000
TZNAME:Europe/London GMT
END:STANDARD
BEGIN:STANDARD
DTSTART:20251026T010000
RDATE:20260329T020000
TZOFFSETFROM:+0100
TZOFFSETTO:+0000
TZNAME:Europe/London GMT
END:STANDARD
BEGIN:STANDARD
DTSTART:20261025T010000
RDATE:20270328T020000
TZOFFSETFROM:+0100
TZOFFSETTO:+0000
TZNAME:Europe/London GMT
END:STANDARD
BEGIN:STANDARD
DTSTART:20271031T010000
RDATE:20280326T020000
TZOFFSETFROM:+0100
TZOFFSETTO:+0000
TZNAME:Europe/London GMT
END:STANDARD
BEGIN:STANDARD
DTSTART:20281029T010000
RDATE:20290325T020000
TZOFFSETFROM:+0100
TZOFFSETTO:+0000
TZNAME:Europe/London GMT
END:STANDARD
BEGIN:STANDARD
DTSTART:20291028T010000
RDATE:20300331T020000
TZOFFSETFROM:+0100
TZOFFSETTO:+0000
TZNAME:Europe/London GMT
END:STANDARD
BEGIN:STANDARD
DTSTART:20301027T010000
RDATE:20310330T020000
TZOFFSETFROM:+0100
TZOFFSETTO:+0000
TZNAME:Europe/London GMT
END:STANDARD
BEGIN:DAYLIGHT
DTSTART:20220327T020000
RDATE:20221030T010000
TZOFFSETFROM:+0000
TZOFFSETTO:+0100
TZNAME:Europe/London BST
END:DAYLIGHT
BEGIN:DAYLIGHT
DTSTART:20230326T020000
RDATE:20231029T010000
TZOFFSETFROM:+0000
TZOFFSETTO:+0100
TZNAME:Europe/London BST
END:DAYLIGHT
BEGIN:DAYLIGHT
DTSTART:20240331T020000
RDATE:20241027T010000
TZOFFSETFROM:+0000
TZOFFSETTO:+0100
TZNAME:Europe/London BST
END:DAYLIGHT
BEGIN:DAYLIGHT
DTSTART:20250330T020000
RDATE:20251026T010000
TZOFFSETFROM:+0000
TZOFFSETTO:+0100
TZNAME:Europe/London BST
END:DAYLIGHT
BEGIN:DAYLIGHT
DTSTART:20260329T020000
RDATE:20261025T010000
TZOFFSETFROM:+0000
TZOFFSETTO:+0100
TZNAME:Europe/London BST
END:DAYLIGHT
BEGIN:DAYLIGHT
DTSTART:20270328T020000
RDATE:20271031T010000
TZOFFSETFROM:+0000
TZOFFSETTO:+0100
TZNAME:Europe/London BST
END:DAYLIGHT
BEGIN:DAYLIGHT
DTSTART:20280326T020000
RDATE:20281029T010000
TZOFFSETFROM:+0000
TZOFFSETTO:+0100
TZNAME:Europe/London BST
END:DAYLIGHT
BEGIN:DAYLIGHT
DTSTART:20290325T020000
RDATE:20291028T010000
TZOFFSETFROM:+0000
TZOFFSETTO:+0100
TZNAME:Europe/London BST
END:DAYLIGHT
BEGIN:DAYLIGHT
DTSTART:20300331T020000
RDATE:20301027T010000
TZOFFSETFROM:+0000
TZOFFSETTO:+0100
TZNAME:Europe/London BST
END:DAYLIGHT
END:VTIMEZONE
BEGIN:VEVENT
UID:4b559716dc9e74c8bddb6e34d58bd656
CATEGORIES:Association Event
CREATED:20221204T075923
SUMMARY:Novices' 12 bell practice
LOCATION:East Grinstead
URL;VALUE=URI:https://www.scacr.org/news-events/calendar/1053/novices-12-bell-practice?tm
 pl=component
DESCRIPTION:This practice will provide an opportunity for novice ringers to gain experi
 ence at ringing on 12 bells, focusing on rounds and call changes. There wil
 l be a break for coffee and cake!\nHelpers who are experienced 12-bell ring
 ers who can form a steady band around learners who have no or little experi
 ence on 12 (for rounds and call changes) are needed - if you could help, pl
 ease contact Vicky on  (mailto:training@scacr.org)This email address is bei
 ng protected from spambots. You need JavaScript enabled to view it.
				doc
 ument.getElementById('cloakf843c319300d2870ed1df7ea4b4a8f72').innerHTML = '
 ';
				var prefix = '&#109;a' + 'i&#108;' + '&#116;o';
				var path = 'hr' 
 + 'ef' + '=';
				var addyf843c319300d2870ed1df7ea4b4a8f72 = 'tr&#97;&#105;
 n&#105;ng' + '&#64;';
				addyf843c319300d2870ed1df7ea4b4a8f72 = addyf843c3
 19300d2870ed1df7ea4b4a8f72 + 'sc&#97;cr' + '&#46;' + '&#111;rg';
				var ad
 dy_textf843c319300d2870ed1df7ea4b4a8f72 = 'tr&#97;&#105;n&#105;ng' + '&#64;
 ' + 'sc&#97;cr' + '&#46;' + '&#111;rg';document.getElementById('cloakf843c3
 19300d2870ed1df7ea4b4a8f72').innerHTML += '<a ' + path + '\'' + prefix + ':
 ' + addyf843c319300d2870ed1df7ea4b4a8f72 + '\'>'+addy_textf843c319300d2870e
 d1df7ea4b4a8f72+'';
		.  \nLearners' spaces are limited - to register your 
 interest, contact Vicky on  (mailto:training@scacr.org)This email address i
 s being protected from spambots. You need JavaScript enabled to view it.
		
 		document.getElementById('cloak5bf7485aa652556420b7540fecec8909').innerHTM
 L = '';
				var prefix = '&#109;a' + 'i&#108;' + '&#116;o';
				var path = 
 'hr' + 'ef' + '=';
				var addy5bf7485aa652556420b7540fecec8909 = 'tr&#97;&
 #105;n&#105;ng' + '&#64;';
				addy5bf7485aa652556420b7540fecec8909 = addy5
 bf7485aa652556420b7540fecec8909 + 'sc&#97;cr' + '&#46;' + '&#111;rg';
				v
 ar addy_text5bf7485aa652556420b7540fecec8909 = 'tr&#97;&#105;n&#105;ng' + '
 &#64;' + 'sc&#97;cr' + '&#46;' + '&#111;rg';document.getElementById('cloak5
 bf7485aa652556420b7540fecec8909').innerHTML += '<a ' + path + '\'' + prefix
  + ':' + addy5bf7485aa652556420b7540fecec8909 + '\'>'+addy_text5bf7485aa652
 556420b7540fecec8909+'';
		.  \n \n This event was imported from: https://w
 ww.scacr.org/news-events/calendar/1053/novices-12-bell-practice?tmpl=compon
 ent (https://www.scacr.org/news-events/calendar/1053/novices-12-bell-practi
 ce?tmpl=component)
X-ALT-DESC;FMTTYPE=text/html:<p>This practice will provide an opportunity for novice ringers to gain exp
 erience at ringing on 12 bells, focusing on rounds and call changes. There 
 will be a break for coffee and cake!</p><p>Helpers who are experienced 12-b
 ell ringers who can form a steady band around learners who have no or littl
 e experience on 12 (for rounds and call changes) are needed - if you could 
 help, please contact Vicky on&nbsp;<span id="cloakb771c21680c42cbd0152af10c
 4b9fe02"><a href="mailto:training@scacr.org"></a><span id="cloakf843c319300
 d2870ed1df7ea4b4a8f72">This email address is being protected from spambots.
  You need JavaScript enabled to view it.</span><script type='text/javascrip
 t'>
				document.getElementById('cloakf843c319300d2870ed1df7ea4b4a8f72').in
 nerHTML = '';
				var prefix = '&#109;a' + 'i&#108;' + '&#116;o';
				var p
 ath = 'hr' + 'ef' + '=';
				var addyf843c319300d2870ed1df7ea4b4a8f72 = 'tr
 &#97;&#105;n&#105;ng' + '&#64;';
				addyf843c319300d2870ed1df7ea4b4a8f72 =
  addyf843c319300d2870ed1df7ea4b4a8f72 + 'sc&#97;cr' + '&#46;' + '&#111;rg';
 
				var addy_textf843c319300d2870ed1df7ea4b4a8f72 = 'tr&#97;&#105;n&#105;n
 g' + '&#64;' + 'sc&#97;cr' + '&#46;' + '&#111;rg';document.getElementById('
 cloakf843c319300d2870ed1df7ea4b4a8f72').innerHTML += '<a ' + path + '\'' + 
 prefix + ':' + addyf843c319300d2870ed1df7ea4b4a8f72 + '\'>'+addy_textf843c3
 19300d2870ed1df7ea4b4a8f72+'<\/a>';
		</script></span>.&nbsp;&nbsp;</p><p>L
 earners' spaces are limited - to register your interest, contact&nbsp;Vicky
  on&nbsp;<span id="cloakb771c21680c42cbd0152af10c4b9fe02"><a href="mailto:t
 raining@scacr.org"></a><span id="cloak5bf7485aa652556420b7540fecec8909">Thi
 s email address is being protected from spambots. You need JavaScript enabl
 ed to view it.</span><script type='text/javascript'>
				document.getElemen
 tById('cloak5bf7485aa652556420b7540fecec8909').innerHTML = '';
				var pref
 ix = '&#109;a' + 'i&#108;' + '&#116;o';
				var path = 'hr' + 'ef' + '=';
	
 			var addy5bf7485aa652556420b7540fecec8909 = 'tr&#97;&#105;n&#105;ng' + '&
 #64;';
				addy5bf7485aa652556420b7540fecec8909 = addy5bf7485aa652556420b75
 40fecec8909 + 'sc&#97;cr' + '&#46;' + '&#111;rg';
				var addy_text5bf7485a
 a652556420b7540fecec8909 = 'tr&#97;&#105;n&#105;ng' + '&#64;' + 'sc&#97;cr'
  + '&#46;' + '&#111;rg';document.getElementById('cloak5bf7485aa652556420b75
 40fecec8909').innerHTML += '<a ' + path + '\'' + prefix + ':' + addy5bf7485
 aa652556420b7540fecec8909 + '\'>'+addy_text5bf7485aa652556420b7540fecec8909
 +'<\/a>';
		</script></span>.&nbsp;&nbsp;</p><p>&nbsp;</p> <a href="https:/
 /www.scacr.org/news-events/calendar/1053/novices-12-bell-practice?tmpl=comp
 onent">This event was imported from: https://www.scacr.org/news-events/cale
 ndar/1053/novices-12-bell-practice?tmpl=component</a>CONTACT:This email address is being protected from spambots. You need JavaScript enabled to view it.
				document.getElementById('cloak727743dc1ce8402f37f9a21a94a49db3').innerHTML = '';
				var prefix = '&#109;a' + 'i&#108;' + '&#116;o';
				var path = 'hr' + 'ef' + '=';
				var addy727743dc1ce8402f37f9a21a94a49db3 = 'tr&#97;&#105;n&#105;ng' + '&#64;';
				addy727743dc1ce8402f37f9a21a94a49db3 = addy727743dc1ce8402f37f9a21a94a49db3 + 'sc&#97;cr' + '&#46;' + '&#111;rg';
				var addy_text727743dc1ce8402f37f9a21a94a49db3 = 'tr&#97;&#105;n&#105;ng' + '&#64;' + 'sc&#97;cr' + '&#46;' + '&#111;rg';document.getElementById('cloak727743dc1ce8402f37f9a21a94a49db3').innerHTML += '<a ' + path + '\'' + prefix + ':' + addy727743dc1ce8402f37f9a21a94a49db3 + '\'>'+addy_text727743dc1ce8402f37f9a21a94a49db3+'';
		
DTSTAMP:20260420T112813
DTSTART;TZID=Europe/London:20230128T140000
DTEND;TZID=Europe/London:20230128T170000
SEQUENCE:0
TRANSP:OPAQUE
END:VEVENT
END:VCALENDAR