BEGIN:VCALENDAR
VERSION:2.0
PRODID:-//jEvents 2.0 for Joomla//EN
CALSCALE:GREGORIAN
METHOD:PUBLISH
BEGIN:VTIMEZONE
TZID:Europe/London
BEGIN:STANDARD
DTSTART:20211125T101500
RDATE:20220327T020000
TZOFFSETFROM:+0100
TZOFFSETTO:+0000
TZNAME:Europe/London GMT
END:STANDARD
BEGIN:STANDARD
DTSTART:20221030T010000
RDATE:20230326T020000
TZOFFSETFROM:+0100
TZOFFSETTO:+0000
TZNAME:Europe/London GMT
END:STANDARD
BEGIN:STANDARD
DTSTART:20231029T010000
RDATE:20240331T020000
TZOFFSETFROM:+0100
TZOFFSETTO:+0000
TZNAME:Europe/London GMT
END:STANDARD
BEGIN:STANDARD
DTSTART:20241027T010000
RDATE:20250330T020000
TZOFFSETFROM:+0100
TZOFFSETTO:+0000
TZNAME:Europe/London GMT
END:STANDARD
BEGIN:STANDARD
DTSTART:20251026T010000
RDATE:20260329T020000
TZOFFSETFROM:+0100
TZOFFSETTO:+0000
TZNAME:Europe/London GMT
END:STANDARD
BEGIN:STANDARD
DTSTART:20261025T010000
RDATE:20270328T020000
TZOFFSETFROM:+0100
TZOFFSETTO:+0000
TZNAME:Europe/London GMT
END:STANDARD
BEGIN:STANDARD
DTSTART:20271031T010000
RDATE:20280326T020000
TZOFFSETFROM:+0100
TZOFFSETTO:+0000
TZNAME:Europe/London GMT
END:STANDARD
BEGIN:STANDARD
DTSTART:20281029T010000
RDATE:20290325T020000
TZOFFSETFROM:+0100
TZOFFSETTO:+0000
TZNAME:Europe/London GMT
END:STANDARD
BEGIN:STANDARD
DTSTART:20291028T010000
RDATE:20300331T020000
TZOFFSETFROM:+0100
TZOFFSETTO:+0000
TZNAME:Europe/London GMT
END:STANDARD
BEGIN:STANDARD
DTSTART:20301027T010000
RDATE:20310330T020000
TZOFFSETFROM:+0100
TZOFFSETTO:+0000
TZNAME:Europe/London GMT
END:STANDARD
BEGIN:DAYLIGHT
DTSTART:20220327T020000
RDATE:20221030T010000
TZOFFSETFROM:+0000
TZOFFSETTO:+0100
TZNAME:Europe/London BST
END:DAYLIGHT
BEGIN:DAYLIGHT
DTSTART:20230326T020000
RDATE:20231029T010000
TZOFFSETFROM:+0000
TZOFFSETTO:+0100
TZNAME:Europe/London BST
END:DAYLIGHT
BEGIN:DAYLIGHT
DTSTART:20240331T020000
RDATE:20241027T010000
TZOFFSETFROM:+0000
TZOFFSETTO:+0100
TZNAME:Europe/London BST
END:DAYLIGHT
BEGIN:DAYLIGHT
DTSTART:20250330T020000
RDATE:20251026T010000
TZOFFSETFROM:+0000
TZOFFSETTO:+0100
TZNAME:Europe/London BST
END:DAYLIGHT
BEGIN:DAYLIGHT
DTSTART:20260329T020000
RDATE:20261025T010000
TZOFFSETFROM:+0000
TZOFFSETTO:+0100
TZNAME:Europe/London BST
END:DAYLIGHT
BEGIN:DAYLIGHT
DTSTART:20270328T020000
RDATE:20271031T010000
TZOFFSETFROM:+0000
TZOFFSETTO:+0100
TZNAME:Europe/London BST
END:DAYLIGHT
BEGIN:DAYLIGHT
DTSTART:20280326T020000
RDATE:20281029T010000
TZOFFSETFROM:+0000
TZOFFSETTO:+0100
TZNAME:Europe/London BST
END:DAYLIGHT
BEGIN:DAYLIGHT
DTSTART:20290325T020000
RDATE:20291028T010000
TZOFFSETFROM:+0000
TZOFFSETTO:+0100
TZNAME:Europe/London BST
END:DAYLIGHT
BEGIN:DAYLIGHT
DTSTART:20300331T020000
RDATE:20301027T010000
TZOFFSETFROM:+0000
TZOFFSETTO:+0100
TZNAME:Europe/London BST
END:DAYLIGHT
END:VTIMEZONE
BEGIN:VEVENT
UID:7d1deaec6303bd51239dfb698ea5ce84
CATEGORIES:West
CREATED:20221007T123005
SUMMARY:Surprise Minor Practice
LOCATION:St Mary's Church\, Walberton
URL;VALUE=URI:https://www.scacr.org/news-events/calendar/1022/surprise-minor-practice?tmp
 l=component
DESCRIPTION:This is a regular monthly event giving ringers the opportunity to ring  met
 hods such as Plain courses and touches of Cambridge and Norwich and Plain c
 ourses of Beverley, London, Carlisle and Pure Treble Bob Hunt!!   Refreshme
 nts are provided.  Please contact This email address is being protected fro
 m spambots. You need JavaScript enabled to view it.
				document.getElement
 ById('cloak37cfa5ca16da8221d852b51b5b6aead4').innerHTML = '';
				var prefi
 x = '&#109;a' + 'i&#108;' + '&#116;o';
				var path = 'hr' + 'ef' + '=';
		
 		var addy37cfa5ca16da8221d852b51b5b6aead4 = 's&#101;c-w&#101;st' + '&#64;'
 ;
				addy37cfa5ca16da8221d852b51b5b6aead4 = addy37cfa5ca16da8221d852b51b5b
 6aead4 + 'sc&#97;cr' + '&#46;' + '&#111;rg';
				var addy_text37cfa5ca16da8
 221d852b51b5b6aead4 = 's&#101;c-w&#101;st' + '&#64;' + 'sc&#97;cr' + '&#46;
 ' + '&#111;rg';document.getElementById('cloak37cfa5ca16da8221d852b51b5b6aea
 d4').innerHTML += '<a ' + path + '\'' + prefix + ':' + addy37cfa5ca16da8221
 d852b51b5b6aead4 + '\'>'+addy_text37cfa5ca16da8221d852b51b5b6aead4+'';
		 i
 f you would like refreshments.\n This event was imported from: https://www.
 scacr.org/news-events/calendar/1022/surprise-minor-practice?tmpl=component 
 (https://www.scacr.org/news-events/calendar/1022/surprise-minor-practice?tm
 pl=component)
X-ALT-DESC;FMTTYPE=text/html:<p>This is a regular monthly event giving ringers the opportunity to ring&n
 bsp; methods such as Plain courses and touches of Cambridge and Norwich and
  Plain courses of Beverley, London, Carlisle and Pure Treble Bob Hunt!!&nbs
 p; &nbsp;Refreshments are provided.&nbsp; Please contact <span id="cloak37c
 fa5ca16da8221d852b51b5b6aead4">This email address is being protected from s
 pambots. You need JavaScript enabled to view it.</span><script type='text/j
 avascript'>
				document.getElementById('cloak37cfa5ca16da8221d852b51b5b6ae
 ad4').innerHTML = '';
				var prefix = '&#109;a' + 'i&#108;' + '&#116;o';
	
 			var path = 'hr' + 'ef' + '=';
				var addy37cfa5ca16da8221d852b51b5b6aea
 d4 = 's&#101;c-w&#101;st' + '&#64;';
				addy37cfa5ca16da8221d852b51b5b6aea
 d4 = addy37cfa5ca16da8221d852b51b5b6aead4 + 'sc&#97;cr' + '&#46;' + '&#111;
 rg';
				var addy_text37cfa5ca16da8221d852b51b5b6aead4 = 's&#101;c-w&#101;s
 t' + '&#64;' + 'sc&#97;cr' + '&#46;' + '&#111;rg';document.getElementById('
 cloak37cfa5ca16da8221d852b51b5b6aead4').innerHTML += '<a ' + path + '\'' + 
 prefix + ':' + addy37cfa5ca16da8221d852b51b5b6aead4 + '\'>'+addy_text37cfa5
 ca16da8221d852b51b5b6aead4+'<\/a>';
		</script>&nbsp;if you would like refr
 eshments.</p> <a href="https://www.scacr.org/news-events/calendar/1022/surp
 rise-minor-practice?tmpl=component">This event was imported from: https://w
 ww.scacr.org/news-events/calendar/1022/surprise-minor-practice?tmpl=compone
 nt</a>CONTACT:This email address is being protected from spambots. You need JavaScript enabled to view it.
				document.getElementById('cloak31347dee7c1c6e3f167dbffdaa71d511').innerHTML = '';
				var prefix = '&#109;a' + 'i&#108;' + '&#116;o';
				var path = 'hr' + 'ef' + '=';
				var addy31347dee7c1c6e3f167dbffdaa71d511 = 's&#101;c-w&#101;st' + '&#64;';
				addy31347dee7c1c6e3f167dbffdaa71d511 = addy31347dee7c1c6e3f167dbffdaa71d511 + 'sc&#97;cr' + '&#46;' + '&#111;rg';
				var addy_text31347dee7c1c6e3f167dbffdaa71d511 = 's&#101;c-w&#101;st' + '&#64;' + 'sc&#97;cr' + '&#46;' + '&#111;rg';document.getElementById('cloak31347dee7c1c6e3f167dbffdaa71d511').innerHTML += '<a ' + path + '\'' + prefix + ':' + addy31347dee7c1c6e3f167dbffdaa71d511 + '\'>'+addy_text31347dee7c1c6e3f167dbffdaa71d511+'';
		
DTSTAMP:20260420T112807
DTSTART;TZID=Europe/London:20221126T101500
DTEND;TZID=Europe/London:20221126T120000
SEQUENCE:0
TRANSP:OPAQUE
END:VEVENT
END:VCALENDAR